Uber Exif Photo
Make : NIKON CORPORATION
Camera Model Name : NIKON D7100
Software : Adobe Photoshop Lightroom 4.4 (Windows)
Modify Date : 2014:04:12 13:53:33
Exposure Time : 1/500
F Number : 6.3
Exposure Program : Manual
ISO : 640
Sensitivity Type : Recommended Exposure Index
Date/Time Original : 2014:04:06 09:07:28
Create Date : 2014:04:06 09:07:28
Shutter Speed Value : 1/500
Aperture Value : 6.3
Exposure Compensation : 0
Max Aperture Value : 5.5
Metering Mode : Spot
Light Source : Cloudy
Flash : Off, Did not fire
Focal Length : 230.0 mm
Sensing Method : One-chip color area
Scene Type : Directly photographed
CFA Pattern : [Red,Green][Green,Blue]
Custom Rendered : Normal
Exposure Mode : Manual
White Balance : Manual
Digital Zoom Ratio : 1.33
Focal Length In 35mm Format : 460 mm
Scene Capture Type : Landscape
Gain Control : Low gain up
Contrast : Normal
Saturation : Normal
Sharpness : Normal
Subject Distance Range : Unknown
Serial Number : 6116879
Lens Info : 70-300mm f/4.5-5.6
Lens Model : 70.0-300.0 mm f/4.5-5.6
Profile Description : sRGB IEC61966-2.1
Creator Tool : Adobe Photoshop Lightroom 4.4 (Windows)
Lens : 70.0-300.0 mm f/4.5-5.6
Image Number : 2762
Approximate Focus Distance : 5.62
Date Created : 2014:04:06 09:07:28.50
Format : image/jpeg
Version : 7.4
Process Version : 6.7
Color Temperature : 6048
Tint : +3
Luminance Smoothing : 70
Color Noise Reduction : 40
Vignette Amount : 0
Shadow Tint : 0
Red Hue : 0
Red Saturation : 0
Green Hue : 0
Green Saturation : 0
Blue Hue : 0
Blue Saturation : 0
Vibrance : +14
Hue Adjustment Red : 0
Hue Adjustment Orange : 0
Hue Adjustment Yellow : 0
Hue Adjustment Green : 0
Hue Adjustment Aqua : 0
Hue Adjustment Blue : 0
Hue Adjustment Purple : 0
Hue Adjustment Magenta : 0
Saturation Adjustment Red : 0
Saturation Adjustment Orange : 0
Saturation Adjustment Yellow : 0
Saturation Adjustment Green : -100
Saturation Adjustment Aqua : 0
Saturation Adjustment Blue : 0
Saturation Adjustment Purple : 0
Saturation Adjustment Magenta : 0
Luminance Adjustment Red : 0
Luminance Adjustment Orange : 0
Luminance Adjustment Yellow : 0
Luminance Adjustment Green : 0
Luminance Adjustment Aqua : 0
Luminance Adjustment Blue : 0
Luminance Adjustment Purple : 0
Luminance Adjustment Magenta : 0
Split Toning Shadow Hue : 0
Split Toning Shadow Saturation : 0
Split Toning Highlight Hue : 0
Split Toning Highlight Saturation : 0
Split Toning Balance : 0
Parametric Shadows : 0
Parametric Darks : 0
Parametric Lights : 0
Parametric Highlights : 0
Parametric Shadow Split : 25
Parametric Midtone Split : 50
Parametric Highlight Split : 75
Sharpen Radius : +1.2
Sharpen Detail : 40
Sharpen Edge Masking : 50
Post Crop Vignette Amount : 0
Grain Amount : 0
Luminance Noise Reduction Detail : 80
Color Noise Reduction Detail : 50
Luminance Noise Reduction Contrast : 70
Lens Profile Enable : 0
Lens Manual Distortion Amount : 0
Perspective Vertical : 0
Perspective Horizontal : 0
Perspective Rotate : 0.0
Perspective Scale : 100
Auto Lateral CA : 0
Exposure 2012 : +0.36
Contrast 2012 : +10
Highlights 2012 : 0
Shadows 2012 : 0
Whites 2012 : 0
Blacks 2012 : 0
Clarity 2012 : +5
Defringe Purple Amount : 0
Defringe Purple Hue Lo : 30
Defringe Purple Hue Hi : 70
Defringe Green Amount : 0
Defringe Green Hue Lo : 40
Defringe Green Hue Hi : 60
Convert To Grayscale : False
Tone Curve Name 2012 : Linear
Camera Profile : Adobe Standard
Lens Profile Setup : LensDefaults
Has Settings : True
Crop Top : 0.209504
Crop Left : 0.23094
Crop Bottom : 0.845458
Crop Right : 0.866894
Crop Angle : 0
Crop Constrain To Warp : 0
Crop Width : 2000
Crop Height : 1333
Crop Unit : pixels
Has Crop : True
Already Applied : True
Tone Curve PV2012 : 0, 0, 255, 255
Tone Curve PV2012 Red : 0, 0, 255, 255
Tone Curve PV2012 Green : 0, 0, 255, 255
Tone Curve PV2012 Blue : 0, 0, 255, 255
Image Width : 300
Image Height : 200
Bits Per Sample : 8
Color Components : 3
Aperture : 6.3
Image Size : 300x200
Megapixels : 0.060
Scale Factor To 35 mm Equivalent : 2.0
Shutter Speed : 1/500
Create Date : 2014:04:06 09:07:28.50
Date/Time Original : 2014:04:06 09:07:28.50
Circle Of Confusion : 0.015 mm
Depth Of Field : 0.11 m (5.57 - 5.67 m)
Field Of View : 4.5 deg
Focal Length : 230.0 mm (35 mm equivalent: 460.0 mm)
Hyperfocal Distance : 558.93 m
Light Value : 11.6
Lens ID : AF-S VR Zoom-Nikkor 70-300mm f/4.5-5.6G IF-ED