Uber Exif Photo
Make : NIKON CORPORATION
Camera Model Name : NIKON D90
Software : Adobe Photoshop Lightroom 5.0 (Windows)
Modify Date : 2014:05:22 21:18:16
Exposure Time : 1/800
F Number : 8.0
Exposure Program : Manual
ISO : 250
Date/Time Original : 2014:05:18 16:14:43
Create Date : 2014:05:18 16:14:43
Shutter Speed Value : 1/800
Aperture Value : 8.0
Exposure Compensation : 0
Max Aperture Value : 3.1
Metering Mode : Spot
Light Source : Unknown
Flash : No Flash
Focal Length : 60.0 mm
Sensing Method : One-chip color area
Scene Type : Directly photographed
CFA Pattern : [Green,Blue][Red,Green]
Custom Rendered : Normal
Exposure Mode : Manual
White Balance : Manual
Digital Zoom Ratio : 1
Focal Length In 35mm Format : 90 mm
Scene Capture Type : Standard
Gain Control : None
Contrast : Normal
Saturation : Normal
Sharpness : Normal
Subject Distance Range : Unknown
Serial Number : 6011786
Lens Info : 60mm f/2.8
Lens Model : 60.0 mm f/2.8
Profile Description : sRGB IEC61966-2.1
Creator Tool : Adobe Photoshop Lightroom 5.0 (Windows)
Lens : 60.0 mm f/2.8
Image Number : 18207
Approximate Focus Distance : 0.32
Date Created : 2014:05:18 16:14:43.00
Format : image/jpeg
Version : 8.1
Process Version : 6.7
Color Temperature : 5700
Tint : -26
Luminance Smoothing : 21
Color Noise Reduction : 41
Vignette Amount : 0
Shadow Tint : 0
Red Hue : 0
Red Saturation : 0
Green Hue : 0
Green Saturation : 0
Blue Hue : 0
Blue Saturation : 0
Vibrance : 0
Hue Adjustment Red : 0
Hue Adjustment Orange : 0
Hue Adjustment Yellow : 0
Hue Adjustment Green : 0
Hue Adjustment Aqua : 0
Hue Adjustment Blue : 0
Hue Adjustment Purple : 0
Hue Adjustment Magenta : 0
Saturation Adjustment Red : 0
Saturation Adjustment Orange : 0
Saturation Adjustment Yellow : 0
Saturation Adjustment Green : 0
Saturation Adjustment Aqua : 0
Saturation Adjustment Blue : 0
Saturation Adjustment Purple : 0
Saturation Adjustment Magenta : 0
Luminance Adjustment Red : 0
Luminance Adjustment Orange : 0
Luminance Adjustment Yellow : 0
Luminance Adjustment Green : 0
Luminance Adjustment Aqua : 0
Luminance Adjustment Blue : 0
Luminance Adjustment Purple : 0
Luminance Adjustment Magenta : 0
Split Toning Shadow Hue : 62
Split Toning Shadow Saturation : 16
Split Toning Highlight Hue : 48
Split Toning Highlight Saturation : 5
Split Toning Balance : -25
Parametric Shadows : -17
Parametric Darks : -2
Parametric Lights : +6
Parametric Highlights : -2
Parametric Shadow Split : 25
Parametric Midtone Split : 49
Parametric Highlight Split : 74
Sharpen Radius : +1.0
Sharpen Detail : 25
Sharpen Edge Masking : 0
Post Crop Vignette Amount : 0
Grain Amount : 0
Luminance Noise Reduction Detail : 50
Color Noise Reduction Detail : 76
Luminance Noise Reduction Contrast : 45
Lens Profile Enable : 0
Lens Manual Distortion Amount : 0
Perspective Vertical : 0
Perspective Horizontal : 0
Perspective Rotate : 0.0
Perspective Scale : 100
Perspective Aspect : 0
Perspective Upright : Off
Auto Lateral CA : 0
Exposure 2012 : 0.00
Contrast 2012 : +30
Highlights 2012 : 0
Shadows 2012 : 0
Whites 2012 : 0
Blacks 2012 : 0
Clarity 2012 : 0
Defringe Purple Amount : 0
Defringe Purple Hue Lo : 30
Defringe Purple Hue Hi : 70
Defringe Green Amount : 0
Defringe Green Hue Lo : 40
Defringe Green Hue Hi : 60
Convert To Grayscale : False
Tone Curve Name 2012 : Linear
Camera Profile : Adobe Standard
Lens Profile Setup : LensDefaults
Has Settings : True
Crop Top : 0.051338
Crop Left : 0.276615
Crop Bottom : 0.901637
Crop Right : 0.829904
Crop Angle : 0
Crop Constrain To Warp : 0
Has Crop : True
Already Applied : True
Tone Curve PV2012 : 0, 0, 255, 255
Tone Curve PV2012 Red : 0, 0, 255, 255
Tone Curve PV2012 Green : 0, 0, 255, 255
Tone Curve PV2012 Blue : 0, 0, 255, 255
Image Width : 294
Image Height : 300
Bits Per Sample : 8
Color Components : 3
Aperture : 8.0
Image Size : 294x300
Megapixels : 0.088
Scale Factor To 35 mm Equivalent : 1.5
Shutter Speed : 1/800
Create Date : 2014:05:18 16:14:43.00
Date/Time Original : 2014:05:18 16:14:43.00
Circle Of Confusion : 0.020 mm
Depth Of Field : 0.007 m (0.316 - 0.324 m)
Field Of View : 22.6 deg
Focal Length : 60.0 mm (35 mm equivalent: 90.0 mm)
Hyperfocal Distance : 22.47 m
Light Value : 14.3
Lens ID : AF-S Micro Nikkor 60mm f/2.8G ED