Uber Exif Photo
Photometric Interpretation : RGB
Make : NIKON CORPORATION
Camera Model Name : NIKON D80
Orientation : Horizontal (normal)
Samples Per Pixel : 3
Planar Configuration : Chunky
Software : Adobe Photoshop CS6 (Windows)
Modify Date : 2014:06:18 18:07:34
Exposure Time : 1/80
F Number : 5.6
Exposure Program : Manual
ISO : 200
Date/Time Original : 2014:01:18 11:22:07
Create Date : 2014:01:18 11:22:07
Shutter Speed Value : 1/80
Aperture Value : 5.6
Exposure Compensation : 0
Max Aperture Value : 4.9
Subject Distance : 3.98 m
Metering Mode : Multi-segment
Light Source : Fine Weather
Flash : No Flash
Focal Length : 55.0 mm
User Comment : (C)MILTON.MENESES.3158603709
Color Space : sRGB
Exif Image Width : 1200
Exif Image Height : 1800
Sensing Method : One-chip color area
Scene Type : Directly photographed
CFA Pattern : [Green,Blue][Red,Green]
Custom Rendered : Normal
Exposure Mode : Manual
White Balance : Manual
Digital Zoom Ratio : 1
Focal Length In 35mm Format : 82 mm
Scene Capture Type : Standard
Gain Control : None
Contrast : Normal
Saturation : Low
Sharpness : Normal
Subject Distance Range : Unknown
Serial Number : 4520392
Lens Info : 18-125mm f/3.8-5.6
Lens Model : 18.0-125.0 mm f/3.8-5.6
Profile Description : sRGB IEC61966-2.1
Creator Tool : Adobe Photoshop Lightroom 3.6 (Windows)
Lens : 18.0-125.0 mm f/3.8-5.6
Image Number : 35519
Approximate Focus Distance : 3.98
Date Created : 2014:01:18 11:22:07.005
Color Mode : RGB
ICC Profile Name : sRGB IEC61966-2.1
Format : image/jpeg
Version : 6.6
Process Version : 5.7
Color Temperature : 4900
Tint : -1
Exposure : 0.00
Shadows : 5
Brightness : +50
Luminance Smoothing : 0
Color Noise Reduction : 25
Chromatic Aberration R : 0
Chromatic Aberration B : 0
Vignette Amount : 0
Shadow Tint : 0
Red Hue : 0
Red Saturation : 0
Green Hue : 0
Green Saturation : 0
Blue Hue : 0
Blue Saturation : 0
Fill Light : 0
Vibrance : 0
Highlight Recovery : 71
Clarity : 0
Defringe : 0
Hue Adjustment Red : 0
Hue Adjustment Orange : 0
Hue Adjustment Yellow : 0
Hue Adjustment Green : 0
Hue Adjustment Aqua : 0
Hue Adjustment Blue : 0
Hue Adjustment Purple : 0
Hue Adjustment Magenta : 0
Saturation Adjustment Red : 0
Saturation Adjustment Orange : 0
Saturation Adjustment Yellow : 0
Saturation Adjustment Green : 0
Saturation Adjustment Aqua : 0
Saturation Adjustment Blue : 0
Saturation Adjustment Purple : 0
Saturation Adjustment Magenta : 0
Luminance Adjustment Red : 0
Luminance Adjustment Orange : 0
Luminance Adjustment Yellow : 0
Luminance Adjustment Green : 0
Luminance Adjustment Aqua : 0
Luminance Adjustment Blue : 0
Luminance Adjustment Purple : 0
Luminance Adjustment Magenta : 0
Split Toning Shadow Hue : 0
Split Toning Shadow Saturation : 0
Split Toning Highlight Hue : 0
Split Toning Highlight Saturation : 0
Split Toning Balance : 0
Parametric Shadows : 0
Parametric Darks : 0
Parametric Lights : 0
Parametric Highlights : 0
Parametric Shadow Split : 25
Parametric Midtone Split : 50
Parametric Highlight Split : 75
Sharpen Radius : +1.0
Sharpen Detail : 25
Sharpen Edge Masking : 0
Post Crop Vignette Amount : 0
Grain Amount : 0
Color Noise Reduction Detail : 50
Lens Profile Enable : 1
Lens Manual Distortion Amount : 0
Perspective Vertical : 0
Perspective Horizontal : 0
Perspective Rotate : 0.0
Perspective Scale : 100
Convert To Grayscale : False
Tone Curve Name : Medium Contrast
Camera Profile : ACR 4.4
Lens Profile Setup : Custom
Lens Profile Name : Adobe (SIGMA 18-125mm F3.8-5.6 DC OS HSM, NIKON CORPORATION)
Lens Profile Filename : NIKON CORPORATION (Sigma_18-125mm_F3.8-5.6_DC_OS_HSM ) - RAW.lcp
Lens Profile Distortion Scale : 100
Lens Profile Chromatic Aberration Scale : 100
Lens Profile Vignetting Scale : 100
Has Settings : True
Has Crop : False
Already Applied : True
Raw File Name : _DSC5429-Editar.tif
Tone Curve : 0, 0, 32, 22, 64, 56, 128, 128, 192, 196, 255, 255
Image Width : 200
Image Height : 300
Bits Per Sample : 8
Color Components : 3
Aperture : 5.6
Image Size : 200x300
Megapixels : 0.060
Scale Factor To 35 mm Equivalent : 1.5
Shutter Speed : 1/80
Date/Time Original : 2014:01:18 11:22:07.5
Circle Of Confusion : 0.020 mm
Depth Of Field : 1.19 m (3.47 - 4.66 m)
Field Of View : 24.8 deg
Focal Length : 55.0 mm (35 mm equivalent: 82.0 mm)
Hyperfocal Distance : 26.80 m
Light Value : 10.3
Lens ID : Sigma 18-125mm F3.8-5.6 DC OS HSM