Uber Exif Photo
Make : NIKON CORPORATION
Camera Model Name : NIKON D4
Orientation : Horizontal (normal)
Software : Adobe Photoshop CC 2014 (Windows)
Modify Date : 2014:10:10 20:51:29
Exposure Time : 1/125
F Number : 11.0
Exposure Program : Manual
ISO : 800
Sensitivity Type : Recommended Exposure Index
Date/Time Original : 2013:06:16 18:53:31
Create Date : 2013:06:16 18:53:31
Shutter Speed Value : 1/125
Aperture Value : 11.0
Exposure Compensation : 0
Max Aperture Value : 2.8
Metering Mode : Spot
Light Source : Unknown
Flash : On, Return detected
Focal Length : 44.0 mm
Color Space : Uncalibrated
Exif Image Width : 1400
Exif Image Height : 1331
Sensing Method : One-chip color area
Scene Type : Directly photographed
CFA Pattern : [Red,Green][Green,Blue]
Custom Rendered : Normal
Exposure Mode : Manual
White Balance : Auto
Digital Zoom Ratio : 1
Focal Length In 35mm Format : 44 mm
Scene Capture Type : Standard
Gain Control : Low gain up
Contrast : Normal
Saturation : Normal
Sharpness : Normal
Subject Distance Range : Unknown
Serial Number : 2046949
Lens Info : 24-70mm f/2.8
Lens Model : 24.0-70.0 mm f/2.8
Creator Tool : Adobe Photoshop CS6 (Windows)
Rating : 0
Lens : 24.0-70.0 mm f/2.8
Image Number : 23640
Approximate Focus Distance : 2.51
Date Created : 2013:06:16 18:53:31.004
Color Mode : RGB
Format : image/jpeg
Raw File Name : DSC_3638.NEF
Version : 7.1
Process Version : 6.7
Color Temperature : 3000
Tint : -14
Luminance Smoothing : 33
Color Noise Reduction : 25
Vignette Amount : 0
Shadow Tint : 0
Red Hue : 0
Red Saturation : 0
Green Hue : 0
Green Saturation : 0
Blue Hue : 0
Blue Saturation : 0
Gray Mixer Red : 0
Gray Mixer Orange : -18
Gray Mixer Yellow : -22
Gray Mixer Green : -26
Gray Mixer Aqua : -16
Gray Mixer Blue : +16
Gray Mixer Purple : +20
Gray Mixer Magenta : +7
Split Toning Shadow Hue : 0
Split Toning Shadow Saturation : 0
Split Toning Highlight Hue : 0
Split Toning Highlight Saturation : 0
Split Toning Balance : 0
Parametric Shadows : +38
Parametric Darks : +39
Parametric Lights : +41
Parametric Highlights : +3
Parametric Shadow Split : 25
Parametric Midtone Split : 50
Parametric Highlight Split : 75
Sharpen Radius : +1.8
Sharpen Detail : 51
Sharpen Edge Masking : 38
Post Crop Vignette Amount : 0
Grain Amount : 0
Luminance Noise Reduction Detail : 9
Color Noise Reduction Detail : 50
Luminance Noise Reduction Contrast : 0
Lens Profile Enable : 0
Lens Manual Distortion Amount : +39
Perspective Vertical : 0
Perspective Horizontal : 0
Perspective Rotate : +0.9
Perspective Scale : 100
Auto Lateral CA : 1
Exposure 2012 : -0.95
Contrast 2012 : +21
Highlights 2012 : +38
Shadows 2012 : -5
Whites 2012 : 0
Blacks 2012 : -13
Clarity 2012 : +10
Convert To Grayscale : True
Tone Curve Name 2012 : Linear
Camera Profile : Adobe Standard
Lens Profile Setup : LensDefaults
Lens Profile Name : Adobe (Nikon AF-S NIKKOR 24-70mm f/2.8G ED)
Lens Profile Filename : NIKON D3X (Nikon FX 24-70mm f2.8 G ED) - RAW.lcp
Lens Profile Distortion Scale : 100
Lens Profile Chromatic Aberration Scale : 100
Lens Profile Vignetting Scale : 100
Has Settings : True
Has Crop : False
Already Applied : True
Tone Curve PV2012 : 0, 0, 255, 255
Tone Curve PV2012 Red : 0, 0, 255, 255
Tone Curve PV2012 Green : 0, 0, 255, 255
Tone Curve PV2012 Blue : 0, 0, 255, 255
Image Width : 300
Image Height : 285
Bits Per Sample : 8
Color Components : 3
Aperture : 11.0
Image Size : 300x285
Megapixels : 0.086
Scale Factor To 35 mm Equivalent : 1.0
Shutter Speed : 1/125
Create Date : 2013:06:16 18:53:31.40
Date/Time Original : 2013:06:16 18:53:31.40
Modify Date : 2014:10:10 20:51:29.40
Circle Of Confusion : 0.030 mm
Depth Of Field : 2.57 m (1.77 - 4.33 m)
Field Of View : 44.5 deg
Focal Length : 44.0 mm (35 mm equivalent: 44.0 mm)
Hyperfocal Distance : 5.86 m
Light Value : 10.9
Lens ID : AF-S Zoom-Nikkor 24-70mm f/2.8G ED