Uber Exif Photo
Keywords : Rat Pack
By-line : Copyright_AlanEJones_2013
Copyright Notice : Copyright_Alan_E_Jones_2013
Make : NIKON CORPORATION
Camera Model Name : NIKON D300
Software : Adobe Photoshop Lightroom 4.4 (Windows)
Modify Date : 2014:10:11 17:44:46
Artist : Copyright_AlanEJones_2013
Copyright : Copyright_Alan_E_Jones_2013
Exposure Time : 1/320
F Number : 2.8
Exposure Program : Manual
ISO : 400
Date/Time Original : 2013:10:12 16:43:46
Create Date : 2013:10:12 16:43:46
Shutter Speed Value : 1/320
Aperture Value : 2.8
Exposure Compensation : 0
Max Aperture Value : 2.8
Metering Mode : Multi-segment
Light Source : Unknown
Flash : No Flash
Focal Length : 200.0 mm
User Comment : Copyright 2008 Alan E Jones
Sensing Method : One-chip color area
Scene Type : Directly photographed
CFA Pattern : [Red,Green][Green,Blue]
Custom Rendered : Normal
Exposure Mode : Manual
White Balance : Auto
Digital Zoom Ratio : 1
Focal Length In 35mm Format : 300 mm
Scene Capture Type : Standard
Gain Control : Low gain up
Contrast : Normal
Saturation : Normal
Sharpness : Normal
Subject Distance Range : Unknown
Serial Number : 8009146
Lens Info : 70-200mm f/2.8
Lens Model : 70.0-200.0 mm f/2.8
Format : image/jpeg
Creator Tool : Adobe Photoshop Lightroom 4.4 (Windows)
Lens : 70.0-200.0 mm f/2.8
Image Number : 16222
Approximate Focus Distance : 10
Date Created : 2013:10:12 16:43:46.51
Version : 7.4
Process Version : 6.7
Color Temperature : 5200
Tint : -10
Luminance Smoothing : 0
Color Noise Reduction : 25
Vignette Amount : 0
Shadow Tint : 0
Red Hue : 0
Red Saturation : 0
Green Hue : 0
Green Saturation : 0
Blue Hue : 0
Blue Saturation : 0
Gray Mixer Red : -62
Gray Mixer Orange : -20
Gray Mixer Yellow : -24
Gray Mixer Green : -27
Gray Mixer Aqua : -16
Gray Mixer Blue : -42
Gray Mixer Purple : +17
Gray Mixer Magenta : +3
Split Toning Shadow Hue : 0
Split Toning Shadow Saturation : 0
Split Toning Highlight Hue : 0
Split Toning Highlight Saturation : 0
Split Toning Balance : 0
Parametric Shadows : 0
Parametric Darks : 0
Parametric Lights : 0
Parametric Highlights : 0
Parametric Shadow Split : 25
Parametric Midtone Split : 50
Parametric Highlight Split : 75
Sharpen Radius : +1.0
Sharpen Detail : 25
Sharpen Edge Masking : 0
Post Crop Vignette Amount : 0
Grain Amount : 0
Color Noise Reduction Detail : 50
Lens Profile Enable : 0
Lens Manual Distortion Amount : 0
Perspective Vertical : 0
Perspective Horizontal : 0
Perspective Rotate : 0.0
Perspective Scale : 100
Auto Lateral CA : 0
Exposure 2012 : +0.63
Contrast 2012 : +15
Highlights 2012 : 0
Shadows 2012 : 0
Whites 2012 : 0
Blacks 2012 : 0
Clarity 2012 : +22
Convert To Grayscale : True
Tone Curve Name 2012 : Linear
Camera Profile : Adobe Standard
Lens Profile Setup : LensDefaults
Has Settings : True
Crop Top : 0.169369
Crop Left : 0
Crop Bottom : 1
Crop Right : 0.870813
Crop Angle : 0
Crop Constrain To Warp : 0
Crop Width : 3734
Crop Height : 2366
Crop Unit : pixels
Has Crop : True
Already Applied : True
Creator : Copyright_AlanEJones_2013
Rights : Copyright_Alan_E_Jones_2013
Subject : Rat Pack
Tone Curve PV2012 : 0, 0, 255, 255
Tone Curve PV2012 Red : 0, 0, 255, 255
Tone Curve PV2012 Green : 0, 0, 255, 255
Tone Curve PV2012 Blue : 0, 0, 255, 255
Image Width : 190
Image Height : 300
Bits Per Sample : 8
Color Components : 1
Aperture : 2.8
Image Size : 190x300
Megapixels : 0.057
Scale Factor To 35 mm Equivalent : 1.5
Shutter Speed : 1/320
Create Date : 2013:10:12 16:43:46.51
Date/Time Original : 2013:10:12 16:43:46.51
Circle Of Confusion : 0.020 mm
Depth Of Field : 0.27 m (9.86 - 10.14 m)
Field Of View : 6.9 deg
Focal Length : 200.0 mm (35 mm equivalent: 300.0 mm)
Hyperfocal Distance : 713.19 m
Light Value : 9.3
Lens ID : AF-S VR Zoom-Nikkor 70-200mm f/2.8G IF-ED