Uber Exif Photo
By-line : Copyright_AlanEJones_2014
Copyright Notice : Copyright_Alan_E_Jones_2014
Make : NIKON CORPORATION
Camera Model Name : NIKON D300
Software : Adobe Photoshop Lightroom 4.4 (Windows)
Modify Date : 2014:10:11 19:19:46
Artist : Copyright_AlanEJones_2014
Copyright : Copyright_Alan_E_Jones_2014
Exposure Time : 1/320
F Number : 2.8
Exposure Program : Aperture-priority AE
ISO : 320
Date/Time Original : 2014:06:21 18:13:45
Create Date : 2014:06:21 18:13:45
Shutter Speed Value : 1/320
Aperture Value : 2.8
Exposure Compensation : 0
Max Aperture Value : 2.8
Metering Mode : Spot
Light Source : Unknown
Flash : No Flash
Focal Length : 190.0 mm
User Comment : Copyright 2008 Alan E Jones
Sensing Method : One-chip color area
Scene Type : Directly photographed
CFA Pattern : [Red,Green][Green,Blue]
Custom Rendered : Normal
Exposure Mode : Auto
White Balance : Auto
Digital Zoom Ratio : 1
Focal Length In 35mm Format : 285 mm
Scene Capture Type : Standard
Gain Control : None
Contrast : Normal
Saturation : High
Sharpness : Normal
Subject Distance Range : Unknown
Serial Number : 8009146
Lens Info : 70-200mm f/2.8
Lens Model : 70.0-200.0 mm f/2.8
Profile Description : sRGB IEC61966-2.1
Format : image/jpeg
Creator Tool : Adobe Photoshop Lightroom 4.4 (Windows)
Lens : 70.0-200.0 mm f/2.8
Image Number : 18300
Approximate Focus Distance : 5.96
Date Created : 2014:06:21 18:13:45.79
Version : 7.4
Process Version : 6.7
Color Temperature : 5900
Tint : -13
Luminance Smoothing : 0
Color Noise Reduction : 25
Vignette Amount : 0
Shadow Tint : 0
Red Hue : 0
Red Saturation : 0
Green Hue : 0
Green Saturation : 0
Blue Hue : 0
Blue Saturation : 0
Vibrance : 0
Hue Adjustment Red : 0
Hue Adjustment Orange : 0
Hue Adjustment Yellow : 0
Hue Adjustment Green : 0
Hue Adjustment Aqua : 0
Hue Adjustment Blue : 0
Hue Adjustment Purple : 0
Hue Adjustment Magenta : 0
Saturation Adjustment Red : 0
Saturation Adjustment Orange : 0
Saturation Adjustment Yellow : 0
Saturation Adjustment Green : 0
Saturation Adjustment Aqua : 0
Saturation Adjustment Blue : 0
Saturation Adjustment Purple : 0
Saturation Adjustment Magenta : 0
Luminance Adjustment Red : 0
Luminance Adjustment Orange : 0
Luminance Adjustment Yellow : 0
Luminance Adjustment Green : 0
Luminance Adjustment Aqua : 0
Luminance Adjustment Blue : 0
Luminance Adjustment Purple : 0
Luminance Adjustment Magenta : 0
Split Toning Shadow Hue : 0
Split Toning Shadow Saturation : 0
Split Toning Highlight Hue : 0
Split Toning Highlight Saturation : 0
Split Toning Balance : 0
Parametric Shadows : 0
Parametric Darks : 0
Parametric Lights : 0
Parametric Highlights : 0
Parametric Shadow Split : 25
Parametric Midtone Split : 50
Parametric Highlight Split : 75
Sharpen Radius : +1.0
Sharpen Detail : 25
Sharpen Edge Masking : 0
Post Crop Vignette Amount : 0
Grain Amount : 0
Color Noise Reduction Detail : 50
Lens Profile Enable : 0
Lens Manual Distortion Amount : 0
Perspective Vertical : 0
Perspective Horizontal : 0
Perspective Rotate : 0.0
Perspective Scale : 100
Auto Lateral CA : 0
Exposure 2012 : 0.00
Contrast 2012 : 0
Highlights 2012 : 0
Shadows 2012 : 0
Whites 2012 : 0
Blacks 2012 : 0
Clarity 2012 : +11
Defringe Purple Amount : 0
Defringe Purple Hue Lo : 30
Defringe Purple Hue Hi : 70
Defringe Green Amount : 0
Defringe Green Hue Lo : 40
Defringe Green Hue Hi : 60
Convert To Grayscale : False
Tone Curve Name 2012 : Linear
Camera Profile : Camera Vivid
Lens Profile Setup : LensDefaults
Has Settings : True
Crop Top : 0
Crop Left : 0.101665
Crop Bottom : 1
Crop Right : 0.761613
Crop Angle : 0
Crop Constrain To Warp : 0
Crop Width : 2830
Crop Height : 2848
Crop Unit : pixels
Has Crop : True
Already Applied : True
Creator : Copyright_AlanEJones_2014
Rights : Copyright_Alan_E_Jones_2014
Tone Curve PV2012 : 0, 0, 255, 255
Tone Curve PV2012 Red : 0, 0, 255, 255
Tone Curve PV2012 Green : 0, 0, 255, 255
Tone Curve PV2012 Blue : 0, 0, 255, 255
Image Width : 298
Image Height : 300
Bits Per Sample : 8
Color Components : 3
Aperture : 2.8
Image Size : 298x300
Megapixels : 0.089
Scale Factor To 35 mm Equivalent : 1.5
Shutter Speed : 1/320
Create Date : 2014:06:21 18:13:45.79
Date/Time Original : 2014:06:21 18:13:45.79
Circle Of Confusion : 0.020 mm
Depth Of Field : 0.11 m (5.91 - 6.01 m)
Field Of View : 7.2 deg
Focal Length : 190.0 mm (35 mm equivalent: 285.0 mm)
Hyperfocal Distance : 643.65 m
Light Value : 9.6
Lens ID : AF-S VR Zoom-Nikkor 70-200mm f/2.8G IF-ED