Uber Exif Photo
Copyright Notice : Steven Johnides Photography
Orientation : Horizontal (normal)
Software : Adobe Photoshop Lightroom 6.0 (Macintosh)
Modify Date : 2015:04:28 11:10:25
Copyright : Steven Johnides Photography
Color Space : sRGB
Exif Image Width : 3000
Exif Image Height : 4724
Profile Description : sRGB IEC61966-2.1
Luminance Adjustment Green : 0
Hue Adjustment Green : 0
Saturation Adjustment Yellow : 0
Parametric Darks : 0
Perspective Scale : 100
Clarity 2012 : +7
Hue Adjustment Magenta : 0
Color Noise Reduction : 0
Perspective Upright : Off
Has Crop : False
Hue Adjustment Aqua : 0
Red Saturation : 0
Parametric Shadows : 0
Hue Adjustment Orange : 0
White Balance : As Shot
Hue Adjustment Yellow : 0
Split Toning Shadow Saturation : 0
Lens Manual Distortion Amount : 0
Tone Curve Name : Linear
Luminance Noise Reduction Contrast : 0
Shadows 2012 : 0
Hue Adjustment Blue : 0
Luminance Adjustment Magenta : 0
Convert To Grayscale : False
Blacks 2012 : -34
Luminance Smoothing : 100
Tone Curve Name 2012 : Linear
Highlights 2012 : 0
Luminance Adjustment Yellow : 0
Incremental Tint : 0
Parametric Midtone Split : 50
Perspective Aspect : 0
Shadow Tint : 0
Hue Adjustment Red : 0
Split Toning Highlight Saturation : 0
Split Toning Shadow Hue : 0
Has Settings : True
Lens Profile Setup : LensDefaults
Defringe Purple Hue Hi : 70
Saturation Adjustment Orange : 0
Defringe Purple Hue Lo : 30
Post Crop Vignette Amount : 0
Split Toning Balance : 0
Lens Profile Enable : 1
Vignette Amount : 0
Perspective Rotate : 0.0
Process Version : 6.7
Saturation Adjustment Purple : 0
Parametric Highlights : 0
Vibrance : 0
Saturation Adjustment Green : 0
Raw File Name : untitled-1-Edit.jpg
Parametric Shadow Split : 25
Luminance Adjustment Purple : 0
Luminance Adjustment Orange : 0
Green Hue : 0
Perspective Vertical : 0
Green Saturation : 0
Sharpness : 101
Blue Saturation : 0
Perspective Horizontal : 0
Sharpen Detail : 25
Luminance Noise Reduction Detail : 50
Blue Hue : 0
Luminance Adjustment Aqua : 0
Parametric Highlight Split : 75
Auto Lateral CA : 0
Incremental Temperature : 0
Red Hue : 0
Split Toning Highlight Hue : 0
Camera Profile : Embedded
Saturation Adjustment Red : 0
Saturation Adjustment Aqua : 0
Defringe Purple Amount : 0
Parametric Lights : 0
Sharpen Radius : +1.0
Luminance Adjustment Blue : 0
Luminance Adjustment Red : 0
Saturation : 0
Hue Adjustment Purple : 0
Auto White Version : 134348800
Saturation Adjustment Blue : 0
Contrast 2012 : 0
Already Applied : True
Defringe Green Hue Hi : 60
Grain Amount : 0
Version : 9.0
Defringe Green Amount : 0
Whites 2012 : 0
Defringe Green Hue Lo : 40
Sharpen Edge Masking : 0
Exposure 2012 : 0.00
Saturation Adjustment Magenta : 0
Creator Tool : Adobe Photoshop Lightroom 6.0 (Macintosh)
Rating : 5
Marked : True
Format : image/jpeg
Tone Curve PV2012 Red : 0, 0, 255, 255
Tone Curve PV2012 Green : 0, 0, 255, 255
Tone Curve PV2012 : 0, 0, 255, 255
Tone Curve Green : 0, 0, 255, 255
Tone Curve Red : 0, 0, 255, 255
Tone Curve Blue : 0, 0, 255, 255
Tone Curve : 0, 0, 255, 255
Tone Curve PV2012 Blue : 0, 0, 255, 255
Creator Region : CA
Creator Country : USA
Creator Work Email : sjphoto@sjphoto.net
Rights : Steven Johnides Photography
Image Width : 191
Image Height : 300
Bits Per Sample : 8
Color Components : 3
Image Size : 191x300
Megapixels : 0.057