Uber Exif Photo
Sub-location : Olivares
Province-State : Sonora
Country-Primary Location Name : México
Make : Apple
Camera Model Name : iPhone 6
Software : Adobe Photoshop Lightroom 5.4 (Macintosh)
Modify Date : 2015:05:14 14:29:18
Exposure Time : 1/640
F Number : 2.2
Exposure Program : Program AE
ISO : 32
Date/Time Original : 2015:05:14 13:20:54
Create Date : 2015:05:14 13:20:54
Shutter Speed Value : 1/640
Aperture Value : 2.2
Brightness Value : 9.243503369
Exposure Compensation : 0
Metering Mode : Multi-segment
Flash : Off, Did not fire
Focal Length : 4.2 mm
Color Space : sRGB
Sensing Method : One-chip color area
Scene Type : Directly photographed
Exposure Mode : Auto
White Balance : Auto
Focal Length In 35mm Format : 29 mm
Scene Capture Type : Standard
Lens Info : 4.15mm f/2.2
Lens Make : Apple
Lens Model : iPhone 6 back camera 4.15mm f/2.2
GPS Latitude Ref : North
GPS Longitude Ref : West
GPS Altitude Ref : Above Sea Level
GPS Time Stamp : 20:20:54.06
GPS Speed Ref : km/h
GPS Speed : 0
GPS Img Direction Ref : True North
GPS Img Direction : 97.5320197
GPS Dest Bearing Ref : True North
GPS Dest Bearing : 277.5320197
GPS Date Stamp : 2015:05:14
Profile Description : sRGB IEC61966-2.1
Creator Tool : Adobe Photoshop Lightroom 5.4 (Macintosh)
Lens : iPhone 6 back camera 4.15mm f/2.2
Date Created : 2015:05:14 13:20:54.304
City : Hermosillo
State : Sonora
Country : México
Format : image/jpeg
Location : Olivares
Version : 8.4
Process Version : 6.7
Auto White Version : 134348800
Incremental Temperature : 0
Incremental Tint : 0
Saturation : +38
Sharpness : 64
Luminance Smoothing : 89
Color Noise Reduction : 67
Vignette Amount : 0
Shadow Tint : 0
Red Hue : 0
Red Saturation : 0
Green Hue : 0
Green Saturation : 0
Blue Hue : 0
Blue Saturation : 0
Vibrance : -38
Hue Adjustment Red : -34
Hue Adjustment Orange : +23
Hue Adjustment Yellow : -11
Hue Adjustment Green : 0
Hue Adjustment Aqua : 0
Hue Adjustment Blue : 0
Hue Adjustment Purple : 0
Hue Adjustment Magenta : 0
Saturation Adjustment Red : 0
Saturation Adjustment Orange : 0
Saturation Adjustment Yellow : +2
Saturation Adjustment Green : 0
Saturation Adjustment Aqua : 0
Saturation Adjustment Blue : 0
Saturation Adjustment Purple : 0
Saturation Adjustment Magenta : 0
Luminance Adjustment Red : -18
Luminance Adjustment Orange : 0
Luminance Adjustment Yellow : -69
Luminance Adjustment Green : 0
Luminance Adjustment Aqua : 0
Luminance Adjustment Blue : 0
Luminance Adjustment Purple : 0
Luminance Adjustment Magenta : 0
Split Toning Shadow Hue : 0
Split Toning Shadow Saturation : 0
Split Toning Highlight Hue : 0
Split Toning Highlight Saturation : 0
Split Toning Balance : 0
Parametric Shadows : +63
Parametric Darks : -38
Parametric Lights : +2
Parametric Highlights : +12
Parametric Shadow Split : 25
Parametric Midtone Split : 50
Parametric Highlight Split : 75
Sharpen Radius : +1.5
Sharpen Detail : 25
Sharpen Edge Masking : 47
Post Crop Vignette Amount : 0
Grain Amount : 0
Luminance Noise Reduction Detail : 71
Color Noise Reduction Detail : 50
Luminance Noise Reduction Contrast : 100
Color Noise Reduction Smoothness : 50
Lens Profile Enable : 1
Lens Manual Distortion Amount : 0
Perspective Vertical : 0
Perspective Horizontal : 0
Perspective Rotate : 0.0
Perspective Scale : 100
Perspective Aspect : 0
Perspective Upright : Off
Auto Lateral CA : 1
Exposure 2012 : 0.00
Contrast 2012 : 0
Highlights 2012 : -99
Shadows 2012 : -90
Whites 2012 : +23
Blacks 2012 : -79
Clarity 2012 : +15
Defringe Purple Amount : 0
Defringe Purple Hue Lo : 30
Defringe Purple Hue Hi : 70
Defringe Green Amount : 0
Defringe Green Hue Lo : 40
Defringe Green Hue Hi : 60
Convert To Grayscale : False
Tone Curve Name : Linear
Tone Curve Name 2012 : Linear
Camera Profile : Embedded
Lens Profile Setup : LensDefaults
Has Settings : True
Has Crop : False
Already Applied : True
Tone Curve : 0, 0, 255, 255
Tone Curve Red : 0, 0, 255, 255
Tone Curve Green : 0, 0, 255, 255
Tone Curve Blue : 0, 0, 255, 255
Tone Curve PV2012 : 0, 0, 255, 255
Tone Curve PV2012 Red : 0, 0, 255, 255
Tone Curve PV2012 Green : 0, 0, 255, 255
Tone Curve PV2012 Blue : 0, 0, 255, 255
Image Width : 225
Image Height : 300
Bits Per Sample : 8
Color Components : 3
Aperture : 2.2
Image Size : 225x300
Megapixels : 0.068
Scale Factor To 35 mm Equivalent : 7.0
Shutter Speed : 1/640
Create Date : 2015:05:14 13:20:54.304
Date/Time Original : 2015:05:14 13:20:54.304
GPS Altitude : 201.9 m Above Sea Level
GPS Date/Time : 2015:05:14 20:20:54.06Z
GPS Latitude : 29 deg 5' 36.16" N
GPS Longitude : 110 deg 58' 35.02" W
Circle Of Confusion : 0.004 mm
Field Of View : 63.7 deg
Focal Length : 4.2 mm (35 mm equivalent: 29.0 mm)
GPS Position : 29 deg 5' 36.16" N, 110 deg 58' 35.02" W
Hyperfocal Distance : 1.82 m
Light Value : 13.2
Lens ID : iPhone 6 back camera 4.15mm f/2.2