Uber Exif Photo
Sub-location : Villa Satélite
Province-State : Sonora
Country-Primary Location Name : México
Make : Apple
Camera Model Name : iPhone 6
Software : Adobe Photoshop Lightroom 5.4 (Macintosh)
Modify Date : 2015:05:14 13:52:07
Exposure Time : 1/60
F Number : 2.2
Exposure Program : Program AE
ISO : 32
Date/Time Original : 2015:05:12 15:06:43
Create Date : 2015:05:12 15:06:43
Shutter Speed Value : 1/60
Aperture Value : 2.2
Brightness Value : 5.265265265
Exposure Compensation : 0
Metering Mode : Spot
Flash : Off, Did not fire
Focal Length : 4.2 mm
Subject Area : 1639 1082 610 612
Color Space : sRGB
Sensing Method : One-chip color area
Scene Type : Directly photographed
Exposure Mode : Auto
White Balance : Auto
Focal Length In 35mm Format : 29 mm
Scene Capture Type : Standard
Subject Distance Range : Unknown
Lens Info : 4.15mm f/2.2
Lens Make : Apple
Lens Model : iPhone 6 back camera 4.15mm f/2.2
GPS Version ID : 2.2.0.0
GPS Latitude Ref : North
GPS Longitude Ref : West
GPS Dest Bearing Ref : True North
GPS Dest Bearing : 348.39
Profile Description : sRGB IEC61966-2.1
Creator Tool : Adobe Photoshop Lightroom 5.4 (Macintosh)
Lens : iPhone 6 back camera 4.15mm f/2.2
Date Created : 2015:05:12 15:06:43
City : Hermosillo
State : Sonora
Country : México
Format : image/jpeg
Location : Villa Satélite
Version : 8.4
Process Version : 6.7
Auto White Version : 134348800
Incremental Temperature : 0
Incremental Tint : 0
Saturation : +5
Sharpness : 150
Luminance Smoothing : 92
Color Noise Reduction : 41
Vignette Amount : 0
Shadow Tint : 0
Red Hue : 0
Red Saturation : 0
Green Hue : 0
Green Saturation : 0
Blue Hue : 0
Blue Saturation : 0
Vibrance : -33
Hue Adjustment Red : +3
Hue Adjustment Orange : 0
Hue Adjustment Yellow : 0
Hue Adjustment Green : 0
Hue Adjustment Aqua : 0
Hue Adjustment Blue : 0
Hue Adjustment Purple : 0
Hue Adjustment Magenta : 0
Saturation Adjustment Red : +12
Saturation Adjustment Orange : 0
Saturation Adjustment Yellow : 0
Saturation Adjustment Green : -20
Saturation Adjustment Aqua : 0
Saturation Adjustment Blue : 0
Saturation Adjustment Purple : 0
Saturation Adjustment Magenta : 0
Luminance Adjustment Red : +8
Luminance Adjustment Orange : 0
Luminance Adjustment Yellow : 0
Luminance Adjustment Green : -46
Luminance Adjustment Aqua : 0
Luminance Adjustment Blue : 0
Luminance Adjustment Purple : 0
Luminance Adjustment Magenta : 0
Split Toning Shadow Hue : 0
Split Toning Shadow Saturation : 0
Split Toning Highlight Hue : 0
Split Toning Highlight Saturation : 0
Split Toning Balance : 0
Parametric Shadows : 0
Parametric Darks : 0
Parametric Lights : 0
Parametric Highlights : 0
Parametric Shadow Split : 25
Parametric Midtone Split : 50
Parametric Highlight Split : 75
Sharpen Radius : +2.0
Sharpen Detail : 0
Sharpen Edge Masking : 64
Post Crop Vignette Amount : 0
Grain Amount : 0
Luminance Noise Reduction Detail : 72
Color Noise Reduction Detail : 64
Luminance Noise Reduction Contrast : 47
Color Noise Reduction Smoothness : 50
Lens Profile Enable : 1
Lens Manual Distortion Amount : 0
Perspective Vertical : 0
Perspective Horizontal : 0
Perspective Rotate : 0.0
Perspective Scale : 100
Perspective Aspect : 0
Perspective Upright : Off
Auto Lateral CA : 1
Exposure 2012 : 0.00
Contrast 2012 : 0
Highlights 2012 : -100
Shadows 2012 : -85
Whites 2012 : 0
Blacks 2012 : -83
Clarity 2012 : +78
Defringe Purple Amount : 0
Defringe Purple Hue Lo : 30
Defringe Purple Hue Hi : 70
Defringe Green Amount : 0
Defringe Green Hue Lo : 40
Defringe Green Hue Hi : 60
Convert To Grayscale : False
Tone Curve Name : Linear
Tone Curve Name 2012 : Linear
Camera Profile : Embedded
Lens Profile Setup : LensDefaults
Has Settings : True
Has Crop : False
Already Applied : True
Tone Curve : 0, 0, 255, 255
Tone Curve Red : 0, 0, 255, 255
Tone Curve Green : 0, 0, 255, 255
Tone Curve Blue : 0, 0, 255, 255
Tone Curve PV2012 : 0, 0, 255, 255
Tone Curve PV2012 Red : 0, 0, 255, 255
Tone Curve PV2012 Green : 0, 0, 255, 255
Tone Curve PV2012 Blue : 0, 0, 255, 255
Image Width : 225
Image Height : 300
Bits Per Sample : 8
Color Components : 3
Aperture : 2.2
Image Size : 225x300
Megapixels : 0.068
Scale Factor To 35 mm Equivalent : 7.0
Shutter Speed : 1/60
GPS Latitude : 29 deg 5' 33.59" N
GPS Longitude : 110 deg 58' 46.25" W
Circle Of Confusion : 0.004 mm
Field Of View : 63.7 deg
Focal Length : 4.2 mm (35 mm equivalent: 29.0 mm)
GPS Position : 29 deg 5' 33.59" N, 110 deg 58' 46.25" W
Hyperfocal Distance : 1.82 m
Light Value : 9.8
Lens ID : iPhone 6 back camera 4.15mm f/2.2