Uber Exif Photo
Sub-location : Los Portales
Province-State : Sonora
Country-Primary Location Name : México
Make : Apple
Camera Model Name : iPhone 6
Software : Adobe Photoshop Lightroom 5.4 (Macintosh)
Modify Date : 2015:05:14 11:03:51
Exposure Time : 1/160
F Number : 2.2
Exposure Program : Program AE
ISO : 32
Date/Time Original : 2015:05:14 09:08:56
Create Date : 2015:05:14 09:08:56
Shutter Speed Value : 1/160
Aperture Value : 2.2
Brightness Value : 6.976448422
Exposure Compensation : 0
Metering Mode : Multi-segment
Flash : Auto, Did not fire
Focal Length : 4.2 mm
Subject Area : 1631 1223 1795 1077
Color Space : sRGB
Sensing Method : One-chip color area
Scene Type : Directly photographed
Exposure Mode : Auto
White Balance : Auto
Focal Length In 35mm Format : 29 mm
Scene Capture Type : Standard
Lens Info : 4.15mm f/2.2
Lens Make : Apple
Lens Model : iPhone 6 back camera 4.15mm f/2.2
GPS Latitude Ref : North
GPS Longitude Ref : West
GPS Altitude Ref : Above Sea Level
GPS Time Stamp : 16:08:56.06
GPS Speed Ref : km/h
GPS Speed : 0
GPS Img Direction Ref : True North
GPS Img Direction : 231.643617
GPS Dest Bearing Ref : True North
GPS Dest Bearing : 51.64362851
GPS Date Stamp : 2015:05:14
Profile Description : sRGB IEC61966-2.1
Creator Tool : Adobe Photoshop Lightroom 5.4 (Macintosh)
Lens : iPhone 6 back camera 4.15mm f/2.2
Date Created : 2015:05:14 09:08:56.947
City : Hermosillo
State : Sonora
Country : México
Format : image/jpeg
Location : Los Portales
Version : 8.4
Process Version : 6.7
Auto White Version : 134348800
Incremental Temperature : +5
Incremental Tint : 0
Saturation : 0
Sharpness : 56
Luminance Smoothing : 50
Color Noise Reduction : 0
Vignette Amount : 0
Shadow Tint : 0
Red Hue : 0
Red Saturation : 0
Green Hue : 0
Green Saturation : 0
Blue Hue : 0
Blue Saturation : 0
Vibrance : +55
Hue Adjustment Red : 0
Hue Adjustment Orange : -18
Hue Adjustment Yellow : 0
Hue Adjustment Green : 0
Hue Adjustment Aqua : 0
Hue Adjustment Blue : 0
Hue Adjustment Purple : 0
Hue Adjustment Magenta : 0
Saturation Adjustment Red : 0
Saturation Adjustment Orange : +4
Saturation Adjustment Yellow : 0
Saturation Adjustment Green : 0
Saturation Adjustment Aqua : 0
Saturation Adjustment Blue : -100
Saturation Adjustment Purple : 0
Saturation Adjustment Magenta : 0
Luminance Adjustment Red : 0
Luminance Adjustment Orange : +5
Luminance Adjustment Yellow : 0
Luminance Adjustment Green : 0
Luminance Adjustment Aqua : 0
Luminance Adjustment Blue : -61
Luminance Adjustment Purple : 0
Luminance Adjustment Magenta : 0
Split Toning Shadow Hue : 0
Split Toning Shadow Saturation : 7
Split Toning Highlight Hue : 0
Split Toning Highlight Saturation : 13
Split Toning Balance : +39
Parametric Shadows : 0
Parametric Darks : -13
Parametric Lights : 0
Parametric Highlights : 0
Parametric Shadow Split : 25
Parametric Midtone Split : 50
Parametric Highlight Split : 75
Sharpen Radius : +1.2
Sharpen Detail : 51
Sharpen Edge Masking : 66
Post Crop Vignette Amount : 0
Grain Amount : 0
Luminance Noise Reduction Detail : 56
Luminance Noise Reduction Contrast : 52
Lens Profile Enable : 1
Lens Manual Distortion Amount : 0
Perspective Vertical : 0
Perspective Horizontal : 0
Perspective Rotate : 0.0
Perspective Scale : 100
Perspective Aspect : 0
Perspective Upright : Off
Auto Lateral CA : 1
Exposure 2012 : 0.00
Contrast 2012 : 0
Highlights 2012 : 0
Shadows 2012 : -71
Whites 2012 : 0
Blacks 2012 : -39
Clarity 2012 : 0
Defringe Purple Amount : 0
Defringe Purple Hue Lo : 30
Defringe Purple Hue Hi : 70
Defringe Green Amount : 0
Defringe Green Hue Lo : 40
Defringe Green Hue Hi : 60
Convert To Grayscale : False
Tone Curve Name : Linear
Tone Curve Name 2012 : Linear
Camera Profile : Embedded
Lens Profile Setup : LensDefaults
Has Settings : True
Has Crop : False
Already Applied : True
Tone Curve : 0, 0, 255, 255
Tone Curve Red : 0, 0, 255, 255
Tone Curve Green : 0, 0, 255, 255
Tone Curve Blue : 0, 0, 255, 255
Tone Curve PV2012 : 0, 0, 255, 255
Tone Curve PV2012 Red : 0, 0, 255, 255
Tone Curve PV2012 Green : 0, 0, 255, 255
Tone Curve PV2012 Blue : 0, 0, 255, 255
Image Width : 225
Image Height : 300
Bits Per Sample : 8
Color Components : 3
Aperture : 2.2
Image Size : 225x300
Megapixels : 0.068
Scale Factor To 35 mm Equivalent : 7.0
Shutter Speed : 1/160
Create Date : 2015:05:14 09:08:56.947
Date/Time Original : 2015:05:14 09:08:56.947
GPS Altitude : 194.2 m Above Sea Level
GPS Date/Time : 2015:05:14 16:08:56.06Z
GPS Latitude : 29 deg 4' 42.37" N
GPS Longitude : 110 deg 59' 44.70" W
Circle Of Confusion : 0.004 mm
Field Of View : 63.7 deg
Focal Length : 4.2 mm (35 mm equivalent: 29.0 mm)
GPS Position : 29 deg 4' 42.37" N, 110 deg 59' 44.70" W
Hyperfocal Distance : 1.82 m
Light Value : 11.2
Lens ID : iPhone 6 back camera 4.15mm f/2.2