Uber Exif Photo
Make : NIKON CORPORATION
Camera Model Name : NIKON D70s
Orientation : Horizontal (normal)
Software : Adobe Photoshop CS5 Windows
Modify Date : 2013:03:15 15:29:45
Exposure Time : 1/160
F Number : 16.0
Exposure Program : Manual
ISO : 200
Date/Time Original : 2007:02:24 16:06:12
Create Date : 2007:02:24 16:06:12
Shutter Speed Value : 1/160
Aperture Value : 16.0
Exposure Compensation : -5/3
Max Aperture Value : 4.4
Subject Distance : 2.37 m
Metering Mode : Spot
Light Source : Flash
Flash : No Flash
Focal Length : 70.0 mm
Color Space : sRGB
Exif Image Width : 2000
Exif Image Height : 3008
Sensing Method : One-chip color area
Scene Type : Directly photographed
CFA Pattern : [Blue,Green][Green,Red]
Custom Rendered : Normal
Exposure Mode : Manual
White Balance : Manual
Digital Zoom Ratio : 1
Focal Length In 35mm Format : 105 mm
Scene Capture Type : Standard
Gain Control : None
Contrast : Normal
Saturation : Normal
Sharpness : Normal
Subject Distance Range : Unknown
Serial Number : 1004ed50
Lens Info : 18-70mm f/3.5-4.5
Lens Model : 18.0-70.0 mm f/3.5-4.5
Profile Description : sRGB IEC61966-2.1
Creator Tool : Adobe Photoshop CS5 Windows
Rating : 5
Lens : 18.0-70.0 mm f/3.5-4.5
Image Number : 10219
Approximate Focus Distance : 2.37
Date Created : 2007:02:24 16:06:12.001
Preserved File Name : DSC_9921.NEF
Format : image/jpeg
Raw File Name : 24022007-Female musician-D70s-9921.NEF
Version : 6.7
Process Version : 5.7
Color Temperature : 5650
Tint : +11
Exposure : +0.45
Shadows : 0
Brightness : +70
Luminance Smoothing : 0
Color Noise Reduction : 25
Vignette Amount : 0
Shadow Tint : 0
Red Hue : 0
Red Saturation : 0
Green Hue : 0
Green Saturation : 0
Blue Hue : 0
Blue Saturation : 0
Fill Light : 7
Vibrance : +6
Highlight Recovery : 0
Clarity : 0
Defringe : 0
Hue Adjustment Red : 0
Hue Adjustment Orange : 0
Hue Adjustment Yellow : 0
Hue Adjustment Green : 0
Hue Adjustment Aqua : 0
Hue Adjustment Blue : 0
Hue Adjustment Purple : 0
Hue Adjustment Magenta : 0
Saturation Adjustment Red : 0
Saturation Adjustment Orange : 0
Saturation Adjustment Yellow : 0
Saturation Adjustment Green : 0
Saturation Adjustment Aqua : 0
Saturation Adjustment Blue : 0
Saturation Adjustment Purple : 0
Saturation Adjustment Magenta : 0
Luminance Adjustment Red : 0
Luminance Adjustment Orange : 0
Luminance Adjustment Yellow : 0
Luminance Adjustment Green : 0
Luminance Adjustment Aqua : 0
Luminance Adjustment Blue : 0
Luminance Adjustment Purple : 0
Luminance Adjustment Magenta : 0
Split Toning Shadow Hue : 0
Split Toning Shadow Saturation : 0
Split Toning Highlight Hue : 0
Split Toning Highlight Saturation : 0
Split Toning Balance : 0
Parametric Shadows : 0
Parametric Darks : 0
Parametric Lights : 0
Parametric Highlights : 0
Parametric Shadow Split : 25
Parametric Midtone Split : 50
Parametric Highlight Split : 75
Sharpen Radius : +1.0
Sharpen Detail : 25
Sharpen Edge Masking : 0
Post Crop Vignette Amount : 0
Grain Amount : 0
Color Noise Reduction Detail : 50
Lens Profile Enable : 0
Lens Manual Distortion Amount : 0
Perspective Vertical : 0
Perspective Horizontal : 0
Perspective Rotate : 0.0
Perspective Scale : 100
Auto Lateral CA : 0
Exposure 2012 : 0.00
Contrast 2012 : 0
Highlights 2012 : 0
Shadows 2012 : 0
Whites 2012 : 0
Blacks 2012 : 0
Clarity 2012 : 0
Convert To Grayscale : False
Tone Curve Name : Medium Contrast
Tone Curve Name 2012 : Linear
Camera Profile : Camera Portrait
Lens Profile Setup : LensDefaults
Has Settings : True
Has Crop : False
Already Applied : True
Tone Curve : 0, 0, 32, 22, 64, 56, 128, 128, 192, 196, 255, 255
Tone Curve Red : 0, 0, 255, 255
Tone Curve Green : 0, 0, 255, 255
Tone Curve Blue : 0, 0, 255, 255
Tone Curve PV2012 : 0, 0, 255, 255
Tone Curve PV2012 Red : 0, 0, 255, 255
Tone Curve PV2012 Green : 0, 0, 255, 255
Tone Curve PV2012 Blue : 0, 0, 255, 255
Image Width : 200
Image Height : 300
Bits Per Sample : 8
Color Components : 3
Aperture : 16.0
Image Size : 200x300
Megapixels : 0.060
Scale Factor To 35 mm Equivalent : 1.5
Shutter Speed : 1/160
Create Date : 2007:02:24 16:06:12.1
Date/Time Original : 2007:02:24 16:06:12.1
Circle Of Confusion : 0.020 mm
Depth Of Field : 0.73 m (2.06 - 2.79 m)
Field Of View : 19.5 deg
Focal Length : 70.0 mm (35 mm equivalent: 105.0 mm)
Hyperfocal Distance : 15.29 m
Light Value : 14.3
Lens ID : AF-S DX Zoom-Nikkor 18-70mm f/3.5-4.5G IF-ED