Uber Exif Photo
By-line : Randy Irving 2015
Copyright Notice : Randy Irving 2015
Make : NIKON CORPORATION
Camera Model Name : NIKON D300S
Orientation : Horizontal (normal)
Software : Adobe Photoshop CC 2014 (Windows)
Modify Date : 2015:06:12 00:41:45
Artist : Randy Irving 2015
Copyright : Randy Irving 2015
Exposure Time : 1/50
F Number : 6.0
Exposure Program : Manual
ISO : 400
Date/Time Original : 2015:06:11 12:12:09
Create Date : 2015:06:11 12:12:09
Shutter Speed Value : 1/50
Aperture Value : 6.0
Exposure Compensation : 0
Max Aperture Value : 5.9
Metering Mode : Spot
Light Source : Fine Weather
Flash : No Flash
Focal Length : 120.0 mm
Color Space : Uncalibrated
Exif Image Width : 2536
Exif Image Height : 1960
Sensing Method : One-chip color area
Scene Type : Directly photographed
CFA Pattern : [Red,Green][Green,Blue]
Custom Rendered : Normal
Exposure Mode : Manual
White Balance : Manual
Digital Zoom Ratio : 1
Focal Length In 35mm Format : 180 mm
Scene Capture Type : Standard
Gain Control : Low gain up
Contrast : Normal
Saturation : Normal
Sharpness : Normal
Subject Distance Range : Unknown
Serial Number : 5003326
Lens Info : 18-270mm f/3.5-6.3
Lens Model : 18.0-270.0 mm f/3.5-6.3
Profile Description : ProPhoto RGB
Rating : 0
Label :
Creator Tool : Ver.1.01
Format : image/jpeg
Lens : 18.0-270.0 mm f/3.5-6.3
Image Number : 43241
Approximate Focus Distance : 3.76
Date Created : 2015:06:11 12:12:09.066
Color Mode : RGB
ICC Profile Name : ProPhoto RGB
Raw File Name : DSC_2090.NEF
Version : 8.7.1
Process Version : 6.7
Auto White Version : 134348800
Color Temperature : 6643
Tint : -4
Luminance Smoothing : 24
Color Noise Reduction : 25
Vignette Amount : 0
Shadow Tint : 0
Red Hue : 0
Red Saturation : 0
Green Hue : 0
Green Saturation : 0
Blue Hue : 0
Blue Saturation : 0
Vibrance : 0
Hue Adjustment Red : 0
Hue Adjustment Orange : 0
Hue Adjustment Yellow : 0
Hue Adjustment Green : 0
Hue Adjustment Aqua : 0
Hue Adjustment Blue : 0
Hue Adjustment Purple : 0
Hue Adjustment Magenta : 0
Saturation Adjustment Red : 0
Saturation Adjustment Orange : 0
Saturation Adjustment Yellow : 0
Saturation Adjustment Green : 0
Saturation Adjustment Aqua : 0
Saturation Adjustment Blue : 0
Saturation Adjustment Purple : 0
Saturation Adjustment Magenta : 0
Luminance Adjustment Red : 0
Luminance Adjustment Orange : 0
Luminance Adjustment Yellow : 0
Luminance Adjustment Green : 0
Luminance Adjustment Aqua : 0
Luminance Adjustment Blue : 0
Luminance Adjustment Purple : 0
Luminance Adjustment Magenta : 0
Split Toning Shadow Hue : 0
Split Toning Shadow Saturation : 0
Split Toning Highlight Hue : 0
Split Toning Highlight Saturation : 0
Split Toning Balance : 0
Parametric Shadows : 0
Parametric Darks : 0
Parametric Lights : 0
Parametric Highlights : 0
Parametric Shadow Split : 25
Parametric Midtone Split : 50
Parametric Highlight Split : 75
Sharpen Radius : +1.0
Sharpen Detail : 25
Sharpen Edge Masking : 88
Post Crop Vignette Amount : 0
Grain Amount : 0
Luminance Noise Reduction Detail : 50
Color Noise Reduction Detail : 50
Luminance Noise Reduction Contrast : 0
Color Noise Reduction Smoothness : 50
Lens Profile Enable : 1
Lens Manual Distortion Amount : 0
Perspective Vertical : 0
Perspective Horizontal : 0
Perspective Rotate : 0.0
Perspective Scale : 100
Perspective Aspect : 0
Perspective Upright : Off
Auto Lateral CA : 0
Exposure 2012 : +2.38
Contrast 2012 : +29
Highlights 2012 : +21
Shadows 2012 : +33
Whites 2012 : 0
Blacks 2012 : +36
Clarity 2012 : 0
Defringe Purple Amount : 0
Defringe Purple Hue Lo : 30
Defringe Purple Hue Hi : 70
Defringe Green Amount : 0
Defringe Green Hue Lo : 40
Defringe Green Hue Hi : 60
Convert To Grayscale : False
Tone Curve Name : Medium Contrast
Tone Curve Name 2012 : Linear
Camera Profile : Adobe Standard
Lens Profile Setup : Custom
Lens Profile Name : Adobe (TAMRON 18-270mm F/3.5-6.3 DiII VC B003N, NIKON CORPORATION)
Lens Profile Filename : NIKON CORPORATION (TAMRON 18-270mm F3.5-6.3 DiII VC B003N) - RAW.lcp
Lens Profile Distortion Scale : 100
Lens Profile Chromatic Aberration Scale : 100
Lens Profile Vignetting Scale : 100
Has Settings : True
Crop Top : 0.184539
Crop Left : 0.257323
Crop Bottom : 0.872493
Crop Right : 0.848637
Crop Angle : 0
Crop Constrain To Warp : 0
Has Crop : True
Already Applied : True
Creator : Randy Irving 2015
Rights : Randy Irving 2015
Tone Curve : 0, 0, 32, 22, 64, 56, 128, 128, 192, 196, 255, 255
Tone Curve Red : 0, 0, 255, 255
Tone Curve Green : 0, 0, 255, 255
Tone Curve Blue : 0, 0, 255, 255
Tone Curve PV2012 : 0, 0, 255, 255
Tone Curve PV2012 Red : 0, 0, 255, 255
Tone Curve PV2012 Green : 0, 0, 255, 255
Tone Curve PV2012 Blue : 0, 0, 255, 255
Image Width : 300
Image Height : 232
Bits Per Sample : 8
Color Components : 3
Aperture : 6.0
Image Size : 300x232
Megapixels : 0.070
Scale Factor To 35 mm Equivalent : 1.5
Shutter Speed : 1/50
Create Date : 2015:06:11 12:12:09.66
Date/Time Original : 2015:06:11 12:12:09.66
Modify Date : 2015:06:12 00:41:45.66
Circle Of Confusion : 0.020 mm
Depth Of Field : 0.23 m (3.65 - 3.88 m)
Field Of View : 11.4 deg
Focal Length : 120.0 mm (35 mm equivalent: 180.0 mm)
Hyperfocal Distance : 119.82 m
Light Value : 8.8
Lens ID : Tamron AF 18-270mm f/3.5-6.3 Di II VC PZD (B008)