Uber Exif Photo
By-line : Randy Irving 2015
Keywords : 2015, California, June
Copyright Notice : Randy Irving 2015
Make : NIKON CORPORATION
Camera Model Name : NIKON D300S
Orientation : Horizontal (normal)
Software : Adobe Photoshop CC 2014 (Windows)
Modify Date : 2015:07:08 22:15:41
Artist : Randy Irving 2015
Copyright : Randy Irving 2015
Exposure Time : 1/200
F Number : 13.0
Exposure Program : Aperture-priority AE
ISO : 200
Date/Time Original : 2015:06:18 17:39:20
Create Date : 2015:06:18 17:39:20
Shutter Speed Value : 1/200
Aperture Value : 13.0
Exposure Compensation : 0
Max Aperture Value : 4.8
Metering Mode : Spot
Light Source : Fine Weather
Flash : No Flash
Focal Length : 46.0 mm
Color Space : Uncalibrated
Exif Image Width : 4101
Exif Image Height : 2710
Sensing Method : One-chip color area
Scene Type : Directly photographed
CFA Pattern : [Red,Green][Green,Blue]
Custom Rendered : Normal
Exposure Mode : Auto
White Balance : Manual
Digital Zoom Ratio : 1
Focal Length In 35mm Format : 69 mm
Scene Capture Type : Standard
Gain Control : None
Contrast : Normal
Saturation : Normal
Sharpness : Normal
Subject Distance Range : Unknown
Serial Number : 5003326
Lens Info : 18-270mm f/3.5-6.3
Lens Model : 18.0-270.0 mm f/3.5-6.3
Profile Description : ProPhoto RGB
Rating : 0
Label :
Creator Tool : Ver.1.01
Format : image/jpeg
Lens : 18.0-270.0 mm f/3.5-6.3
Image Number : 43764
Approximate Focus Distance : 3758
Date Created : 2015:06:18 17:39:20.005
Color Mode : RGB
ICC Profile Name : ProPhoto RGB
Raw File Name : DSC_2592.NEF
Version : 8.7.1
Process Version : 6.7
Auto White Version : 134348800
Color Temperature : 4850
Tint : +2
Luminance Smoothing : 0
Color Noise Reduction : 25
Vignette Amount : 0
Shadow Tint : 0
Red Hue : 0
Red Saturation : 0
Green Hue : 0
Green Saturation : 0
Blue Hue : 0
Blue Saturation : 0
Vibrance : 0
Hue Adjustment Red : 0
Hue Adjustment Orange : 0
Hue Adjustment Yellow : 0
Hue Adjustment Green : 0
Hue Adjustment Aqua : 0
Hue Adjustment Blue : 0
Hue Adjustment Purple : 0
Hue Adjustment Magenta : 0
Saturation Adjustment Red : +56
Saturation Adjustment Orange : +69
Saturation Adjustment Yellow : +16
Saturation Adjustment Green : +80
Saturation Adjustment Aqua : +56
Saturation Adjustment Blue : +69
Saturation Adjustment Purple : 0
Saturation Adjustment Magenta : 0
Luminance Adjustment Red : 0
Luminance Adjustment Orange : 0
Luminance Adjustment Yellow : 0
Luminance Adjustment Green : 0
Luminance Adjustment Aqua : 0
Luminance Adjustment Blue : 0
Luminance Adjustment Purple : 0
Luminance Adjustment Magenta : 0
Split Toning Shadow Hue : 0
Split Toning Shadow Saturation : 0
Split Toning Highlight Hue : 0
Split Toning Highlight Saturation : 0
Split Toning Balance : 0
Parametric Shadows : 0
Parametric Darks : 0
Parametric Lights : 0
Parametric Highlights : 0
Parametric Shadow Split : 25
Parametric Midtone Split : 50
Parametric Highlight Split : 75
Sharpen Radius : +1.0
Sharpen Detail : 25
Sharpen Edge Masking : 69
Post Crop Vignette Amount : 0
Grain Amount : 0
Color Noise Reduction Detail : 50
Color Noise Reduction Smoothness : 50
Lens Profile Enable : 1
Lens Manual Distortion Amount : 0
Perspective Vertical : 0
Perspective Horizontal : 0
Perspective Rotate : 0.0
Perspective Scale : 100
Perspective Aspect : 0
Perspective Upright : Off
Auto Lateral CA : 0
Exposure 2012 : 0.00
Contrast 2012 : 0
Highlights 2012 : 0
Shadows 2012 : 0
Whites 2012 : 0
Blacks 2012 : -48
Clarity 2012 : 0
Defringe Purple Amount : 0
Defringe Purple Hue Lo : 30
Defringe Purple Hue Hi : 70
Defringe Green Amount : 0
Defringe Green Hue Lo : 40
Defringe Green Hue Hi : 60
Convert To Grayscale : False
Tone Curve Name : Medium Contrast
Tone Curve Name 2012 : Linear
Camera Profile : Adobe Standard
Lens Profile Setup : Custom
Lens Profile Name : Adobe (TAMRON 18-270mm F/3.5-6.3 DiII VC B003N, NIKON CORPORATION)
Lens Profile Filename : NIKON CORPORATION (TAMRON 18-270mm F3.5-6.3 DiII VC B003N) - RAW.lcp
Lens Profile Distortion Scale : 100
Lens Profile Chromatic Aberration Scale : 100
Lens Profile Vignetting Scale : 100
Has Settings : True
Crop Top : 0
Crop Left : 0.027851
Crop Bottom : 1
Crop Right : 0.962221
Crop Angle : 1.94705
Crop Constrain To Warp : 0
Has Crop : True
Already Applied : True
Creator : Randy Irving 2015
Rights : Randy Irving 2015
Subject : 2015, California, June
Hierarchical Subject : 2015, California, June
Tone Curve : 0, 0, 32, 22, 64, 56, 128, 128, 192, 196, 255, 255
Tone Curve Red : 0, 0, 255, 255
Tone Curve Green : 0, 0, 255, 255
Tone Curve Blue : 0, 0, 255, 255
Tone Curve PV2012 : 0, 0, 255, 255
Tone Curve PV2012 Red : 0, 0, 255, 255
Tone Curve PV2012 Green : 0, 0, 255, 255
Tone Curve PV2012 Blue : 0, 0, 255, 255
Image Width : 300
Image Height : 198
Bits Per Sample : 8
Color Components : 3
Aperture : 13.0
Image Size : 300x198
Megapixels : 0.059
Scale Factor To 35 mm Equivalent : 1.5
Shutter Speed : 1/200
Create Date : 2015:06:18 17:39:20.50
Date/Time Original : 2015:06:18 17:39:20.50
Modify Date : 2015:07:08 22:15:41.50
Circle Of Confusion : 0.020 mm
Depth Of Field : inf (8.11 m - inf)
Field Of View : 29.2 deg
Focal Length : 46.0 mm (35 mm equivalent: 69.0 mm)
Hyperfocal Distance : 8.13 m
Light Value : 14.0
Lens ID : Tamron AF 18-270mm f/3.5-6.3 Di II VC PZD (B008)