Uber Exif Photo
Make : NIKON CORPORATION
Camera Model Name : NIKON D70s
Software : Ver.1.00
Modify Date : 2012:08:29 17:08:04
Exposure Time : 1/60
F Number : 4.5
Exposure Program : Manual
ISO : 200
Sensitivity Type : Unknown
Date/Time Original : 2012:08:19 14:30:04
Create Date : 2012:08:19 14:30:04
Shutter Speed Value : 1/60
Aperture Value : 4.5
Exposure Compensation : +2
Max Aperture Value : 4.4
Subject Distance : 1.12 m
Metering Mode : Multi-segment
Light Source : Unknown
Focal Length : 70.0 mm
User Comment : (C)Arvind Ahluwalia
Sensing Method : One-chip color area
Scene Type : Directly photographed
CFA Pattern : [Blue,Green][Green,Red]
Custom Rendered : Normal
Exposure Mode : Manual
White Balance : Auto
Digital Zoom Ratio : 1
Focal Length In 35mm Format : 105 mm
Scene Capture Type : Standard
Gain Control : None
Contrast : Normal
Saturation : Normal
Sharpness : Normal
Subject Distance Range : Unknown
Serial Number : 00041222
Lens Info : 17-70mm f/2.8-4.5
Lens Model : 17.0-70.0 mm f/2.8-4.5
Date/Time Digitized : 2012:08:19 14:30:04.00+01:00
Exif Image Width : 2240
Exif Image Height : 1488
Creator Tool : Adobe Photoshop Lightroom 3.3
Lens : 17.0-70.0 mm f/2.8-4.5
Image Number : 18345
Approximate Focus Distance : 1.12
Version : 6.3
Process Version : 5.7
Incremental Temperature : 0
Incremental Tint : 0
Exposure : +0.23
Shadows : 33
Brightness : 0
Luminance Smoothing : 0
Color Noise Reduction : 0
Chromatic Aberration R : 0
Chromatic Aberration B : 0
Vignette Amount : 0
Shadow Tint : 0
Red Hue : 0
Red Saturation : 0
Green Hue : 0
Green Saturation : 0
Blue Hue : 0
Blue Saturation : 0
Fill Light : 40
Highlight Recovery : 29
Clarity : +98
Defringe : 0
Gray Mixer Red : -10
Gray Mixer Orange : -19
Gray Mixer Yellow : -22
Gray Mixer Green : -26
Gray Mixer Aqua : -18
Gray Mixer Blue : +10
Gray Mixer Purple : +15
Gray Mixer Magenta : +3
Split Toning Shadow Hue : 0
Split Toning Shadow Saturation : 0
Split Toning Highlight Hue : 0
Split Toning Highlight Saturation : 0
Split Toning Balance : 0
Parametric Shadows : 0
Parametric Darks : 0
Parametric Lights : 0
Parametric Highlights : 0
Parametric Shadow Split : 25
Parametric Midtone Split : 50
Parametric Highlight Split : 75
Sharpen Radius : +1.0
Sharpen Detail : 25
Sharpen Edge Masking : 0
Post Crop Vignette Amount : 0
Grain Amount : 0
Lens Profile Enable : 0
Lens Manual Distortion Amount : 0
Perspective Vertical : 0
Perspective Horizontal : 0
Perspective Rotate : 0.0
Perspective Scale : 100
Convert To Grayscale : True
Tone Curve Name : Linear
Camera Profile : Embedded
Lens Profile Setup : LensDefaults
Has Settings : True
Has Crop : False
Already Applied : True
Flash Fired : False
Flash Return : No return detection
Flash Mode : Unknown
Flash Function : False
Flash Red Eye Mode : False
Tone Curve : 0, 0, 255, 255
Image Width : 300
Image Height : 199
Bits Per Sample : 8
Color Components : 1
Aperture : 4.5
Image Size : 300x199
Megapixels : 0.060
Scale Factor To 35 mm Equivalent : 1.5
Shutter Speed : 1/60
Create Date : 2012:08:19 14:30:04.00
Date/Time Original : 2012:08:19 14:30:04.00
Flash : No Flash
Circle Of Confusion : 0.020 mm
Depth Of Field : 0.04 m (1.10 - 1.14 m)
Field Of View : 19.5 deg
Focal Length : 70.0 mm (35 mm equivalent: 105.0 mm)
Hyperfocal Distance : 54.36 m
Light Value : 9.2
Lens ID : Sigma 17-70mm F2.8-4.5 DC Macro Asp. IF