Uber Exif Photo
Camera Model Name : NIKON D700
Orientation : Horizontal (normal)
Software : Adobe Photoshop CS6 (Windows)
Modify Date : 2014:02:01 10:38:00
Exposure Time : 1/2500
F Number : 8.0
ISO : 400
Date/Time Original : 2014:01:31 16:45:17
Shutter Speed Value : 1/2500
Aperture Value : 8.0
Focal Length : 24.0 mm
Color Space : Uncalibrated
Exif Image Width : 1295
Exif Image Height : 916
Profile Description : Adobe RGB (1998)
Method : Details Enhancer
Strength : 87.0
Color Saturation : 44.0
Luminosity : -1.3
White Clip : 0.332900
Black Clip : 0.019650
Smoothing Mode : Light
Smoothing : High
Microcontrast : 6.0
Microsmoothing : 2.4
Gamma : 1.03
Highlights Smoothing : 80.0
Shadows Smoothing : 10.0
Shadows Clipping : 0.0
Color Temperature : 3.2
Saturation Highlights : 6.5
Saturation Shadows : 2.8
Is Pano 360 : No
Creator Tool : ViewNX 2.8 W
Rating : 0
Create Date : 2014:01:31 16:45:17
Date Created : 2014:01:31 16:45:17
Color Mode : RGB
ICC Profile Name : Adobe RGB (1998)
Format : image/jpeg
Raw File Name : _MVQ7716_tonemapped.tif
Version : 8.1
Process Version : 6.7
White Balance : Custom
Incremental Temperature : +2
Incremental Tint : 0
Saturation : 0
Sharpness : 0
Luminance Smoothing : 34
Color Noise Reduction : 0
Vignette Amount : 0
Shadow Tint : 0
Red Hue : 0
Red Saturation : 0
Green Hue : 0
Green Saturation : 0
Blue Hue : 0
Blue Saturation : 0
Vibrance : 0
Hue Adjustment Red : 0
Hue Adjustment Orange : 0
Hue Adjustment Yellow : 0
Hue Adjustment Green : 0
Hue Adjustment Aqua : 0
Hue Adjustment Blue : 0
Hue Adjustment Purple : 0
Hue Adjustment Magenta : 0
Saturation Adjustment Red : 0
Saturation Adjustment Orange : +9
Saturation Adjustment Yellow : +9
Saturation Adjustment Green : 0
Saturation Adjustment Aqua : 0
Saturation Adjustment Blue : +4
Saturation Adjustment Purple : 0
Saturation Adjustment Magenta : 0
Luminance Adjustment Red : 0
Luminance Adjustment Orange : 0
Luminance Adjustment Yellow : 0
Luminance Adjustment Green : 0
Luminance Adjustment Aqua : 0
Luminance Adjustment Blue : 0
Luminance Adjustment Purple : 0
Luminance Adjustment Magenta : 0
Split Toning Shadow Hue : 0
Split Toning Shadow Saturation : 0
Split Toning Highlight Hue : 0
Split Toning Highlight Saturation : 0
Split Toning Balance : 0
Parametric Shadows : -9
Parametric Darks : -7
Parametric Lights : +8
Parametric Highlights : -12
Parametric Shadow Split : 25
Parametric Midtone Split : 50
Parametric Highlight Split : 75
Sharpen Radius : +1.0
Sharpen Detail : 25
Sharpen Edge Masking : 0
Post Crop Vignette Amount : 0
Grain Amount : 0
Luminance Noise Reduction Detail : 50
Luminance Noise Reduction Contrast : 0
Lens Profile Enable : 0
Lens Manual Distortion Amount : 0
Perspective Vertical : 0
Perspective Horizontal : 0
Perspective Rotate : 0.0
Perspective Scale : 100
Perspective Aspect : 0
Perspective Upright : Off
Auto Lateral CA : 0
Exposure 2012 : 0.00
Contrast 2012 : +6
Highlights 2012 : -11
Shadows 2012 : +2
Whites 2012 : -35
Blacks 2012 : -19
Clarity 2012 : +20
Defringe Purple Amount : 0
Defringe Purple Hue Lo : 30
Defringe Purple Hue Hi : 70
Defringe Green Amount : 0
Defringe Green Hue Lo : 40
Defringe Green Hue Hi : 60
Convert To Grayscale : False
Tone Curve Name 2012 : Linear
Camera Profile : Embedded
Lens Profile Setup : LensDefaults
Has Settings : True
Has Crop : False
Already Applied : True
Tone Curve PV2012 : 0, 0, 255, 255
Tone Curve PV2012 Red : 0, 0, 255, 255
Tone Curve PV2012 Green : 0, 0, 255, 255
Tone Curve PV2012 Blue : 0, 0, 255, 255
Paint Correction What : Correction
Paint Correction Amount : 1.000000
Paint Correction Active : true
Paint Correction Exposure : 0.000000
Paint Correction Saturation : 0.000000
Paint Correction Contrast : 0.000000
Paint Correction Clarity : 0.000000
Paint Correction Sharpness : 0.500000
Paint Correction Brightness : 0.000000
Paint Correction Toning Hue : 0.000000
Paint Correction Toning Saturation : 0.000000
Paint Correction Exposure 2012 : 0.187500
Paint Correction Contrast 2012 : 0.360000
Paint Correction Highlights 2012 : 0.200000
Paint Correction Shadows 2012 : 0.210000
Paint Correction Clarity 2012 : 0.400000
Paint Correction Luminance Noise : 0.000000
Paint Correction Moire : 0.000000
Paint Correction Defringe : 0.000000
Paint Correction Temperature : 0.000000
Paint Correction Tint : 0.000000
Paint Correction Mask What : Mask/Paint
Paint Correction Mask Value : 0.900000
Paint Correction Mask Radius : 0.003002
Paint Correction Mask Flow : 0.957929
Paint Correction Mask Center Weight : 0.000000
Image Width : 300
Image Height : 212
Bits Per Sample : 8
Color Components : 3
Aperture : 8.0
Image Size : 300x212
Megapixels : 0.064
Shutter Speed : 1/2500
Light Value : 15.3