Uber Exif Photo
Keywords : White Feathers_2015
By-line : AlanEJones@hotmail.com
Copyright Notice : No usage without prior written consent.
Make : NIKON CORPORATION
Camera Model Name : NIKON D810
Software : Adobe Photoshop Lightroom 6.1.1 (Windows)
Modify Date : 2015:07:31 19:25:34
Artist : AlanEJones@hotmail.com
Copyright : No usage without prior written consent.
Exposure Time : 1/1600
F Number : 2.8
Exposure Program : Manual
ISO : 200
Sensitivity Type : Recommended Exposure Index
Date/Time Original : 2015:06:06 14:48:54
Create Date : 2015:06:06 14:48:54
Shutter Speed Value : 1/1600
Aperture Value : 2.8
Exposure Compensation : 0
Max Aperture Value : 2.8
Metering Mode : Multi-segment
Light Source : Unknown
Flash : Off, Did not fire
Focal Length : 200.0 mm
Sensing Method : One-chip color area
Scene Type : Directly photographed
CFA Pattern : [Red,Green][Green,Blue]
Custom Rendered : Normal
Exposure Mode : Manual
White Balance : Auto
Digital Zoom Ratio : 1
Focal Length In 35mm Format : 200 mm
Scene Capture Type : Standard
Gain Control : None
Contrast : Normal
Saturation : Normal
Sharpness : Normal
Subject Distance Range : Unknown
Serial Number : 6027513
Lens Info : 70-200mm f/2.8
Lens Model : 70.0-200.0 mm f/2.8
Creator Tool : Adobe Photoshop Lightroom 6.1.1 (Windows)
Label : Red
Format : image/jpeg
Lens : 70.0-200.0 mm f/2.8
Image Number : 1509
Approximate Focus Distance : 8.41
Date Created : 2015:06:06 14:48:54.99
Version : 9.1.1
Process Version : 6.7
Auto White Version : 134348800
Color Temperature : 5400
Tint : -10
Luminance Smoothing : 0
Color Noise Reduction : 25
Vignette Amount : 0
Shadow Tint : 0
Red Hue : 0
Red Saturation : 0
Green Hue : 0
Green Saturation : 0
Blue Hue : 0
Blue Saturation : 0
Gray Mixer Red : -20
Gray Mixer Orange : -16
Gray Mixer Yellow : -20
Gray Mixer Green : -26
Gray Mixer Aqua : -20
Gray Mixer Blue : +7
Gray Mixer Purple : +15
Gray Mixer Magenta : +7
Split Toning Shadow Hue : 0
Split Toning Shadow Saturation : 0
Split Toning Highlight Hue : 0
Split Toning Highlight Saturation : 0
Split Toning Balance : 0
Parametric Shadows : 0
Parametric Darks : 0
Parametric Lights : 0
Parametric Highlights : 0
Parametric Shadow Split : 25
Parametric Midtone Split : 50
Parametric Highlight Split : 75
Sharpen Radius : +1.0
Sharpen Detail : 25
Sharpen Edge Masking : 0
Post Crop Vignette Amount : 0
Grain Amount : 0
Color Noise Reduction Detail : 50
Color Noise Reduction Smoothness : 50
Lens Profile Enable : 1
Lens Manual Distortion Amount : 0
Perspective Vertical : 0
Perspective Horizontal : 0
Perspective Rotate : 0.0
Perspective Scale : 100
Perspective Aspect : 0
Perspective Upright : Off
Auto Lateral CA : 0
Exposure 2012 : 0.00
Contrast 2012 : 0
Highlights 2012 : 0
Shadows 2012 : +100
Whites 2012 : 0
Blacks 2012 : +55
Clarity 2012 : +34
Dehaze : 0
Tone Map Strength : 0
Convert To Grayscale : True
Tone Curve Name : Linear
Tone Curve Name 2012 : Medium Contrast
Camera Profile : Camera Vivid
Lens Profile Setup : LensDefaults
Lens Profile Name : Adobe (Nikon AF-S VR Zoom-Nikkor 70-200mm f/2.8G IF-ED)
Lens Profile Filename : NIKON D3X (Nikon FX 70-200mm f2.8 G IF ED) - RAW.lcp
Lens Profile Distortion Scale : 100
Lens Profile Chromatic Aberration Scale : 100
Lens Profile Vignetting Scale : 100
Has Settings : True
Crop Top : 0.306777
Crop Left : 0.401587
Crop Bottom : 0.662306
Crop Right : 0.65873
Crop Angle : 0
Crop Constrain To Warp : 0
Has Crop : True
Already Applied : True
Creator : AlanEJones@hotmail.com
Rights : No usage without prior written consent.
Subject : White Feathers_2015
Tone Curve : 0, 0, 255, 255
Tone Curve Red : 0, 0, 255, 255
Tone Curve Green : 0, 0, 255, 255
Tone Curve Blue : 0, 0, 255, 255
Tone Curve PV2012 : 0, 0, 32, 22, 64, 56, 128, 128, 192, 196, 255, 255
Tone Curve PV2012 Red : 0, 0, 255, 255
Tone Curve PV2012 Green : 0, 0, 255, 255
Tone Curve PV2012 Blue : 0, 0, 255, 255
Image Width : 300
Image Height : 277
Bits Per Sample : 8
Color Components : 1
Aperture : 2.8
Image Size : 300x277
Megapixels : 0.083
Scale Factor To 35 mm Equivalent : 1.0
Shutter Speed : 1/1600
Create Date : 2015:06:06 14:48:54.99
Date/Time Original : 2015:06:06 14:48:54.99
Circle Of Confusion : 0.030 mm
Depth Of Field : 0.29 m (8.27 - 8.56 m)
Field Of View : 10.3 deg
Focal Length : 200.0 mm (35 mm equivalent: 200.0 mm)
Hyperfocal Distance : 475.46 m
Light Value : 12.6
Lens ID : AF-S VR Zoom-Nikkor 70-200mm f/2.8G IF-ED