Uber Exif Photo
By-line : Mel Gallant
Copyright Notice : (c)2014 MelGallantAll Rights Reserved
Photometric Interpretation : RGB
Orientation : Horizontal (normal)
Samples Per Pixel : 3
Planar Configuration : Chunky
Software : Adobe Photoshop CS4 Windows
Make : NIKON CORPORATION
Camera Model Name : NIKON D800E
Modify Date : 2015:04:19 14:23:31.000000
Artist : Mel Gallant
Copyright : (c)2014 MelGallantAll Rights Reserved
Exposure Time : 1/125
F Number : 16.0
Exposure Program : Aperture-priority AE
ISO : 100
Create Date : 2014:09:26 16:43:19
Shutter Speed Value : 1/125
Aperture Value : 16.0
Exposure Compensation : +2/3
Max Aperture Value : 3.5
Metering Mode : Multi-segment
Light Source : Fine Weather
Focal Length : 24.0 mm
Color Space : Uncalibrated
Exif Image Width : 2000
Exif Image Height : 1335
Sensing Method : One-chip color area
Custom Rendered : Normal
Exposure Mode : Auto
White Balance : Manual
Digital Zoom Ratio : 1
Focal Length In 35mm Format : 24 mm
Scene Capture Type : Landscape
Gain Control : Unknown (undef)
Contrast : Normal
Saturation : Normal
Sharpness : Normal
Subject Distance Range : Unknown
Lens Model : 24.0 mm f/3.5
Profile Description : Adobe RGB (1998)
Format : image/jpeg
Creator Tool : Ver.1.10
Rating : 0
Serial Number : 5001214
Lens Info : 24mm f/3.5
Lens : 24.0 mm f/3.5
Image Number : 3350
Approximate Focus Distance : 4294967295
Date Created : 2015:04:19
Color Mode : RGB
ICC Profile Name : Adobe RGB (1998)
Raw File Name : R249-3267.nef
Version : 8.7
Process Version : 6.7
Auto White Version : 134348800
Color Temperature : 4100
Tint : +5
Luminance Smoothing : 0
Color Noise Reduction : 0
Vignette Amount : 0
Shadow Tint : 0
Red Hue : 0
Red Saturation : 0
Green Hue : 0
Green Saturation : 0
Blue Hue : 0
Blue Saturation : 0
Vibrance : 0
Hue Adjustment Red : 0
Hue Adjustment Orange : 0
Hue Adjustment Yellow : 0
Hue Adjustment Green : 0
Hue Adjustment Aqua : 0
Hue Adjustment Blue : 0
Hue Adjustment Purple : 0
Hue Adjustment Magenta : 0
Saturation Adjustment Red : 0
Saturation Adjustment Orange : 0
Saturation Adjustment Yellow : 0
Saturation Adjustment Green : 0
Saturation Adjustment Aqua : 0
Saturation Adjustment Blue : 0
Saturation Adjustment Purple : 0
Saturation Adjustment Magenta : 0
Luminance Adjustment Red : 0
Luminance Adjustment Orange : 0
Luminance Adjustment Yellow : 0
Luminance Adjustment Green : 0
Luminance Adjustment Aqua : 0
Luminance Adjustment Blue : 0
Luminance Adjustment Purple : 0
Luminance Adjustment Magenta : 0
Split Toning Shadow Hue : 0
Split Toning Shadow Saturation : 0
Split Toning Highlight Hue : 0
Split Toning Highlight Saturation : 0
Split Toning Balance : 0
Parametric Shadows : 0
Parametric Darks : 0
Parametric Lights : 0
Parametric Highlights : 0
Parametric Shadow Split : 25
Parametric Midtone Split : 50
Parametric Highlight Split : 75
Sharpen Radius : +0.5
Sharpen Detail : 0
Sharpen Edge Masking : 0
Post Crop Vignette Amount : 0
Grain Amount : 0
Lens Profile Enable : 1
Lens Manual Distortion Amount : 0
Perspective Vertical : 0
Perspective Horizontal : 0
Perspective Rotate : 0.0
Perspective Scale : 100
Perspective Aspect : 0
Perspective Upright : Off
Auto Lateral CA : 1
Exposure 2012 : +0.10
Contrast 2012 : +10
Highlights 2012 : 0
Shadows 2012 : 0
Whites 2012 : +20
Blacks 2012 : -14
Clarity 2012 : 0
Defringe Purple Amount : 0
Defringe Purple Hue Lo : 30
Defringe Purple Hue Hi : 70
Defringe Green Amount : 0
Defringe Green Hue Lo : 40
Defringe Green Hue Hi : 60
Convert To Grayscale : False
Tone Curve Name : Medium Contrast
Tone Curve Name 2012 : Linear
Camera Profile : Adobe Standard
Lens Profile Setup : LensDefaults
Has Settings : True
Has Crop : False
Already Applied : True
Date/Time Digitized : 2014:09:26 16:43:19-03:00
Creator : Mel Gallant
Rights : (c)2014 MelGallantAll Rights Reserved
Tone Curve : 0, 0, 32, 22, 64, 56, 128, 128, 192, 196, 255, 255
Tone Curve Red : 0, 0, 255, 255
Tone Curve Green : 0, 0, 255, 255
Tone Curve Blue : 0, 0, 255, 255
Tone Curve PV2012 : 0, 0, 255, 255
Tone Curve PV2012 Red : 0, 0, 255, 255
Tone Curve PV2012 Green : 0, 0, 255, 255
Tone Curve PV2012 Blue : 0, 0, 255, 255
Flash Fired : False
Flash Return : No return detection
Flash Mode : Off
Flash Function : False
Flash Red Eye Mode : False
Image Width : 300
Image Height : 200
Bits Per Sample : 8
Color Components : 3
Aperture : 16.0
Image Size : 300x200
Megapixels : 0.060
Scale Factor To 35 mm Equivalent : 1.0
Shutter Speed : 1/125
Create Date : 2014:09:26 16:43:19.20
Flash : Off, Did not fire
Circle Of Confusion : 0.030 mm
Depth Of Field : inf (1.20 m - inf)
Date/Time Original : 2015:04:19 14:23:31+00:00
Field Of View : 73.7 deg
Focal Length : 24.0 mm (35 mm equivalent: 24.0 mm)
Hyperfocal Distance : 1.20 m
Light Value : 15.0
Lens ID : PC-E Nikkor 24mm f/3.5D ED