Uber Exif Photo
By-line : Andrius Vaitkevicius
Copyright Notice : 2015
Make : NIKON CORPORATION
Camera Model Name : NIKON D810
Software : Adobe Photoshop Lightroom 6.3 (Windows)
Modify Date : 2016:01:03 20:22:46
Artist : Andrius Vaitkevicius
Copyright : 2015
Exposure Time : 1/320
F Number : 1.4
Exposure Program : Shutter speed priority AE
ISO : 4000
Sensitivity Type : Recommended Exposure Index
Date/Time Original : 2015:12:12 21:22:32
Create Date : 2015:12:12 21:22:32
Shutter Speed Value : 1/320
Aperture Value : 1.4
Exposure Compensation : 0
Max Aperture Value : 1.4
Metering Mode : Center-weighted average
Light Source : Unknown
Flash : Off, Did not fire
Focal Length : 50.0 mm
Sensing Method : One-chip color area
Scene Type : Directly photographed
CFA Pattern : [Red,Green][Green,Blue]
Custom Rendered : Normal
Exposure Mode : Auto
White Balance : Auto
Digital Zoom Ratio : 1
Focal Length In 35mm Format : 50 mm
Scene Capture Type : Standard
Gain Control : High gain up
Contrast : Normal
Saturation : Normal
Sharpness : Normal
Subject Distance Range : Unknown
Serial Number : 6039723
Lens Info : 50mm f/1.4
Lens Model : 50.0 mm f/1.4
Creator Tool : Adobe Photoshop Lightroom 6.3 (Windows)
Format : image/jpeg
Lens : 50.0 mm f/1.4
Image Number : 1198
Approximate Focus Distance : 5.96
Date Created : 2015:12:12 21:22:32.23
Version : 9.3
Process Version : 6.7
Auto White Version : 134348800
Color Temperature : 4100
Tint : -2
Luminance Smoothing : 57
Color Noise Reduction : 25
Vignette Amount : 0
Shadow Tint : 0
Red Hue : 0
Red Saturation : 0
Green Hue : 0
Green Saturation : 0
Blue Hue : 0
Blue Saturation : 0
Gray Mixer Red : -8
Gray Mixer Orange : -17
Gray Mixer Yellow : -21
Gray Mixer Green : -26
Gray Mixer Aqua : -19
Gray Mixer Blue : +8
Gray Mixer Purple : +15
Gray Mixer Magenta : +4
Split Toning Shadow Hue : 0
Split Toning Shadow Saturation : 0
Split Toning Highlight Hue : 0
Split Toning Highlight Saturation : 0
Split Toning Balance : 0
Parametric Shadows : 0
Parametric Darks : 0
Parametric Lights : 0
Parametric Highlights : 0
Parametric Shadow Split : 25
Parametric Midtone Split : 50
Parametric Highlight Split : 75
Sharpen Radius : +1.0
Sharpen Detail : 25
Sharpen Edge Masking : 0
Post Crop Vignette Amount : 0
Grain Amount : 0
Luminance Noise Reduction Detail : 50
Color Noise Reduction Detail : 50
Luminance Noise Reduction Contrast : 0
Color Noise Reduction Smoothness : 50
Lens Profile Enable : 1
Lens Manual Distortion Amount : 0
Perspective Vertical : 0
Perspective Horizontal : 0
Perspective Rotate : 0.0
Perspective Scale : 100
Perspective Aspect : 0
Perspective Upright : Off
Auto Lateral CA : 1
Exposure 2012 : 0.00
Contrast 2012 : +25
Highlights 2012 : -40
Shadows 2012 : +100
Whites 2012 : -21
Blacks 2012 : -8
Clarity 2012 : +66
Dehaze : 0
Tone Map Strength : 0
Convert To Grayscale : True
Tone Curve Name : Linear
Tone Curve Name 2012 : Medium Contrast
Camera Profile : Adobe Standard
Lens Profile Setup : LensDefaults
Lens Profile Name : Adobe (Nikon AF-S NIKKOR 50mm f/1.4G)
Lens Profile Filename : NIKON D3X (Nikon AF-S NIKKOR 50mm f1.4G) - RAW.lcp
Lens Profile Distortion Scale : 100
Lens Profile Chromatic Aberration Scale : 100
Lens Profile Vignetting Scale : 100
Has Settings : True
Crop Top : 0.220636
Crop Left : 0.182817
Crop Bottom : 0.838499
Crop Right : 0.732625
Crop Angle : 0
Crop Constrain To Warp : 1
Has Crop : True
Already Applied : True
Creator : Andrius Vaitkevicius
Rights : 2015
Tone Curve : 0, 0, 255, 255
Tone Curve Red : 0, 0, 255, 255
Tone Curve Green : 0, 0, 255, 255
Tone Curve Blue : 0, 0, 255, 255
Tone Curve PV2012 : 0, 0, 32, 22, 64, 56, 128, 128, 192, 196, 255, 255
Tone Curve PV2012 Red : 0, 0, 255, 255
Tone Curve PV2012 Green : 0, 0, 255, 255
Tone Curve PV2012 Blue : 0, 0, 255, 255
Image Width : 300
Image Height : 225
Bits Per Sample : 8
Color Components : 1
Aperture : 1.4
Image Size : 300x225
Megapixels : 0.068
Scale Factor To 35 mm Equivalent : 1.0
Shutter Speed : 1/320
Create Date : 2015:12:12 21:22:32.23
Date/Time Original : 2015:12:12 21:22:32.23
Circle Of Confusion : 0.030 mm
Depth Of Field : 1.20 m (5.42 - 6.62 m)
Field Of View : 39.6 deg
Focal Length : 50.0 mm (35 mm equivalent: 50.0 mm)
Hyperfocal Distance : 59.43 m
Light Value : 4.0
Lens ID : AF-S Nikkor 50mm f/1.4G