Uber Exif Photo
Make : Apple
Camera Model Name : iPod touch
Software : Adobe Photoshop Lightroom 5.7 (Windows)
Modify Date : 2016:02:09 00:20:26
Exposure Time : 1/1150
F Number : 2.4
ISO : 25
Date/Time Original : 2016:01:30 12:34:01
Create Date : 2016:01:30 12:34:01
Shutter Speed Value : 1/1150
Aperture Value : 2.4
Brightness Value : 10.11599512
Exposure Compensation : 0
Metering Mode : Multi-segment
Flash : No Flash
Focal Length : 3.3 mm
Color Space : sRGB
Sensing Method : One-chip color area
Scene Type : Directly photographed
Custom Rendered : Panorama
White Balance : Auto
Focal Length In 35mm Format : 31 mm
Scene Capture Type : Standard
Lens Info : 3.3mm f/2.4
Lens Make : Apple
Lens Model : iPod touch back camera 3.3mm f/2.4
Profile Description : sRGB IEC61966-2.1
Creator Tool : Adobe Photoshop Lightroom 5.7 (Windows)
Lens : iPod touch back camera 3.3mm f/2.4
Date Created : 2016:01:30 12:34:01.322
Format : image/jpeg
Version : 8.7
Process Version : 6.7
Auto White Version : 134348800
Incremental Temperature : 0
Incremental Tint : 0
Saturation : 0
Sharpness : 0
Luminance Smoothing : 0
Color Noise Reduction : 0
Vignette Amount : 0
Shadow Tint : 0
Red Hue : 0
Red Saturation : 0
Green Hue : 0
Green Saturation : 0
Blue Hue : 0
Blue Saturation : 0
Vibrance : 0
Hue Adjustment Red : 0
Hue Adjustment Orange : 0
Hue Adjustment Yellow : 0
Hue Adjustment Green : 0
Hue Adjustment Aqua : 0
Hue Adjustment Blue : 0
Hue Adjustment Purple : 0
Hue Adjustment Magenta : 0
Saturation Adjustment Red : 0
Saturation Adjustment Orange : +22
Saturation Adjustment Yellow : +14
Saturation Adjustment Green : +47
Saturation Adjustment Aqua : 0
Saturation Adjustment Blue : -4
Saturation Adjustment Purple : 0
Saturation Adjustment Magenta : 0
Luminance Adjustment Red : 0
Luminance Adjustment Orange : 0
Luminance Adjustment Yellow : 0
Luminance Adjustment Green : 0
Luminance Adjustment Aqua : 0
Luminance Adjustment Blue : 0
Luminance Adjustment Purple : 0
Luminance Adjustment Magenta : 0
Split Toning Shadow Hue : 0
Split Toning Shadow Saturation : 0
Split Toning Highlight Hue : 0
Split Toning Highlight Saturation : 0
Split Toning Balance : 0
Parametric Shadows : 0
Parametric Darks : 0
Parametric Lights : +25
Parametric Highlights : +32
Parametric Shadow Split : 25
Parametric Midtone Split : 50
Parametric Highlight Split : 75
Sharpen Radius : +1.0
Sharpen Detail : 25
Sharpen Edge Masking : 0
Post Crop Vignette Amount : 0
Grain Amount : 0
Lens Profile Enable : 0
Lens Manual Distortion Amount : 0
Perspective Vertical : 0
Perspective Horizontal : 0
Perspective Rotate : 0.0
Perspective Scale : 100
Perspective Aspect : 0
Perspective Upright : Off
Auto Lateral CA : 0
Exposure 2012 : 0.00
Contrast 2012 : 0
Highlights 2012 : -100
Shadows 2012 : +21
Whites 2012 : +12
Blacks 2012 : -2
Clarity 2012 : +6
Defringe Purple Amount : 0
Defringe Purple Hue Lo : 30
Defringe Purple Hue Hi : 70
Defringe Green Amount : 0
Defringe Green Hue Lo : 40
Defringe Green Hue Hi : 60
Convert To Grayscale : False
Tone Curve Name : Linear
Tone Curve Name 2012 : Linear
Camera Profile : Embedded
Lens Profile Setup : LensDefaults
Has Settings : True
Crop Top : 0
Crop Left : 0.00788
Crop Bottom : 0.988957
Crop Right : 0.993053
Crop Angle : 1.39895
Crop Constrain To Warp : 0
Has Crop : True
Already Applied : True
Tone Curve : 0, 0, 255, 255
Tone Curve Red : 0, 0, 255, 255
Tone Curve Green : 0, 0, 255, 255
Tone Curve Blue : 0, 0, 255, 255
Tone Curve PV2012 : 0, 0, 255, 255
Tone Curve PV2012 Red : 0, 0, 255, 255
Tone Curve PV2012 Green : 0, 0, 255, 255
Tone Curve PV2012 Blue : 0, 0, 255, 255
Image Width : 300
Image Height : 86
Bits Per Sample : 8
Color Components : 3
Aperture : 2.4
Image Size : 300x86
Megapixels : 0.026
Scale Factor To 35 mm Equivalent : 9.4
Shutter Speed : 1/1150
Create Date : 2016:01:30 12:34:01.322
Date/Time Original : 2016:01:30 12:34:01.322
Circle Of Confusion : 0.003 mm
Field Of View : 60.3 deg
Focal Length : 3.3 mm (35 mm equivalent: 31.0 mm)
Hyperfocal Distance : 1.42 m
Light Value : 14.7
Lens ID : iPod touch back camera 3.3mm f/2.4