Uber Exif Photo
Caption-Abstract : Photo by Danny Gilleland
By-line : Danny Gilleland
Object Name : 0415TIFF_
Keywords : 0415TIFF_
Image Description : Photo by Danny Gilleland
Make : NIKON CORPORATION
Camera Model Name : NIKON D90
Orientation : Horizontal (normal)
Software : Adobe Photoshop Elements 9.0 Windows
Modify Date : 2016:04:26 15:07:39
Artist : Danny Gilleland
Exposure Time : 1/160
F Number : 9.0
Exposure Program : Shutter speed priority AE
ISO : 500
Date/Time Original : 2002:07:01 21:30:49
Create Date : 2002:07:01 21:30:49
Shutter Speed Value : 1/160
Aperture Value : 9.0
Exposure Compensation : 0
Max Aperture Value : 4.0
Subject Distance : 5.62 m
Metering Mode : Multi-segment
Light Source : Flash
Focal Length : 86.0 mm
User Comment : PHOTO BY DANNY GILLELAND
Color Space : sRGB
Exif Image Width : 4183
Exif Image Height : 2806
Sensing Method : One-chip color area
Scene Type : Directly photographed
CFA Pattern : [Green,Blue][Red,Green]
Custom Rendered : Normal
Exposure Mode : Auto
White Balance : Manual
Digital Zoom Ratio : 1
Focal Length In 35mm Format : 129 mm
Scene Capture Type : Portrait
Gain Control : Low gain up
Contrast : Normal
Saturation : Normal
Sharpness : Normal
Subject Distance Range : Unknown
Serial Number : 3050141
Lens Info : 70-300mm f/4-5.6
Lens Model : 70.0-300.0 mm f/4.0-5.6
Profile Description : sRGB IEC61966-2.1
Date Created : 2002:07:01
City : Fort Valley
Headline : 0415TIFF_
Color Mode : RGB
ICC Profile Name : sRGB IEC61966-2.1
Format : image/jpeg
Date/Time Digitized : 2002:07:01 21:30:49-04:00
Creator Tool : Ver.1.00
Rating : 0
Lens : 70.0-300.0 mm f/4.0-5.6
Image Number : 123912
Approximate Focus Distance : 5.62
Raw File Name : 0415TIFF_0102.NEF
Version : 6.5
Process Version : 5.7
Color Temperature : 4550
Tint : +10
Exposure : 0.00
Shadows : 7
Brightness : +34
Luminance Smoothing : 0
Color Noise Reduction : 25
Chromatic Aberration R : 0
Chromatic Aberration B : 0
Vignette Amount : 0
Shadow Tint : 0
Red Hue : 0
Red Saturation : 0
Green Hue : 0
Green Saturation : 0
Blue Hue : 0
Blue Saturation : 0
Fill Light : 10
Vibrance : 0
Highlight Recovery : 15
Clarity : +26
Defringe : 0
Hue Adjustment Red : 0
Hue Adjustment Orange : 0
Hue Adjustment Yellow : 0
Hue Adjustment Green : 0
Hue Adjustment Aqua : 0
Hue Adjustment Blue : 0
Hue Adjustment Purple : 0
Hue Adjustment Magenta : 0
Saturation Adjustment Red : 0
Saturation Adjustment Orange : 0
Saturation Adjustment Yellow : 0
Saturation Adjustment Green : 0
Saturation Adjustment Aqua : 0
Saturation Adjustment Blue : 0
Saturation Adjustment Purple : 0
Saturation Adjustment Magenta : 0
Luminance Adjustment Red : 0
Luminance Adjustment Orange : 0
Luminance Adjustment Yellow : 0
Luminance Adjustment Green : 0
Luminance Adjustment Aqua : 0
Luminance Adjustment Blue : 0
Luminance Adjustment Purple : 0
Luminance Adjustment Magenta : 0
Split Toning Shadow Hue : 0
Split Toning Shadow Saturation : 0
Split Toning Highlight Hue : 0
Split Toning Highlight Saturation : 0
Split Toning Balance : 0
Parametric Shadows : 0
Parametric Darks : 0
Parametric Lights : 0
Parametric Highlights : 0
Parametric Shadow Split : 25
Parametric Midtone Split : 50
Parametric Highlight Split : 75
Sharpen Radius : +1.0
Sharpen Detail : 25
Sharpen Edge Masking : 0
Post Crop Vignette Amount : 0
Grain Amount : 0
Color Noise Reduction Detail : 50
Lens Profile Enable : 0
Lens Manual Distortion Amount : 0
Perspective Vertical : 0
Perspective Horizontal : 0
Perspective Rotate : 0.0
Perspective Scale : 100
Convert To Grayscale : False
Tone Curve Name : Medium Contrast
Camera Profile : Adobe Standard
Lens Profile Setup : LensDefaults
Has Settings : True
Has Crop : False
Already Applied : True
Supplemental Categories : 123912
Title : 0415TIFF_
Subject : 0415TIFF_
Creator : Danny Gilleland
Description : Photo by Danny Gilleland
Flash Fired : False
Flash Return : No return detection
Flash Mode : Unknown
Flash Function : False
Flash Red Eye Mode : False
Tone Curve : 0, 0, 32, 22, 64, 56, 128, 128, 192, 196, 255, 255
Image Width : 300
Image Height : 201
Bits Per Sample : 8
Color Components : 3
Aperture : 9.0
Image Size : 300x201
Megapixels : 0.060
Scale Factor To 35 mm Equivalent : 1.5
Shutter Speed : 1/160
Create Date : 2002:07:01 21:30:49.00
Date/Time Original : 2002:07:01 21:30:49.00
Modify Date : 2016:04:26 15:07:39.00
Flash : No Flash
Circle Of Confusion : 0.020 mm
Depth Of Field : 1.54 m (4.95 - 6.50 m)
Field Of View : 15.9 deg
Focal Length : 86.0 mm (35 mm equivalent: 129.0 mm)
Hyperfocal Distance : 41.03 m
Light Value : 11.3
Lens ID : Sigma 70-300mm F4-5.6 APO Macro Super II or AF Zoom-Nikkor 70-300mm f/4-5.6D ED