Uber Exif Photo
Keywords : American Legion, Car, show
By-line : Ollie Grant
By-line Title : Photographer
Copyright Notice : Ollie's Photograpy
Copyright Flag : True
Make : NIKON CORPORATION
Camera Model Name : NIKON D5200
Software : Adobe Photoshop Lightroom 6.5.1 (Windows)
Modify Date : 2016:05:23 15:31:13
Artist : Ollie Grant
Copyright : Ollie's Photograpy
Exposure Time : 1/200
F Number : 7.1
Exposure Program : Not Defined
ISO : 200
Sensitivity Type : Recommended Exposure Index
Date/Time Original : 2016:05:22 12:22:01
Create Date : 2016:05:22 12:22:01
Shutter Speed Value : 1/200
Aperture Value : 7.1
Exposure Compensation : 0
Max Aperture Value : 5.3
Metering Mode : Multi-segment
Light Source : Unknown
Flash : Off, Did not fire
Focal Length : 42.0 mm
Color Space : sRGB
Sensing Method : One-chip color area
Scene Type : Directly photographed
CFA Pattern : [Red,Green][Green,Blue]
Custom Rendered : Normal
Exposure Mode : Auto
White Balance : Auto
Digital Zoom Ratio : 1
Focal Length In 35mm Format : 42 mm
Scene Capture Type : Standard
Gain Control : None
Contrast : Normal
Saturation : Normal
Sharpness : Normal
Subject Distance Range : Unknown
Serial Number : 2516346
Lens Info : 18-55mm f/3.5-5.6
Lens Model : 18.0-55.0 mm f/3.5-5.6
Profile Description : sRGB IEC61966-2.1
Creator Tool : Adobe Photoshop Lightroom 6.5.1 (Windows)
Rating : 4
Lens : 18.0-55.0 mm f/3.5-5.6
Image Number : 24587
Approximate Focus Distance : 4294967295
Date Created : 2015:06:28 18:25:02.066
Authors Position : Photographer
Format : image/jpeg
Marked : True
Version : 9.5.1
Process Version : 6.7
Auto White Version : 134348800
Incremental Temperature : 0
Incremental Tint : 0
Luminance Smoothing : 0
Color Noise Reduction : 0
Vignette Amount : 0
Shadow Tint : 0
Red Hue : 0
Red Saturation : 0
Green Hue : 0
Green Saturation : 0
Blue Hue : 0
Blue Saturation : 0
Vibrance : 0
Hue Adjustment Red : 0
Hue Adjustment Orange : 0
Hue Adjustment Yellow : 0
Hue Adjustment Green : 0
Hue Adjustment Aqua : 0
Hue Adjustment Blue : 0
Hue Adjustment Purple : 0
Hue Adjustment Magenta : 0
Saturation Adjustment Red : 0
Saturation Adjustment Orange : 0
Saturation Adjustment Yellow : 0
Saturation Adjustment Green : 0
Saturation Adjustment Aqua : 0
Saturation Adjustment Blue : 0
Saturation Adjustment Purple : 0
Saturation Adjustment Magenta : 0
Luminance Adjustment Red : 0
Luminance Adjustment Orange : 0
Luminance Adjustment Yellow : 0
Luminance Adjustment Green : 0
Luminance Adjustment Aqua : 0
Luminance Adjustment Blue : 0
Luminance Adjustment Purple : 0
Luminance Adjustment Magenta : 0
Split Toning Shadow Hue : 0
Split Toning Shadow Saturation : 0
Split Toning Highlight Hue : 0
Split Toning Highlight Saturation : 0
Split Toning Balance : 0
Parametric Shadows : 0
Parametric Darks : 0
Parametric Lights : 0
Parametric Highlights : 0
Parametric Shadow Split : 25
Parametric Midtone Split : 50
Parametric Highlight Split : 75
Sharpen Radius : +1.0
Sharpen Detail : 25
Sharpen Edge Masking : 0
Post Crop Vignette Amount : 0
Grain Amount : 0
Lens Profile Enable : 0
Lens Manual Distortion Amount : 0
Perspective Vertical : 0
Perspective Horizontal : 0
Perspective Rotate : 0.0
Perspective Scale : 100
Perspective Aspect : 0
Perspective Upright : Off
Auto Lateral CA : 0
Exposure 2012 : +1.00
Contrast 2012 : +3
Highlights 2012 : -30
Shadows 2012 : +30
Whites 2012 : +13
Blacks 2012 : -28
Clarity 2012 : 0
Defringe Purple Amount : 0
Defringe Purple Hue Lo : 30
Defringe Purple Hue Hi : 70
Defringe Green Amount : 0
Defringe Green Hue Lo : 40
Defringe Green Hue Hi : 60
Dehaze : 0
Tone Map Strength : 0
Convert To Grayscale : False
Tone Curve Name : Linear
Tone Curve Name 2012 : Linear
Camera Profile : Embedded
Lens Profile Setup : LensDefaults
Has Settings : True
Crop Top : 0.020516
Crop Left : 0.005699
Crop Bottom : 0.979484
Crop Right : 0.994301
Crop Angle : -0.8
Crop Constrain To Warp : 0
Has Crop : True
Already Applied : True
Creator : Ollie Grant
Rights : Ollie's Photograpy
Subject : American Legion, Car, show
Creator Postal Code : 90630
Creator Country : United States
Creator Work Email : grants_photo@yahoo.com
Creator Region : California
Creator City : Cypress
Creator Address : 11521 Halawa LN
Creator Work URL : www.mygalleryplace.com/ollie
Hierarchical Subject : American Legion, Car, show
Tone Curve : 0, 0, 255, 255
Tone Curve Red : 0, 0, 255, 255
Tone Curve Green : 0, 0, 255, 255
Tone Curve Blue : 0, 0, 255, 255
Tone Curve PV2012 : 0, 0, 255, 255
Tone Curve PV2012 Red : 0, 0, 255, 255
Tone Curve PV2012 Green : 0, 0, 255, 255
Tone Curve PV2012 Blue : 0, 0, 255, 255
Image Width : 308
Image Height : 208
Bits Per Sample : 8
Color Components : 3
Aperture : 7.1
Image Size : 308x208
Megapixels : 0.064
Scale Factor To 35 mm Equivalent : 1.0
Shutter Speed : 1/200
Create Date : 2016:05:22 12:22:01.20
Date/Time Original : 2016:05:22 12:22:01.20
Circle Of Confusion : 0.030 mm
Depth Of Field : inf (8.27 m - inf)
Field Of View : 46.4 deg
Focal Length : 42.0 mm (35 mm equivalent: 42.0 mm)
Hyperfocal Distance : 8.27 m
Light Value : 12.3
Lens ID : AF-S DX VR Zoom-Nikkor 18-55mm f/3.5-5.6G