Uber Exif Photo
Keywords : Places, Saltwick Bay
By-line : Dave Murrell +44(0)75451891
Copyright Notice : Copyright Dave Murrell
Copyright Flag : True
Make : NIKON CORPORATION
Camera Model Name : NIKON D810
Software : Adobe Photoshop Lightroom 6.6.1 (Macintosh)
Modify Date : 2016:07:31 17:48:12
Artist : Dave Murrell +44(0)7545189184
Copyright : Copyright Dave Murrell
Exposure Time : 1.6
F Number : 22.0
Exposure Program : Aperture-priority AE
ISO : 64
Sensitivity Type : Recommended Exposure Index
Date/Time Original : 2016:07:05 21:44:53
Create Date : 2016:07:05 21:44:53
Shutter Speed Value : 1.6
Aperture Value : 22.0
Exposure Compensation : 0
Max Aperture Value : 2.8
Metering Mode : Multi-segment
Light Source : Unknown
Flash : Off, Did not fire
Focal Length : 14.0 mm
Color Space : sRGB
Sensing Method : One-chip color area
Scene Type : Directly photographed
CFA Pattern : [Red,Green][Green,Blue]
Custom Rendered : Normal
Exposure Mode : Auto
White Balance : Auto
Digital Zoom Ratio : 1
Focal Length In 35mm Format : 14 mm
Scene Capture Type : Standard
Gain Control : None
Contrast : Normal
Saturation : Normal
Sharpness : Normal
Subject Distance Range : Unknown
Serial Number : 8507109
Lens Info : 14-24mm f/2.8
Lens Model : 14.0-24.0 mm f/2.8
Profile Description : sRGB IEC61966-2.1
Rating : 2
Creator Tool : Adobe Photoshop Lightroom 6.6.1 (Macintosh)
Format : image/jpeg
Lens : 14.0-24.0 mm f/2.8
Image Number : 22387
Approximate Focus Distance : 4294967295
Lateral Chromatic Aberration Correction Already Applied:
True
Date Created : 2016:07:05 21:44:53.071
Marked : True
Version : 9.6
Process Version : 6.7
Auto White Version : 134348800
Incremental Temperature : 0
Incremental Tint : 0
Luminance Smoothing : 0
Color Noise Reduction : 0
Vignette Amount : 0
Shadow Tint : 0
Red Hue : 0
Red Saturation : 0
Green Hue : 0
Green Saturation : 0
Blue Hue : 0
Blue Saturation : 0
Vibrance : 0
Hue Adjustment Red : 0
Hue Adjustment Orange : 0
Hue Adjustment Yellow : 0
Hue Adjustment Green : 0
Hue Adjustment Aqua : 0
Hue Adjustment Blue : 0
Hue Adjustment Purple : 0
Hue Adjustment Magenta : 0
Saturation Adjustment Red : 0
Saturation Adjustment Orange : 0
Saturation Adjustment Yellow : 0
Saturation Adjustment Green : 0
Saturation Adjustment Aqua : 0
Saturation Adjustment Blue : 0
Saturation Adjustment Purple : 0
Saturation Adjustment Magenta : 0
Luminance Adjustment Red : 0
Luminance Adjustment Orange : 0
Luminance Adjustment Yellow : 0
Luminance Adjustment Green : 0
Luminance Adjustment Aqua : 0
Luminance Adjustment Blue : 0
Luminance Adjustment Purple : 0
Luminance Adjustment Magenta : 0
Split Toning Shadow Hue : 0
Split Toning Shadow Saturation : 0
Split Toning Highlight Hue : 0
Split Toning Highlight Saturation : 0
Split Toning Balance : 0
Parametric Shadows : 0
Parametric Darks : 0
Parametric Lights : 0
Parametric Highlights : 0
Parametric Shadow Split : 25
Parametric Midtone Split : 50
Parametric Highlight Split : 75
Sharpen Radius : +1.0
Sharpen Detail : 25
Sharpen Edge Masking : 0
Post Crop Vignette Amount : 0
Grain Amount : 0
Lens Profile Enable : 0
Lens Manual Distortion Amount : 0
Perspective Vertical : 0
Perspective Horizontal : 0
Perspective Rotate : 0.0
Perspective Scale : 100
Perspective Aspect : 0
Perspective Upright : Off
Perspective X : 0.00
Perspective Y : 0.00
Auto Lateral CA : 0
Exposure 2012 : 0.00
Contrast 2012 : 0
Highlights 2012 : -70
Shadows 2012 : 0
Whites 2012 : 0
Blacks 2012 : +24
Clarity 2012 : 0
Defringe Purple Amount : 0
Defringe Purple Hue Lo : 30
Defringe Purple Hue Hi : 70
Defringe Green Amount : 0
Defringe Green Hue Lo : 40
Defringe Green Hue Hi : 60
Dehaze : 0
Tone Map Strength : 0
Convert To Grayscale : False
Tone Curve Name : Linear
Tone Curve Name 2012 : Linear
Camera Profile : Embedded
Lens Profile Setup : LensDefaults
Has Settings : True
Has Crop : False
Already Applied : True
Creator : Dave Murrell +44(0)7545189184
Rights : Copyright Dave Murrell
Subject : Places, Saltwick Bay
Tone Curve : 0, 0, 255, 255
Tone Curve Red : 0, 0, 255, 255
Tone Curve Green : 0, 0, 255, 255
Tone Curve Blue : 0, 0, 255, 255
Tone Curve PV2012 : 0, 0, 255, 255
Tone Curve PV2012 Red : 0, 0, 255, 255
Tone Curve PV2012 Green : 0, 0, 255, 255
Tone Curve PV2012 Blue : 0, 0, 255, 255
Image Width : 300
Image Height : 450
Bits Per Sample : 8
Color Components : 3
Aperture : 22.0
Image Size : 300x450
Megapixels : 0.135
Scale Factor To 35 mm Equivalent : 1.0
Shutter Speed : 1.6
Date/Time Original : 2016:07:05 21:44:53.71
Circle Of Confusion : 0.030 mm
Depth Of Field : inf (0.30 m - inf)
Field Of View : 104.3 deg
Focal Length : 14.0 mm (35 mm equivalent: 14.0 mm)
Hyperfocal Distance : 0.30 m
Light Value : 8.9
Lens ID : AF-S Zoom-Nikkor 14-24mm f/2.8G ED