Uber Exif Photo
By-line : ATLE RISKA
Copyright Notice : RISKA.INFO
Make : NIKON CORPORATION
Camera Model Name : NIKON D700
Orientation : Horizontal (normal)
Software : Adobe Photoshop CS5 Macintosh
Modify Date : 2013:02:07 07:31:49
Artist : ATLE RISKA
Copyright : RISKA.INFO
Exposure Time : 1/5
F Number : 2.8
Exposure Program : Aperture-priority AE
ISO : 800
Date/Time Original : 2013:02:06 18:12:50
Create Date : 2013:02:06 18:12:50
Shutter Speed Value : 1/5
Aperture Value : 2.8
Exposure Compensation : 0
Max Aperture Value : 2.8
Subject Distance : 4294967295 m
Metering Mode : Multi-segment
Light Source : Unknown
Flash : No Flash
Focal Length : 32.0 mm
Color Space : Uncalibrated
Exif Image Width : 3714
Exif Image Height : 2365
Sensing Method : One-chip color area
Scene Type : Directly photographed
CFA Pattern : [Red,Green][Green,Blue]
Custom Rendered : Normal
Exposure Mode : Auto
White Balance : Auto
Digital Zoom Ratio : 1
Focal Length In 35mm Format : 32 mm
Scene Capture Type : Standard
Gain Control : Low gain up
Contrast : Normal
Saturation : Normal
Sharpness : Normal
Subject Distance Range : Unknown
Serial Number : 2248465
Lens Info : 24-70mm f/2.8
Lens Model : 24.0-70.0 mm f/2.8
Profile Description : Adobe RGB (1998)
Format : image/jpeg
Creator Tool : Ver.1.02
Rating : 0
Lens : 24.0-70.0 mm f/2.8
Image Number : 11092
Approximate Focus Distance : 4294967295
Date Created : 2013:02:06 18:12:50.025
Color Mode : RGB
ICC Profile Name : Adobe RGB (1998)
Raw File Name : _DSC3865.NEF
Version : 6.7
Process Version : 5.7
Color Temperature : 3950
Tint : +12
Exposure : 0.00
Shadows : 0
Brightness : +50
Luminance Smoothing : 0
Color Noise Reduction : 25
Vignette Amount : 0
Shadow Tint : 0
Red Hue : 0
Red Saturation : 0
Green Hue : 0
Green Saturation : 0
Blue Hue : 0
Blue Saturation : 0
Fill Light : 0
Vibrance : +26
Highlight Recovery : 49
Clarity : +31
Defringe : 0
Hue Adjustment Red : 0
Hue Adjustment Orange : 0
Hue Adjustment Yellow : 0
Hue Adjustment Green : 0
Hue Adjustment Aqua : 0
Hue Adjustment Blue : 0
Hue Adjustment Purple : 0
Hue Adjustment Magenta : 0
Saturation Adjustment Red : 0
Saturation Adjustment Orange : 0
Saturation Adjustment Yellow : 0
Saturation Adjustment Green : 0
Saturation Adjustment Aqua : 0
Saturation Adjustment Blue : 0
Saturation Adjustment Purple : 0
Saturation Adjustment Magenta : 0
Luminance Adjustment Red : 0
Luminance Adjustment Orange : 0
Luminance Adjustment Yellow : 0
Luminance Adjustment Green : 0
Luminance Adjustment Aqua : 0
Luminance Adjustment Blue : 0
Luminance Adjustment Purple : 0
Luminance Adjustment Magenta : 0
Split Toning Shadow Hue : 0
Split Toning Shadow Saturation : 0
Split Toning Highlight Hue : 0
Split Toning Highlight Saturation : 0
Split Toning Balance : 0
Parametric Shadows : 0
Parametric Darks : 0
Parametric Lights : 0
Parametric Highlights : 0
Parametric Shadow Split : 25
Parametric Midtone Split : 50
Parametric Highlight Split : 75
Sharpen Radius : +1.0
Sharpen Detail : 25
Sharpen Edge Masking : 0
Post Crop Vignette Amount : 0
Grain Amount : 0
Color Noise Reduction Detail : 50
Lens Profile Enable : 0
Lens Manual Distortion Amount : 0
Perspective Vertical : 0
Perspective Horizontal : 0
Perspective Rotate : 0.0
Perspective Scale : 100
Auto Lateral CA : 0
Exposure 2012 : 0.00
Contrast 2012 : 0
Highlights 2012 : 0
Shadows 2012 : 0
Whites 2012 : 0
Blacks 2012 : 0
Clarity 2012 : 0
Convert To Grayscale : False
Tone Curve Name : Medium Contrast
Tone Curve Name 2012 : Linear
Camera Profile : Adobe Standard
Lens Profile Setup : LensDefaults
Has Settings : True
Crop Top : 0.140833
Crop Left : 0.023617
Crop Bottom : 0.866182
Crop Right : 0.938875
Crop Angle : -4.679259
Crop Constrain To Warp : 1
Has Crop : True
Already Applied : True
Creator : ATLE RISKA
Rights : RISKA.INFO
Tone Curve : 0, 0, 32, 22, 64, 56, 128, 128, 192, 196, 255, 255
Tone Curve Red : 0, 0, 255, 255
Tone Curve Green : 0, 0, 255, 255
Tone Curve Blue : 0, 0, 255, 255
Tone Curve PV2012 : 0, 0, 255, 255
Tone Curve PV2012 Red : 0, 0, 255, 255
Tone Curve PV2012 Green : 0, 0, 255, 255
Tone Curve PV2012 Blue : 0, 0, 255, 255
Image Width : 300
Image Height : 191
Bits Per Sample : 8
Color Components : 3
Aperture : 2.8
Image Size : 300x191
Megapixels : 0.057
Scale Factor To 35 mm Equivalent : 1.0
Shutter Speed : 1/5
Create Date : 2013:02:06 18:12:50.25
Date/Time Original : 2013:02:06 18:12:50.25
Modify Date : 2013:02:07 07:31:49.25
Circle Of Confusion : 0.030 mm
Depth Of Field : inf (12.17 m - inf)
Field Of View : 58.7 deg
Focal Length : 32.0 mm (35 mm equivalent: 32.0 mm)
Hyperfocal Distance : 12.17 m
Light Value : 2.3
Lens ID : AF-S Zoom-Nikkor 24-70mm f/2.8G ED