Uber Exif Photo
Make : NIKON CORPORATION
Camera Model Name : NIKON D700
Software : Adobe Photoshop Lightroom 6.12 (Macintosh)
Modify Date : 2017:09:10 13:32:41
Exposure Time : 1/80
F Number : 4.5
Exposure Program : Program AE
ISO : 500
Date/Time Original : 2017:05:05 07:55:16
Create Date : 2017:05:05 07:55:16
Shutter Speed Value : 1/80
Aperture Value : 4.5
Exposure Compensation : 0
Max Aperture Value : 2.8
Metering Mode : Multi-segment
Light Source : Unknown
Flash : No Flash
Focal Length : 180.0 mm
Color Space : sRGB
Sensing Method : One-chip color area
Scene Type : Directly photographed
CFA Pattern : [Red,Green][Green,Blue]
Custom Rendered : Normal
Exposure Mode : Auto
White Balance : Auto
Digital Zoom Ratio : 1
Focal Length In 35mm Format : 180 mm
Scene Capture Type : Standard
Gain Control : Low gain up
Contrast : Normal
Saturation : Normal
Sharpness : Normal
Subject Distance Range : Unknown
Serial Number : 2449563
Lens Info : 180mm f/2.8
Lens Model : 180.0 mm f/2.8
Profile Description : sRGB IEC61966-2.1
Creator Tool : Adobe Photoshop Lightroom 6.12 (Macintosh)
Lens : 180.0 mm f/2.8
Image Number : 5200
Approximate Focus Distance : 0.03
Distortion Correction Already Applied : True
Lateral Chromatic Aberration Correction Already Applied:
True
Vignette Correction Already Applied : True
Date Created : 2017:05:05 07:55:16.34
Format : image/jpeg
Version : 9.12
Process Version : 6.7
Auto White Version : 134348800
Color Temperature : 4150
Tint : +4
Luminance Smoothing : 42
Color Noise Reduction : 25
Vignette Amount : 0
Shadow Tint : 0
Red Hue : 0
Red Saturation : 0
Green Hue : 0
Green Saturation : 0
Blue Hue : 0
Blue Saturation : 0
Gray Mixer Red : -4
Gray Mixer Orange : -13
Gray Mixer Yellow : -17
Gray Mixer Green : -23
Gray Mixer Aqua : -20
Gray Mixer Blue : +6
Gray Mixer Purple : +14
Gray Mixer Magenta : +6
Split Toning Shadow Hue : 0
Split Toning Shadow Saturation : 0
Split Toning Highlight Hue : 0
Split Toning Highlight Saturation : 0
Split Toning Balance : 0
Parametric Shadows : 0
Parametric Darks : 0
Parametric Lights : 0
Parametric Highlights : 0
Parametric Shadow Split : 25
Parametric Midtone Split : 50
Parametric Highlight Split : 75
Sharpen Radius : +1.0
Sharpen Detail : 25
Sharpen Edge Masking : 0
Post Crop Vignette Amount : 0
Grain Amount : 0
Luminance Noise Reduction Detail : 50
Color Noise Reduction Detail : 50
Luminance Noise Reduction Contrast : 0
Color Noise Reduction Smoothness : 50
Lens Profile Enable : 1
Lens Manual Distortion Amount : 0
Perspective Vertical : 0
Perspective Horizontal : 0
Perspective Rotate : 0.0
Perspective Scale : 100
Perspective Aspect : 0
Perspective Upright : Off
Perspective X : 0.00
Perspective Y : 0.00
Auto Lateral CA : 1
Exposure 2012 : 0.00
Contrast 2012 : +57
Highlights 2012 : +10
Shadows 2012 : -31
Whites 2012 : +40
Blacks 2012 : -42
Clarity 2012 : +5
Dehaze : 0
Tone Map Strength : 0
Convert To Grayscale : True
Tone Curve Name : Linear
Tone Curve Name 2012 : Linear
Camera Profile : Adobe Standard
Lens Profile Setup : Custom
Lens Profile Name : Adobe (Nikon AF NIKKOR 180mm f/2.8D IF-ED)
Lens Profile Filename : NIKON D3X (Nikon AF NIKKOR 180mm f2.8D IF-ED) - RAW.lcp
Lens Profile Distortion Scale : 100
Lens Profile Chromatic Aberration Scale : 100
Lens Profile Vignetting Scale : 100
Has Settings : True
Crop Top : 0.000023
Crop Left : 0.069636
Crop Bottom : 0.999985
Crop Right : 0.955976
Crop Angle : 0.012816
Crop Constrain To Warp : 0
Has Crop : True
Already Applied : True
Tone Curve : 0, 0, 255, 255
Tone Curve Red : 0, 0, 255, 255
Tone Curve Green : 0, 0, 255, 255
Tone Curve Blue : 0, 0, 255, 255
Tone Curve PV2012 : 0, 0, 255, 255
Tone Curve PV2012 Red : 0, 0, 255, 255
Tone Curve PV2012 Green : 0, 0, 255, 255
Tone Curve PV2012 Blue : 0, 0, 255, 255
Image Width : 300
Image Height : 400
Bits Per Sample : 8
Color Components : 3
Aperture : 4.5
Image Size : 300x400
Megapixels : 0.120
Scale Factor To 35 mm Equivalent : 1.0
Shutter Speed : 1/80
Create Date : 2017:05:05 07:55:16.34
Date/Time Original : 2017:05:05 07:55:16.34
Circle Of Confusion : 0.030 mm
Depth Of Field : -0.00 m (0.03 - 0.03 m)
Field Of View : 11.4 deg
Focal Length : 180.0 mm (35 mm equivalent: 180.0 mm)
Hyperfocal Distance : 239.63 m
Light Value : 8.3
Lens ID : AF Nikkor 180mm f/2.8 IF-ED