Uber Exif Photo
By-line : Tony Johansson
By-line Title : Upphovsrättsinnehavare
Make : NIKON CORPORATION
Camera Model Name : NIKON 1 AW1
Orientation : Horizontal (normal)
Software : Capture NX 2.4.7 W
Modify Date : 2017:10:29 02:49:41
Artist : Tony Johansson
Exposure Time : 1/500
F Number : 4.5
Exposure Program : Not Defined
ISO : 160
Sensitivity Type : Recommended Exposure Index
Date/Time Original : 2017:05:17 19:13:12
Create Date : 2017:05:17 19:13:12
Shutter Speed Value : 1.7
Aperture Value : 4.5
Exposure Compensation : 0
Max Aperture Value : 3.7
Metering Mode : Multi-segment
Light Source : Unknown
Flash : No Flash
Focal Length : 12.5 mm
Maker Note Version : 2.11
Image Data Size : 3402285
Nikon Capture Version : Capture NX 2.4.7 W
IFD0 Offset : 1285
Preview IFD Offset : 1185
NEF Bit Depth : n/a (JPEG)
Color Space : sRGB
Exif Image Width : 2300
Exif Image Height : 1533
Sensing Method : One-chip color area
Scene Type : Directly photographed
CFA Pattern : [Red,Green][Green,Blue]
Custom Rendered : Normal
Exposure Mode : Auto
White Balance : Auto
Digital Zoom Ratio : 1
Focal Length In 35mm Format : 33 mm
Scene Capture Type : Landscape
Gain Control : None
Contrast : Normal
Saturation : Normal
Sharpness : Normal
Subject Distance Range : Unknown
Serial Number : 51008788
Lens Info : 11-27.5mm f/3.5-5.6
Lens Model : 1 NIKKOR AW 11-27.5mm f/3.5-5.6
Creator Tool : Adobe Photoshop Lightroom 6.13 (Windows)
Rating Percent : 0
Authors Position : Upphovsrättsinnehavare
Date Created : 2017:05:17 19:13:12.05
Format : image/jpeg
Lens : 1 NIKKOR AW 11-27.5mm f/3.5-5.6
Image Number : 923
Distortion Correction Already Applied : True
Lateral Chromatic Aberration Correction Already Applied:
True
Vignette Correction Already Applied : True
Version : 10.0
Process Version : 6.7
Auto White Version : 134348800
Color Temperature : 4900
Tint : -2
Luminance Smoothing : 67
Color Noise Reduction : 25
Vignette Amount : 0
Shadow Tint : 0
Red Hue : 0
Red Saturation : 0
Green Hue : 0
Green Saturation : 0
Blue Hue : 0
Blue Saturation : 0
Vibrance : +48
Hue Adjustment Red : 0
Hue Adjustment Orange : 0
Hue Adjustment Yellow : 0
Hue Adjustment Green : 0
Hue Adjustment Aqua : 0
Hue Adjustment Blue : 0
Hue Adjustment Purple : 0
Hue Adjustment Magenta : 0
Saturation Adjustment Red : 0
Saturation Adjustment Orange : 0
Saturation Adjustment Yellow : 0
Saturation Adjustment Green : 0
Saturation Adjustment Aqua : 0
Saturation Adjustment Blue : 0
Saturation Adjustment Purple : 0
Saturation Adjustment Magenta : 0
Luminance Adjustment Red : 0
Luminance Adjustment Orange : 0
Luminance Adjustment Yellow : 0
Luminance Adjustment Green : 0
Luminance Adjustment Aqua : 0
Luminance Adjustment Blue : 0
Luminance Adjustment Purple : 0
Luminance Adjustment Magenta : 0
Split Toning Shadow Hue : 0
Split Toning Shadow Saturation : 0
Split Toning Highlight Hue : 0
Split Toning Highlight Saturation : 0
Split Toning Balance : 0
Parametric Shadows : 0
Parametric Darks : 0
Parametric Lights : 0
Parametric Highlights : 0
Parametric Shadow Split : 25
Parametric Midtone Split : 50
Parametric Highlight Split : 75
Sharpen Radius : +1.3
Sharpen Detail : 73
Sharpen Edge Masking : 57
Post Crop Vignette Amount : 0
Grain Amount : 0
Luminance Noise Reduction Detail : 61
Color Noise Reduction Detail : 50
Luminance Noise Reduction Contrast : 0
Color Noise Reduction Smoothness : 50
Lens Profile Enable : 1
Lens Manual Distortion Amount : 0
Perspective Vertical : 0
Perspective Horizontal : 0
Perspective Rotate : 0.0
Perspective Scale : 100
Perspective Aspect : 0
Perspective Upright : Off
Perspective X : 0.00
Perspective Y : 0.00
Auto Lateral CA : 1
Exposure 2012 : +0.30
Contrast 2012 : 0
Highlights 2012 : +5
Shadows 2012 : -25
Whites 2012 : +36
Blacks 2012 : -46
Clarity 2012 : +40
Defringe Purple Amount : 0
Defringe Purple Hue Lo : 30
Defringe Purple Hue Hi : 70
Defringe Green Amount : 0
Defringe Green Hue Lo : 40
Defringe Green Hue Hi : 60
Dehaze : 0
Tone Map Strength : 0
Convert To Grayscale : False
Tone Curve Name : Linear
Tone Curve Name 2012 : Linear
Camera Profile : Adobe Standard
Lens Profile Setup : LensDefaults
Lens Profile Name : Adobe (Nikon 1 NIKKOR AW 11-27.5mm f/3.5-5.6)
Lens Profile Filename : NIKON 1 AW1 (Nikon 1 NIKKOR AW 11-27.5mm f3.5-5.6) - RAW.lcp
Lens Profile Distortion Scale : 100
Lens Profile Chromatic Aberration Scale : 100
Lens Profile Vignetting Scale : 100
Has Settings : True
Has Crop : False
Already Applied : True
Creator : Tony Johansson
Creator City : Göteborg
Creator Country : Sverige
Creator Postal Code : 41515
Creator Work Email : Tony64jo@hotmail.com
Tone Curve : 0, 0, 255, 255
Tone Curve Red : 0, 0, 255, 255
Tone Curve Green : 0, 0, 255, 255
Tone Curve Blue : 0, 0, 255, 255
Tone Curve PV2012 : 0, 0, 255, 255
Tone Curve PV2012 Red : 0, 0, 255, 255
Tone Curve PV2012 Green : 0, 0, 255, 255
Tone Curve PV2012 Blue : 0, 0, 255, 255
Gradient Based Corr What : Correction
Gradient Based Corr Amount : 1.000000
Gradient Based Corr Active : true
Gradient Based Corr Saturation : 0.018520
Gradient Based Corr Sharpness : 0.222220
Gradient Based Corr Brightness : 0.000000
Gradient Based Corr Toning Hue : 230.000000
Gradient Based Corr Toning Saturation : 0.000000
Gradient Based Corr Exposure 2012 : -0.389000
Gradient Based Corr Contrast 2012 : 0.277780
Gradient Based Corr Highlights 2012 : 0.185190
Gradient Based Corr Shadows 2012 : -0.203700
Gradient Based Corr Whites 2012 : 0.000000
Gradient Based Corr Blacks 2012 : 0.000000
Gradient Based Corr Clarity 2012 : 0.370370
Gradient Based Corr Dehaze : 0.000000
Gradient Based Corr Luminance Noise : 0.259260
Gradient Based Corr Moire : 0.000000
Gradient Based Corr Defringe : 0.000000
Gradient Based Corr Temperature : -0.018520
Gradient Based Corr Tint : -0.166670
Gradient Based Corr Mask What : Mask/Gradient
Gradient Based Corr Mask Value : 1.000000
Gradient Based Corr Mask Zero X : 0.529838
Gradient Based Corr Mask Zero Y : 0.307974
Gradient Based Corr Mask Full X : 0.529738
Gradient Based Corr Mask Full Y : 0.059179
Image Width : 308
Image Height : 208
Bits Per Sample : 8
Color Components : 3
Aperture : 4.5
Image Size : 308x208
Megapixels : 0.064
Scale Factor To 35 mm Equivalent : 2.6
Shutter Speed : 1/500
Create Date : 2017:05:17 19:13:12.05
Date/Time Original : 2017:05:17 19:13:12.05
Circle Of Confusion : 0.011 mm
Field Of View : 57.2 deg
Focal Length : 12.5 mm (35 mm equivalent: 33.0 mm)
Hyperfocal Distance : 3.05 m
Light Value : 12.6
Lens ID : 1 NIKKOR AW 11-27.5mm f/3.5-5.6