Uber Exif Photo
Make : NIKON CORPORATION
Camera Model Name : NIKON D7100
Orientation : Horizontal (normal)
Software : Adobe Photoshop CC 2017 (Windows)
Modify Date : 2018:02:10 15:25:36
Exposure Time : 1/250
F Number : 5.6
Exposure Program : Not Defined
ISO : 720
Sensitivity Type : Recommended Exposure Index
Date/Time Original : 2018:01:05 14:03:41
Create Date : 2018:01:05 14:03:41
Shutter Speed Value : 1/250
Aperture Value : 5.6
Exposure Compensation : 0
Max Aperture Value : 5.7
Metering Mode : Multi-segment
Light Source : Unknown
Flash : Off, Did not fire
Focal Length : 140.0 mm
Color Space : Uncalibrated
Exif Image Width : 6000
Exif Image Height : 4000
Sensing Method : One-chip color area
Scene Type : Directly photographed
CFA Pattern : [Red,Green][Green,Blue]
Custom Rendered : Normal
Exposure Mode : Auto
White Balance : Auto
Digital Zoom Ratio : 1
Focal Length In 35mm Format : 210 mm
Scene Capture Type : Standard
Gain Control : Low gain up
Contrast : Normal
Saturation : Normal
Sharpness : Normal
Subject Distance Range : Unknown
Serial Number : 9500072
Lens Info : 18-140mm f/3.5-5.6
Lens Model : 18.0-140.0 mm f/3.5-5.6
Profile Description : Adobe RGB (1998)
Creator Tool : Ver.1.03
Rating : 0
Lens : 18.0-140.0 mm f/3.5-5.6
Image Number : 8390
Approximate Focus Distance : 0.89
Date Created : 2018:01:05 14:03:41.006
Color Mode : RGB
ICC Profile Name : Adobe RGB (1998)
Format : image/jpeg
Raw File Name : DSC_8091.NEF
Version : 9.8
Process Version : 6.7
Auto White Version : 134348800
Color Temperature : 2850
Tint : +8
Luminance Smoothing : 0
Color Noise Reduction : 25
Vignette Amount : 0
Shadow Tint : 0
Red Hue : 0
Red Saturation : 0
Green Hue : 0
Green Saturation : 0
Blue Hue : 0
Blue Saturation : 0
Vibrance : 0
Hue Adjustment Red : 0
Hue Adjustment Orange : 0
Hue Adjustment Yellow : 0
Hue Adjustment Green : 0
Hue Adjustment Aqua : 0
Hue Adjustment Blue : 0
Hue Adjustment Purple : 0
Hue Adjustment Magenta : 0
Saturation Adjustment Red : 0
Saturation Adjustment Orange : 0
Saturation Adjustment Yellow : 0
Saturation Adjustment Green : 0
Saturation Adjustment Aqua : 0
Saturation Adjustment Blue : 0
Saturation Adjustment Purple : 0
Saturation Adjustment Magenta : 0
Luminance Adjustment Red : 0
Luminance Adjustment Orange : 0
Luminance Adjustment Yellow : 0
Luminance Adjustment Green : 0
Luminance Adjustment Aqua : 0
Luminance Adjustment Blue : 0
Luminance Adjustment Purple : 0
Luminance Adjustment Magenta : 0
Split Toning Shadow Hue : 0
Split Toning Shadow Saturation : 0
Split Toning Highlight Hue : 0
Split Toning Highlight Saturation : 0
Split Toning Balance : 0
Parametric Shadows : 0
Parametric Darks : 0
Parametric Lights : 0
Parametric Highlights : 0
Parametric Shadow Split : 25
Parametric Midtone Split : 50
Parametric Highlight Split : 75
Sharpen Radius : +1.0
Sharpen Detail : 25
Sharpen Edge Masking : 0
Post Crop Vignette Amount : 0
Grain Amount : 0
Color Noise Reduction Detail : 50
Color Noise Reduction Smoothness : 50
Lens Profile Enable : 0
Lens Manual Distortion Amount : 0
Perspective Vertical : 0
Perspective Horizontal : 0
Perspective Rotate : 0.0
Perspective Scale : 100
Perspective Aspect : 0
Perspective Upright : Auto
Perspective X : 0.00
Perspective Y : 0.00
Auto Lateral CA : 0
Exposure 2012 : +1.00
Contrast 2012 : +22
Highlights 2012 : -50
Shadows 2012 : 0
Whites 2012 : +22
Blacks 2012 : -20
Clarity 2012 : 0
Defringe Purple Amount : 0
Defringe Purple Hue Lo : 30
Defringe Purple Hue Hi : 70
Defringe Green Amount : 0
Defringe Green Hue Lo : 40
Defringe Green Hue Hi : 60
Dehaze : +10
Tone Map Strength : 0
Convert To Grayscale : False
Tone Curve Name : Medium Contrast
Tone Curve Name 2012 : Linear
Camera Profile : Adobe Standard
Lens Profile Setup : LensDefaults
Has Settings : True
Has Crop : False
Already Applied : True
Tone Curve : 0, 0, 32, 22, 64, 56, 128, 128, 192, 196, 255, 255
Tone Curve Red : 0, 0, 255, 255
Tone Curve Green : 0, 0, 255, 255
Tone Curve Blue : 0, 0, 255, 255
Tone Curve PV2012 : 0, 0, 255, 255
Tone Curve PV2012 Red : 0, 0, 255, 255
Tone Curve PV2012 Green : 0, 0, 255, 255
Tone Curve PV2012 Blue : 0, 0, 255, 255
Image Width : 350
Image Height : 233
Bits Per Sample : 8
Color Components : 3
Aperture : 5.6
Image Size : 350x233
Megapixels : 0.082
Scale Factor To 35 mm Equivalent : 1.5
Shutter Speed : 1/250
Create Date : 2018:01:05 14:03:41.60
Date/Time Original : 2018:01:05 14:03:41.60
Modify Date : 2018:02:10 15:25:36.60
Circle Of Confusion : 0.020 mm
Depth Of Field : 0.008 m (0.886 - 0.894 m)
Field Of View : 9.8 deg
Focal Length : 140.0 mm (35 mm equivalent: 210.0 mm)
Hyperfocal Distance : 174.73 m
Light Value : 10.1
Lens ID : AF-S DX Nikkor 18-140mm f/3.5-5.6G ED VR