Uber Exif Photo
By-line : XINGLAI ZHUANG
Copyright Notice : 2018 Xinglai Zhuang, All Rights Reserved
Make : NIKON CORPORATION
Camera Model Name : NIKON D800E
Orientation : Horizontal (normal)
Software : Adobe Photoshop CS6 (Windows)
Modify Date : 2018:03:15 19:57:46
Artist : XINGLAI ZHUANG
Copyright : 2018 Xinglai Zhuang, All Rights Reserved
Exposure Time : 1/1250
F Number : 5.6
Exposure Program : Manual
ISO : 280
Sensitivity Type : Recommended Exposure Index
Date/Time Original : 2018:03:05 10:34:40
Create Date : 2018:03:05 10:34:40
Shutter Speed Value : 1/1250
Aperture Value : 5.6
Exposure Compensation : 0
Max Aperture Value : 5.7
Metering Mode : Multi-segment
Light Source : Unknown
Flash : Off, Did not fire
Focal Length : 500.0 mm
Color Space : Uncalibrated
Exif Image Width : 1080
Exif Image Height : 1920
Sensing Method : One-chip color area
Scene Type : Directly photographed
CFA Pattern : [Red,Green][Green,Blue]
Custom Rendered : Normal
Exposure Mode : Manual
White Balance : Auto
Digital Zoom Ratio : 1
Focal Length In 35mm Format : 500 mm
Scene Capture Type : Standard
Gain Control : None
Contrast : Normal
Saturation : Normal
Sharpness : Normal
Subject Distance Range : Unknown
Serial Number : 8008700
Lens Info : 200-500mm f/5.6
Lens Model : 200.0-500.0 mm f/5.6
Profile Description : Adobe RGB (1998)
Format : image/jpeg
Creator Tool : Ver.1.10
Rating : 0
Lens : 200.0-500.0 mm f/5.6
Image Number : 42988
Approximate Focus Distance : 56.2
Date Created : 2018:03:05 10:34:40.008
Color Mode : RGB
ICC Profile Name : Adobe RGB (1998)
Raw File Name : 018_2218.NEF
Version : 7.1
Process Version : 6.7
Color Temperature : 6950
Tint : +10
Luminance Smoothing : 27
Color Noise Reduction : 25
Vignette Amount : 0
Shadow Tint : 0
Red Hue : 0
Red Saturation : 0
Green Hue : 0
Green Saturation : 0
Blue Hue : 0
Blue Saturation : 0
Vibrance : 0
Hue Adjustment Red : 0
Hue Adjustment Orange : 0
Hue Adjustment Yellow : 0
Hue Adjustment Green : 0
Hue Adjustment Aqua : 0
Hue Adjustment Blue : 0
Hue Adjustment Purple : 0
Hue Adjustment Magenta : 0
Saturation Adjustment Red : 0
Saturation Adjustment Orange : 0
Saturation Adjustment Yellow : 0
Saturation Adjustment Green : 0
Saturation Adjustment Aqua : 0
Saturation Adjustment Blue : 0
Saturation Adjustment Purple : 0
Saturation Adjustment Magenta : 0
Luminance Adjustment Red : 0
Luminance Adjustment Orange : 0
Luminance Adjustment Yellow : 0
Luminance Adjustment Green : 0
Luminance Adjustment Aqua : 0
Luminance Adjustment Blue : 0
Luminance Adjustment Purple : 0
Luminance Adjustment Magenta : 0
Split Toning Shadow Hue : 0
Split Toning Shadow Saturation : 0
Split Toning Highlight Hue : 0
Split Toning Highlight Saturation : 0
Split Toning Balance : 0
Parametric Shadows : 0
Parametric Darks : 0
Parametric Lights : 0
Parametric Highlights : 0
Parametric Shadow Split : 25
Parametric Midtone Split : 50
Parametric Highlight Split : 75
Sharpen Radius : +1.0
Sharpen Detail : 25
Sharpen Edge Masking : 0
Post Crop Vignette Amount : 0
Grain Amount : 0
Luminance Noise Reduction Detail : 50
Color Noise Reduction Detail : 50
Luminance Noise Reduction Contrast : 0
Lens Profile Enable : 0
Lens Manual Distortion Amount : 0
Perspective Vertical : 0
Perspective Horizontal : 0
Perspective Rotate : 0.0
Perspective Scale : 100
Auto Lateral CA : 0
Exposure 2012 : +0.15
Contrast 2012 : +8
Highlights 2012 : -83
Shadows 2012 : +66
Whites 2012 : -22
Blacks 2012 : -9
Clarity 2012 : 0
Defringe Purple Amount : 3
Defringe Purple Hue Lo : 30
Defringe Purple Hue Hi : 70
Defringe Green Amount : 0
Defringe Green Hue Lo : 40
Defringe Green Hue Hi : 60
Convert To Grayscale : False
Tone Curve Name 2012 : Linear
Camera Profile : Adobe Standard
Lens Profile Setup : LensDefaults
Has Settings : True
Has Crop : False
Already Applied : True
Creator : XINGLAI ZHUANG
Rights : 2018 Xinglai Zhuang, All Rights Reserved
Tone Curve PV2012 : 0, 0, 255, 255
Tone Curve PV2012 Red : 0, 0, 255, 255
Tone Curve PV2012 Green : 0, 0, 255, 255
Tone Curve PV2012 Blue : 0, 0, 255, 255
Image Width : 350
Image Height : 622
Bits Per Sample : 8
Color Components : 3
Aperture : 5.6
Image Size : 350x622
Megapixels : 0.218
Scale Factor To 35 mm Equivalent : 1.0
Shutter Speed : 1/1250
Create Date : 2018:03:05 10:34:40.80
Date/Time Original : 2018:03:05 10:34:40.80
Modify Date : 2018:03:15 19:57:46.80
Circle Of Confusion : 0.030 mm
Depth Of Field : 4.22 m (54.17 - 58.39 m)
Field Of View : 4.1 deg
Focal Length : 500.0 mm (35 mm equivalent: 500.0 mm)
Hyperfocal Distance : 1485.80 m
Light Value : 13.8
Lens ID : AF-S Nikkor 200-500mm f/5.6E ED VR