Uber Exif Photo
Photometric Interpretation : RGB
Make : Canon
Camera Model Name : Canon EOS 5D Mark III
Orientation : Horizontal (normal)
Samples Per Pixel : 3
Planar Configuration : Chunky
Software : Adobe Photoshop CC 2019 (Windows)
Modify Date : 2018:10:26 13:56:35
Exposure Time : 1/100
F Number : 18.0
Exposure Program : Aperture-priority AE
ISO : 100
Sensitivity Type : Recommended Exposure Index
Recommended Exposure Index : 100
Date/Time Original : 2015:05:27 08:31:59
Create Date : 2015:05:27 08:31:59
Shutter Speed Value : 1/100
Aperture Value : 18.0
Exposure Compensation : 0
Max Aperture Value : 4.0
Metering Mode : Multi-segment
Flash : Off, Did not fire
Focal Length : 24.0 mm
Color Space : Uncalibrated
Exif Image Width : 800
Exif Image Height : 533
Custom Rendered : Normal
Exposure Mode : Auto
White Balance : Manual
Scene Capture Type : Standard
Serial Number : 083024002019
Lens Info : 24-105mm f/?
Lens Model : EF24-105mm f/4L IS USM
Lens Serial Number : 0000125785
Profile Description : Adobe RGB (1998)
Creator Tool : Adobe Photoshop CC 2018 (Windows)
Lens : EF24-105mm f/4L IS USM
Image Number : 0
Approximate Focus Distance : 11.9
Flash Compensation : 0
Firmware : 1.3.3
Date Created : 2015:05:27 08:31:59
Color Mode : RGB
ICC Profile Name : Adobe RGB (1998)
Format : image/jpeg
Version : 8.7
Process Version : 6.7
Auto White Version : 134348800
Color Temperature : 4381
Tint : +8
Saturation : +17
Sharpness : 136
Luminance Smoothing : 26
Color Noise Reduction : 36
Vignette Amount : 0
Shadow Tint : 0
Red Hue : 0
Red Saturation : 0
Green Hue : 0
Green Saturation : 0
Blue Hue : 0
Blue Saturation : 0
Vibrance : +5
Hue Adjustment Red : 0
Hue Adjustment Orange : 0
Hue Adjustment Yellow : +16
Hue Adjustment Green : 0
Hue Adjustment Aqua : -7
Hue Adjustment Blue : +20
Hue Adjustment Purple : +27
Hue Adjustment Magenta : +18
Saturation Adjustment Red : 0
Saturation Adjustment Orange : 0
Saturation Adjustment Yellow : +29
Saturation Adjustment Green : 0
Saturation Adjustment Aqua : 0
Saturation Adjustment Blue : 0
Saturation Adjustment Purple : +6
Saturation Adjustment Magenta : +7
Luminance Adjustment Red : 0
Luminance Adjustment Orange : 0
Luminance Adjustment Yellow : +27
Luminance Adjustment Green : -4
Luminance Adjustment Aqua : +2
Luminance Adjustment Blue : -13
Luminance Adjustment Purple : -7
Luminance Adjustment Magenta : -9
Split Toning Shadow Hue : 0
Split Toning Shadow Saturation : 0
Split Toning Highlight Hue : 0
Split Toning Highlight Saturation : 19
Split Toning Balance : 0
Parametric Shadows : +67
Parametric Darks : 0
Parametric Lights : -9
Parametric Highlights : +36
Parametric Shadow Split : 25
Parametric Midtone Split : 50
Parametric Highlight Split : 75
Sharpen Radius : +1.0
Sharpen Detail : 25
Sharpen Edge Masking : 20
Post Crop Vignette Amount : 0
Grain Amount : 0
Luminance Noise Reduction Detail : 50
Color Noise Reduction Detail : 50
Luminance Noise Reduction Contrast : 0
Color Noise Reduction Smoothness : 50
Lens Profile Enable : 1
Lens Manual Distortion Amount : 0
Perspective Vertical : 0
Perspective Horizontal : 0
Perspective Rotate : 0.0
Perspective Scale : 100
Perspective Aspect : 0
Perspective Upright : Off
Auto Lateral CA : 1
Exposure 2012 : 0.00
Contrast 2012 : -5
Highlights 2012 : -48
Shadows 2012 : +74
Whites 2012 : +57
Blacks 2012 : -67
Clarity 2012 : -15
Defringe Purple Amount : 0
Defringe Purple Hue Lo : 30
Defringe Purple Hue Hi : 70
Defringe Green Amount : 0
Defringe Green Hue Lo : 40
Defringe Green Hue Hi : 60
Convert To Grayscale : False
Tone Curve Name : Linear
Tone Curve Name 2012 : Linear
Camera Profile : Adobe Standard
Lens Profile Setup : LensDefaults
Lens Profile Name : Adobe (Canon EF 24-105mm f/4 L IS USM)
Lens Profile Filename : Canon EOS-1Ds Mark III (Canon EF 24-105mm f4 L IS USM) - RAW.lcp
Lens Profile Distortion Scale : 100
Lens Profile Chromatic Aberration Scale : 100
Lens Profile Vignetting Scale : 100
Has Settings : True
Has Crop : False
Already Applied : True
Tone Curve : 0, 0, 255, 255
Tone Curve Red : 0, 0, 255, 255
Tone Curve Green : 0, 0, 255, 255
Tone Curve Blue : 0, 0, 255, 255
Tone Curve PV2012 : 0, 0, 255, 255
Tone Curve PV2012 Red : 0, 0, 255, 255
Tone Curve PV2012 Green : 0, 0, 255, 255
Tone Curve PV2012 Blue : 0, 0, 255, 255
Image Width : 350
Image Height : 233
Bits Per Sample : 8
Color Components : 3
Aperture : 18.0
Image Size : 350x233
Megapixels : 0.082
Scale Factor To 35 mm Equivalent : 7.2
Shutter Speed : 1/100
Create Date : 2015:05:27 08:31:59.00
Date/Time Original : 2015:05:27 08:31:59.00
Circle Of Confusion : 0.004 mm
Depth Of Field : inf (4.67 m - inf)
Field Of View : 11.9 deg
Focal Length : 24.0 mm (35 mm equivalent: 172.8 mm)
Hyperfocal Distance : 7.67 m
Light Value : 15.0
Lens ID : Canon EF 24-105mm f/4L IS USM