Uber Exif Photo
Photometric Interpretation : RGB
Make : Canon
Camera Model Name : Canon EOS 5D Mark III
Orientation : Horizontal (normal)
Samples Per Pixel : 4
Planar Configuration : Chunky
Software : Adobe Photoshop CC 2019 (Windows)
Modify Date : 2018:11:23 17:03:55
Exposure Time : 101
F Number : 14.0
Exposure Program : Bulb
ISO : 100
Sensitivity Type : Recommended Exposure Index
Recommended Exposure Index : 100
Date/Time Original : 2017:07:14 18:49:39
Create Date : 2017:07:14 18:49:39
Shutter Speed Value : 101
Aperture Value : 14.0
Exposure Compensation : 0
Max Aperture Value : 4.0
Metering Mode : Multi-segment
Flash : Off, Did not fire
Focal Length : 24.0 mm
Color Space : sRGB
Exif Image Width : 600
Exif Image Height : 387
Custom Rendered : Normal
Exposure Mode : Auto
White Balance : Manual
Scene Capture Type : Standard
Serial Number : 083024002019
Lens Info : 24-105mm f/?
Lens Model : EF24-105mm f/4L IS USM
Lens Serial Number : 0000125785
Profile Description : sRGB IEC61966-2.1
Creator Tool : Adobe Photoshop CC 2019 (Windows)
Label : Second
Lens : EF24-105mm f/4L IS USM
Image Number : 0
Approximate Focus Distance : 6.51
Flash Compensation : 0
Firmware : 1.3.3
Lateral Chromatic Aberration Correction Already Applied:
True
Date Created : 2017:07:14 18:49:39.069
Color Mode : RGB
ICC Profile Name : sRGB IEC61966-2.1
Format : image/jpeg
Version : 10.2
Process Version : 10.0
Color Temperature : 6500
Tint : +11
Saturation : +52
Sharpness : 96
Luminance Smoothing : 36
Color Noise Reduction : 36
Vignette Amount : 0
Shadow Tint : 0
Red Hue : 0
Red Saturation : 0
Green Hue : 0
Green Saturation : 0
Blue Hue : 0
Blue Saturation : 0
Vibrance : +31
Hue Adjustment Red : 0
Hue Adjustment Orange : -40
Hue Adjustment Yellow : 0
Hue Adjustment Green : +13
Hue Adjustment Aqua : -2
Hue Adjustment Blue : 0
Hue Adjustment Purple : 0
Hue Adjustment Magenta : 0
Saturation Adjustment Red : 0
Saturation Adjustment Orange : -13
Saturation Adjustment Yellow : 0
Saturation Adjustment Green : +4
Saturation Adjustment Aqua : 0
Saturation Adjustment Blue : -1
Saturation Adjustment Purple : -2
Saturation Adjustment Magenta : 0
Luminance Adjustment Red : 0
Luminance Adjustment Orange : 0
Luminance Adjustment Yellow : 0
Luminance Adjustment Green : +20
Luminance Adjustment Aqua : -7
Luminance Adjustment Blue : +16
Luminance Adjustment Purple : 0
Luminance Adjustment Magenta : 0
Split Toning Shadow Hue : 0
Split Toning Shadow Saturation : 0
Split Toning Highlight Hue : 0
Split Toning Highlight Saturation : 19
Split Toning Balance : 0
Parametric Shadows : +34
Parametric Darks : +30
Parametric Lights : -20
Parametric Highlights : +63
Parametric Shadow Split : 25
Parametric Midtone Split : 50
Parametric Highlight Split : 75
Sharpen Radius : +1.0
Sharpen Detail : 25
Sharpen Edge Masking : 0
Post Crop Vignette Amount : 0
Grain Amount : 0
Luminance Noise Reduction Detail : 50
Color Noise Reduction Detail : 50
Luminance Noise Reduction Contrast : 0
Color Noise Reduction Smoothness : 50
Lens Profile Enable : 0
Lens Manual Distortion Amount : 0
Perspective Vertical : 0
Perspective Horizontal : 0
Perspective Rotate : 0.0
Perspective Scale : 100
Perspective Aspect : 0
Perspective Upright : Off
Perspective X : 0.00
Perspective Y : 0.00
Auto Lateral CA : 1
Exposure 2012 : -2.46
Contrast 2012 : +12
Highlights 2012 : -14
Shadows 2012 : +100
Whites 2012 : +43
Blacks 2012 : -48
Clarity 2012 : +43
Defringe Purple Amount : 0
Defringe Purple Hue Lo : 30
Defringe Purple Hue Hi : 70
Defringe Green Amount : 0
Defringe Green Hue Lo : 40
Defringe Green Hue Hi : 60
Dehaze : 0
Convert To Grayscale : False
Tone Curve Name : Linear
Tone Curve Name 2012 : Linear
Camera Profile : Adobe Standard
Lens Profile Setup : LensDefaults
Has Settings : True
Has Crop : False
Already Applied : True
Tone Curve : 0, 0, 255, 255
Tone Curve Red : 0, 0, 255, 255
Tone Curve Green : 0, 0, 255, 255
Tone Curve Blue : 0, 0, 255, 255
Tone Curve PV2012 : 0, 0, 255, 255
Tone Curve PV2012 Red : 0, 0, 255, 255
Tone Curve PV2012 Green : 0, 0, 255, 255
Tone Curve PV2012 Blue : 0, 0, 255, 255
Paint Correction What : Correction
Paint Correction Amount : 1.000000
Paint Correction Active : true
Paint Correction Saturation : 0.000000
Paint Correction Sharpness : 0.000000
Paint Correction Brightness : 0.000000
Paint Correction Toning Hue : 0.000000
Paint Correction Toning Saturation : 0.000000
Paint Correction Exposure 2012 : 0.262500
Paint Correction Contrast 2012 : 0.000000
Paint Correction Highlights 2012 : 0.000000
Paint Correction Shadows 2012 : 0.000000
Paint Correction Whites 2012 : 0.000000
Paint Correction Blacks 2012 : 0.000000
Paint Correction Clarity 2012 : -0.173910
Paint Correction Dehaze : 0.000000
Paint Correction Luminance Noise : 0.000000
Paint Correction Moire : 0.000000
Paint Correction Defringe : 0.000000
Paint Correction Temperature : 0.000000
Paint Correction Tint : 0.000000
Paint Correction Mask What : Mask/Paint
Paint Correction Mask Value : 1.000000
Paint Correction Mask Radius : 0.038814
Paint Correction Mask Flow : 1.000000
Paint Correction Mask Center Weight : 0.000000
Paint Correction Range Mask Version : +2
Paint Correction Range Mask Type : 0
Paint Correction Range Mask Color Amount : 0.500000
Paint Correction Range Mask Lum Min : 0.000000
Paint Correction Range Mask Lum Max : 1.000000
Paint Correction Range Mask Lum Feather : 0.500000
Gradient Based Corr Range Mask Version : +2, +2
Gradient Based Corr Range Mask Type : 0, 0
Gradient Based Corr Range Mask Color Amount : 0.500000, 0.500000
Gradient Based Corr Range Mask Lum Min : 0.000000, 0.000000
Gradient Based Corr Range Mask Lum Max : 1.000000, 1.000000
Gradient Based Corr Range Mask Lum Feather : 0.500000, 0.500000
Gradient Based Corr What : Correction
Gradient Based Corr Amount : 1.000000
Gradient Based Corr Active : true
Gradient Based Corr Saturation : 0.000000
Gradient Based Corr Sharpness : -0.095240
Gradient Based Corr Brightness : 0.000000
Gradient Based Corr Toning Hue : 191.000000
Gradient Based Corr Toning Saturation : 0.500000
Gradient Based Corr Exposure 2012 : -0.217500
Gradient Based Corr Contrast 2012 : 0.000000
Gradient Based Corr Highlights 2012 : -1.000000
Gradient Based Corr Shadows 2012 : 0.000000
Gradient Based Corr Whites 2012 : -0.404760
Gradient Based Corr Blacks 2012 : 0.000000
Gradient Based Corr Clarity 2012 : -0.261900
Gradient Based Corr Dehaze : 0.000000
Gradient Based Corr Luminance Noise : 0.000000
Gradient Based Corr Moire : 0.000000
Gradient Based Corr Defringe : 0.000000
Gradient Based Corr Temperature : -0.320000
Gradient Based Corr Tint : 0.000000
Gradient Based Corr Mask What : Mask/Gradient
Gradient Based Corr Mask Value : 1.000000
Gradient Based Corr Mask Zero X : 0.484826
Gradient Based Corr Mask Zero Y : 0.518900
Gradient Based Corr Mask Full X : 0.472391
Gradient Based Corr Mask Full Y : 0.025244
Image Width : 350
Image Height : 226
Bits Per Sample : 8
Color Components : 3
Aperture : 14.0
Image Size : 350x226
Megapixels : 0.079
Scale Factor To 35 mm Equivalent : 9.7
Shutter Speed : 101
Date/Time Original : 2017:07:14 18:49:39.69
Circle Of Confusion : 0.003 mm
Depth Of Field : 8.35 m (4.37 - 12.73 m)
Field Of View : 8.8 deg
Focal Length : 24.0 mm (35 mm equivalent: 232.7 mm)
Hyperfocal Distance : 13.28 m
Light Value : 1.0
Lens ID : Canon EF 24-105mm f/4L IS USM