Uber Exif Photo
Make : Leica Camera AG
Camera Model Name : M9 Digital Camera
Software : 1.116
Modify Date : 2010:07:24 10:40:50
Exposure Time : 1/1000
F Number : 1.2
Exposure Program : Aperture-priority AE
ISO : 320
Date/Time Original : 2010:07:24 08:21:43
Create Date : 2010:07:24 08:21:43
Shutter Speed Value : 1/1000
Aperture Value : 1.2
Exposure Compensation : 0
Max Aperture Value : 1.0
Metering Mode : Center-weighted average
Light Source : Unknown
Focal Length : 50.0 mm
Contrast : Normal
Sharpening : Normal
Saturation : Normal
JPEG Quality : Fine
White Balance : Auto
WB RGB Levels : 0.4594761344 1 0.8332824738
User Profile :
JPEG Size : 5216x3472
Serial Number : 3838401
Firmware Version : 1.116
Base ISO : 160
Sensor Width : 5270
Sensor Height : 3516
Sensor Bit Depth : 14
Camera Temperature : 28 C
Lens Type : Noctilux-M 50mm f/1
Approximate F Number : 0.5
Measured LV : 5.52
External Sensor Brightness Value : 2.85
Scene Type : Directly photographed
Exposure Mode : Manual
Digital Zoom Ratio : 0
Focal Length In 35mm Format : 50 mm
Scene Capture Type : Standard
Maker Note Safety : Safe
Profile Description : sRGB IEC61966-2.1
Date/Time Digitized : 2010:07:24 08:21:43+08:00
Exif Image Width : 1303
Exif Image Height : 867
Creator Tool : Adobe Photoshop Lightroom
Lens : Leica Noctilux-M 50mm f/1
Version : 5.6
Color Temperature : 4900
Tint : +20
Exposure : +0.33
Shadows : 8
Brightness : +35
Sharpness : 25
Luminance Smoothing : 0
Color Noise Reduction : 25
Chromatic Aberration R : 0
Chromatic Aberration B : 0
Vignette Amount : 0
Shadow Tint : 0
Red Hue : 0
Red Saturation : 0
Green Hue : 0
Green Saturation : 0
Blue Hue : 0
Blue Saturation : 0
Fill Light : 3
Vibrance : +17
Highlight Recovery : 25
Clarity : +15
Defringe : 0
Hue Adjustment Red : 0
Hue Adjustment Orange : 0
Hue Adjustment Yellow : 0
Hue Adjustment Green : 0
Hue Adjustment Aqua : 0
Hue Adjustment Blue : 0
Hue Adjustment Purple : 0
Hue Adjustment Magenta : 0
Saturation Adjustment Red : 0
Saturation Adjustment Orange : 0
Saturation Adjustment Yellow : -13
Saturation Adjustment Green : 0
Saturation Adjustment Aqua : 0
Saturation Adjustment Blue : 0
Saturation Adjustment Purple : 0
Saturation Adjustment Magenta : 0
Luminance Adjustment Red : 0
Luminance Adjustment Orange : 0
Luminance Adjustment Yellow : +13
Luminance Adjustment Green : 0
Luminance Adjustment Aqua : 0
Luminance Adjustment Blue : 0
Luminance Adjustment Purple : 0
Luminance Adjustment Magenta : 0
Split Toning Shadow Hue : 0
Split Toning Shadow Saturation : 0
Split Toning Highlight Hue : 0
Split Toning Highlight Saturation : 0
Split Toning Balance : 0
Parametric Shadows : +40
Parametric Darks : +22
Parametric Lights : 0
Parametric Highlights : 0
Parametric Shadow Split : 25
Parametric Midtone Split : 50
Parametric Highlight Split : 75
Sharpen Radius : +1.0
Sharpen Detail : 25
Sharpen Edge Masking : 0
Post Crop Vignette Amount : 0
Convert To Grayscale : False
Tone Curve Name : Medium Contrast
Camera Profile : Adobe Standard
Has Settings : True
Crop Top : 0.065746
Crop Left : 0
Crop Bottom : 0.861477
Crop Right : 0.795731
Crop Angle : 0
Crop Width : 1303
Crop Height : 867
Crop Unit : pixels
Has Crop : True
Already Applied : True
Flash Fired : False
Flash Return : No return detection
Flash Mode : Unknown
Flash Function : False
Flash Red Eye Mode : False
Tone Curve : 0, 0, 32, 22, 64, 56, 128, 128, 192, 196, 255, 255
Image Width : 300
Image Height : 200
Bits Per Sample : 8
Color Components : 3
Aperture : 1.2
Blue Balance : 0.833282
Image Size : 300x200
Lens ID : Noctilux-M 50mm f/1
Megapixels : 0.060
Red Balance : 0.459476
Scale Factor To 35 mm Equivalent : 1.0
Shutter Speed : 1/1000
Flash : No Flash
Circle Of Confusion : 0.030 mm
Field Of View : 39.6 deg
Focal Length : 50.0 mm (35 mm equivalent: 50.0 mm)
Hyperfocal Distance : 69.34 m
Light Value : 8.8