Uber Exif Photo
Copyright Notice : © Tony Wright
Make : NIKON CORPORATION
Camera Model Name : NIKON D5200
Software : Adobe Lightroom 2.3 (Macintosh)
Modify Date : 2019:06:26 16:01:13
Copyright : © Tony Wright
Exposure Time : 1/3200
F Number : 4.0
Exposure Program : Manual
ISO : 320
Sensitivity Type : Recommended Exposure Index
Date/Time Original : 2019:06:26 13:22:29
Create Date : 2019:06:26 13:22:29
Shutter Speed Value : 1/3200
Aperture Value : 4.0
Exposure Compensation : 0
Max Aperture Value : 4.0
Metering Mode : Multi-segment
Light Source : Unknown
Flash : No Flash
Focal Length : 300.0 mm
User Comment : copyright TCR-imaging 07797 818812
Color Space : sRGB
Sensing Method : One-chip color area
Scene Type : Directly photographed
CFA Pattern : [Red,Green][Green,Blue]
Custom Rendered : Normal
Exposure Mode : Manual
White Balance : Auto
Digital Zoom Ratio : 1
Focal Length In 35mm Format : 450 mm
Scene Capture Type : Standard
Gain Control : None
Contrast : Normal
Saturation : Normal
Sharpness : Soft
Subject Distance Range : Unknown
Serial Number : 4321871
Lens Info : 300mm f/4
Lens Model : 300.0 mm f/4.0
Profile Description : sRGB IEC61966-2.1
Creator Tool : Adobe Lightroom 2.3 (Macintosh)
Lens : 300.0 mm f/4.0
Image Number : 65399
Approximate Focus Distance : 7.08
Date Created : 2019:06:26 13:22:29.70
Format : image/jpeg
Raw File Name : DSC_0033.NEF
Version : 11.3
Process Version : 11.0
Color Temperature : 4550
Tint : 0
Luminance Smoothing : 0
Color Noise Reduction : 25
Vignette Amount : 0
Shadow Tint : 0
Red Hue : 0
Red Saturation : 0
Green Hue : 0
Green Saturation : 0
Blue Hue : 0
Blue Saturation : 0
Vibrance : 0
Hue Adjustment Red : 0
Hue Adjustment Orange : 0
Hue Adjustment Yellow : 0
Hue Adjustment Green : 0
Hue Adjustment Aqua : 0
Hue Adjustment Blue : 0
Hue Adjustment Purple : 0
Hue Adjustment Magenta : 0
Saturation Adjustment Red : 0
Saturation Adjustment Orange : 0
Saturation Adjustment Yellow : 0
Saturation Adjustment Green : 0
Saturation Adjustment Aqua : 0
Saturation Adjustment Blue : 0
Saturation Adjustment Purple : 0
Saturation Adjustment Magenta : 0
Luminance Adjustment Red : 0
Luminance Adjustment Orange : 0
Luminance Adjustment Yellow : 0
Luminance Adjustment Green : 0
Luminance Adjustment Aqua : 0
Luminance Adjustment Blue : 0
Luminance Adjustment Purple : 0
Luminance Adjustment Magenta : 0
Split Toning Shadow Hue : 0
Split Toning Shadow Saturation : 0
Split Toning Highlight Hue : 0
Split Toning Highlight Saturation : 0
Split Toning Balance : 0
Parametric Shadows : 0
Parametric Darks : 0
Parametric Lights : 0
Parametric Highlights : 0
Parametric Shadow Split : 25
Parametric Midtone Split : 50
Parametric Highlight Split : 75
Sharpen Radius : +1.0
Sharpen Detail : 25
Sharpen Edge Masking : 0
Post Crop Vignette Amount : 0
Grain Amount : 0
Color Noise Reduction Detail : 50
Color Noise Reduction Smoothness : 50
Lens Profile Enable : 0
Lens Manual Distortion Amount : 0
Perspective Vertical : 0
Perspective Horizontal : 0
Perspective Rotate : 0.0
Perspective Scale : 100
Perspective Aspect : 0
Perspective Upright : Off
Perspective X : 0.00
Perspective Y : 0.00
Auto Lateral CA : 0
Exposure 2012 : 0.00
Contrast 2012 : 0
Highlights 2012 : 0
Shadows 2012 : 0
Whites 2012 : 0
Blacks 2012 : -6
Clarity 2012 : +24
Defringe Purple Amount : 0
Defringe Purple Hue Lo : 30
Defringe Purple Hue Hi : 70
Defringe Green Amount : 0
Defringe Green Hue Lo : 40
Defringe Green Hue Hi : 60
Dehaze : -6
Texture : +40
Tone Map Strength : 0
Convert To Grayscale : False
Override Look Vignette : False
Tone Curve Name : Linear
Tone Curve Name 2012 : Linear
Camera Profile : Adobe Standard
Lens Profile Setup : LensDefaults
Has Settings : True
Crop Top : 0.334964
Crop Left : 0.317143
Crop Bottom : 0.684649
Crop Right : 0.668434
Crop Angle : -0.063223
Crop Constrain To Warp : 0
Has Crop : True
Already Applied : True
Rights : © Tony Wright
Tone Curve : 0, 0, 255, 255
Tone Curve Red : 0, 0, 255, 255
Tone Curve Green : 0, 0, 255, 255
Tone Curve Blue : 0, 0, 255, 255
Tone Curve PV2012 : 0, 0, 255, 255
Tone Curve PV2012 Red : 0, 0, 255, 255
Tone Curve PV2012 Green : 0, 0, 255, 255
Tone Curve PV2012 Blue : 0, 0, 255, 255
Look Name : Adobe Color
Look Amount : 1.000000
Look Supports Amount : false
Look Supports Monochrome : false
Look Supports Output Referred : false
Look Group : Profiles
Look Parameters Version : 11.3
Look Parameters Process Version : 11.0
Look Parameters Convert To Grayscale : False
Look Parameters Camera Profile : Adobe Standard
Look Parameters Look Table : E1095149FDB39D7A057BAB208837E2E1
Look Parameters Tone Curve PV2012 : 0, 0, 22, 16, 40, 35, 127, 127, 224, 230, 240, 246, 255, 255
Look Parameters Tone Curve PV2012 Red : 0, 0, 255, 255
Look Parameters Tone Curve PV2012 Green : 0, 0, 255, 255
Look Parameters Tone Curve PV2012 Blue : 0, 0, 255, 255
Image Width : 350
Image Height : 233
Bits Per Sample : 8
Color Components : 3
Aperture : 4.0
Image Size : 350x233
Megapixels : 0.082
Scale Factor To 35 mm Equivalent : 1.5
Shutter Speed : 1/3200
Create Date : 2019:06:26 13:22:29.70
Date/Time Original : 2019:06:26 13:22:29.70
Modify Date : 2019:06:26 16:01:13+02:00
Circle Of Confusion : 0.020 mm
Depth Of Field : 0.09 m (7.04 - 7.12 m)
Field Of View : 4.6 deg
Focal Length : 300.0 mm (35 mm equivalent: 450.0 mm)
Hyperfocal Distance : 1123.27 m
Light Value : 14.0
Lens ID : AF-S Nikkor 300mm f/4D IF-ED