Uber Exif Photo
Make : NIKON CORPORATION
Camera Model Name : NIKON Z 6
Orientation : Horizontal (normal)
Software : Adobe Photoshop CS6 (Macintosh)
Modify Date : 2019:11:11 18:07:24
Exposure Time : 1/400
F Number : 2.8
Exposure Program : Aperture-priority AE
ISO : 200
Sensitivity Type : Recommended Exposure Index
Recommended Exposure Index : 200
Date/Time Original : 2019:11:11 12:02:25
Create Date : 2019:11:11 12:02:25
Shutter Speed Value : 1/400
Aperture Value : 2.8
Exposure Compensation : 0
Metering Mode : Multi-segment
Light Source : Unknown
Flash : No Flash
Focal Length : 35.0 mm
Color Space : Uncalibrated
Exif Image Width : 1428
Exif Image Height : 1024
Sensing Method : One-chip color area
Scene Type : Directly photographed
CFA Pattern : [Red,Green][Green,Blue]
Custom Rendered : Custom
Exposure Mode : Auto
White Balance : Auto
Focal Length In 35mm Format : 35 mm
Scene Capture Type : Standard
Gain Control : None
Contrast : Normal
Saturation : Normal
Sharpness : Normal
Subject Distance Range : Unknown
Serial Number : 3038491
Lens Info : 35mm f/2
Lens Model : 35.0 mm f/2.0
Profile Description : Adobe RGB (1998)
Creator Tool : Adobe DNG Converter 11.4.1 (Macintosh)
Rating : 0
Luminance Noise Reduction Detail : 75
Luminance Noise Reduction Contrast : 0
Lens : 35.0 mm f/2.0
Image Number : 521
Date Created : 2019:11:11 12:02:25.021-05:00
Color Mode : RGB
ICC Profile Name : Adobe RGB (1998)
Format : image/jpeg
Raw File Name : DSC_0525.dng
Version : 9.1.1
Process Version : 6.7
Auto White Version : 134348800
Color Temperature : 5350
Tint : +8
Luminance Smoothing : 0
Color Noise Reduction : 25
Vignette Amount : 0
Shadow Tint : 0
Red Hue : 0
Red Saturation : 0
Green Hue : 0
Green Saturation : 0
Blue Hue : 0
Blue Saturation : 0
Vibrance : 0
Hue Adjustment Red : 0
Hue Adjustment Orange : 0
Hue Adjustment Yellow : 0
Hue Adjustment Green : 0
Hue Adjustment Aqua : 0
Hue Adjustment Blue : 0
Hue Adjustment Purple : 0
Hue Adjustment Magenta : 0
Saturation Adjustment Red : 0
Saturation Adjustment Orange : 0
Saturation Adjustment Yellow : 0
Saturation Adjustment Green : 0
Saturation Adjustment Aqua : 0
Saturation Adjustment Blue : 0
Saturation Adjustment Purple : 0
Saturation Adjustment Magenta : 0
Luminance Adjustment Red : 0
Luminance Adjustment Orange : 0
Luminance Adjustment Yellow : 0
Luminance Adjustment Green : 0
Luminance Adjustment Aqua : 0
Luminance Adjustment Blue : 0
Luminance Adjustment Purple : 0
Luminance Adjustment Magenta : 0
Split Toning Shadow Hue : 0
Split Toning Shadow Saturation : 0
Split Toning Highlight Hue : 0
Split Toning Highlight Saturation : 0
Split Toning Balance : 0
Parametric Shadows : 0
Parametric Darks : 0
Parametric Lights : 0
Parametric Highlights : 0
Parametric Shadow Split : 25
Parametric Midtone Split : 50
Parametric Highlight Split : 75
Sharpen Radius : +1.0
Sharpen Detail : 25
Sharpen Edge Masking : 0
Post Crop Vignette Amount : 0
Grain Amount : 0
Color Noise Reduction Detail : 50
Color Noise Reduction Smoothness : 50
Lens Profile Enable : 0
Lens Manual Distortion Amount : 0
Perspective Vertical : 0
Perspective Horizontal : 0
Perspective Rotate : 0.0
Perspective Scale : 100
Perspective Aspect : 0
Perspective Upright : Off
Auto Lateral CA : 0
Exposure 2012 : 0.00
Contrast 2012 : 0
Highlights 2012 : -5
Shadows 2012 : 0
Whites 2012 : 0
Blacks 2012 : 0
Clarity 2012 : 0
Defringe Purple Amount : 0
Defringe Purple Hue Lo : 30
Defringe Purple Hue Hi : 70
Defringe Green Amount : 0
Defringe Green Hue Lo : 40
Defringe Green Hue Hi : 60
Dehaze : 0
Tone Map Strength : 0
Convert To Grayscale : False
Tone Curve Name : Medium Contrast
Tone Curve Name 2012 : Linear
Camera Profile : Adobe Standard v2
Lens Profile Setup : LensDefaults
Has Settings : True
Has Crop : False
Already Applied : True
Tone Curve : 0, 0, 32, 22, 64, 56, 128, 128, 192, 196, 255, 255
Tone Curve Red : 0, 0, 255, 255
Tone Curve Green : 0, 0, 255, 255
Tone Curve Blue : 0, 0, 255, 255
Tone Curve PV2012 : 0, 0, 255, 255
Tone Curve PV2012 Red : 0, 0, 255, 255
Tone Curve PV2012 Green : 0, 0, 255, 255
Tone Curve PV2012 Blue : 0, 0, 255, 255
Image Width : 400
Image Height : 287
Bits Per Sample : 8
Color Components : 3
Aperture : 2.8
Image Size : 400x287
Megapixels : 0.115
Scale Factor To 35 mm Equivalent : 1.0
Shutter Speed : 1/400
Create Date : 2019:11:11 12:02:25.21
Date/Time Original : 2019:11:11 12:02:25.21
Circle Of Confusion : 0.030 mm
Field Of View : 54.4 deg
Focal Length : 35.0 mm (35 mm equivalent: 35.0 mm)
Hyperfocal Distance : 14.56 m
Light Value : 10.6
Lens ID : 35.0mm f/2.0