Uber Exif Photo
By-line : Vic Buhay
Copyright Notice : Vicencio P Buhay
Make : NIKON CORPORATION
Camera Model Name : NIKON D4S
Software : Adobe Photoshop Lightroom Classic 10.4 (Windows)
Modify Date : 2021:09:26 10:07:28
Artist : Vic Buhay
Copyright : Vicencio P Buhay
Exposure Time : 1/3200
F Number : 6.0
Exposure Program : Manual
ISO : 800
Sensitivity Type : Recommended Exposure Index
Date/Time Original : 2021:09:25 09:55:53
Create Date : 2021:09:25 09:55:53
Shutter Speed Value : 1/3200
Aperture Value : 6.0
Exposure Compensation : +1
Max Aperture Value : 6.1
Metering Mode : Center-weighted average
Light Source : Unknown
Flash : No Flash
Focal Length : 450.0 mm
Color Space : sRGB
Sensing Method : One-chip color area
Scene Type : Directly photographed
CFA Pattern : [Red,Green][Green,Blue]
Custom Rendered : Normal
Exposure Mode : Manual
White Balance : Auto
Digital Zoom Ratio : 1
Focal Length In 35mm Format : 450 mm
Scene Capture Type : Standard
Gain Control : Low gain up
Contrast : Normal
Saturation : Normal
Sharpness : Hard
Subject Distance Range : Unknown
Serial Number : 2004986
Lens Info : 150-600mm f/5-6.3
Lens Model : 150.0-600.0 mm f/5.0-6.3
Profile Description : sRGB IEC61966-2.1
Creator Tool : Adobe Photoshop Lightroom Classic 10.4 (Windows)
Format : image/jpeg
Lens : 150.0-600.0 mm f/5.0-6.3
Image Number : 66764
Approximate Focus Distance : 63.1
Date Created : 2021:09:25 09:55:53.82
Preserved File Name : D4S_6744.NEF
Version : 13.3
Process Version : 11.0
Color Temperature : 4836
Tint : +3
Exposure 2012 : -0.49
Contrast 2012 : -53
Highlights 2012 : -81
Shadows 2012 : +100
Whites 2012 : -17
Blacks 2012 : -42
Texture : 0
Clarity 2012 : +21
Dehaze : +15
Vibrance : +25
Parametric Shadows : 0
Parametric Darks : 0
Parametric Lights : 0
Parametric Highlights : 0
Parametric Shadow Split : 25
Parametric Midtone Split : 50
Parametric Highlight Split : 75
Sharpen Radius : +1.0
Sharpen Detail : 25
Sharpen Edge Masking : 0
Luminance Smoothing : 0
Color Noise Reduction : 25
Color Noise Reduction Detail : 50
Color Noise Reduction Smoothness : 50
Hue Adjustment Red : 0
Hue Adjustment Orange : 0
Hue Adjustment Yellow : 0
Hue Adjustment Green : 0
Hue Adjustment Aqua : 0
Hue Adjustment Blue : 0
Hue Adjustment Purple : 0
Hue Adjustment Magenta : 0
Saturation Adjustment Red : 0
Saturation Adjustment Orange : 0
Saturation Adjustment Yellow : 0
Saturation Adjustment Green : 0
Saturation Adjustment Aqua : 0
Saturation Adjustment Blue : 0
Saturation Adjustment Purple : 0
Saturation Adjustment Magenta : 0
Luminance Adjustment Red : 0
Luminance Adjustment Orange : 0
Luminance Adjustment Yellow : 0
Luminance Adjustment Green : 0
Luminance Adjustment Aqua : 0
Luminance Adjustment Blue : 0
Luminance Adjustment Purple : 0
Luminance Adjustment Magenta : 0
Split Toning Shadow Hue : 0
Split Toning Shadow Saturation : 0
Split Toning Highlight Hue : 0
Split Toning Highlight Saturation : 0
Split Toning Balance : 0
Color Grade Midtone Hue : 0
Color Grade Midtone Sat : 0
Color Grade Shadow Lum : 0
Color Grade Midtone Lum : 0
Color Grade Highlight Lum : 0
Color Grade Blending : 50
Color Grade Global Hue : 0
Color Grade Global Sat : 0
Color Grade Global Lum : 0
Auto Lateral CA : 0
Lens Profile Enable : 0
Lens Manual Distortion Amount : 0
Vignette Amount : 0
Defringe Purple Amount : 0
Defringe Purple Hue Lo : 30
Defringe Purple Hue Hi : 70
Defringe Green Amount : 0
Defringe Green Hue Lo : 40
Defringe Green Hue Hi : 60
Perspective Upright : Off
Perspective Vertical : 0
Perspective Horizontal : 0
Perspective Rotate : 0.0
Perspective Aspect : 0
Perspective Scale : 100
Perspective X : 0.00
Perspective Y : 0.00
Grain Amount : 0
Post Crop Vignette Amount : 0
Shadow Tint : 0
Red Hue : 0
Red Saturation : 0
Green Hue : 0
Green Saturation : 0
Blue Hue : 0
Blue Saturation : 0
Override Look Vignette : False
Tone Curve Name 2012 : Linear
Camera Profile : Adobe Standard
Has Settings : True
Crop Top : 0.1524
Crop Left : 0.002418
Crop Bottom : 1
Crop Right : 0.842142
Crop Angle : 0.24714
Crop Constrain To Warp : 0
Has Crop : True
Already Applied : True
Creator : Vic Buhay
Rights : Vicencio P Buhay
Tone Curve PV2012 : 0, 0, 255, 255
Tone Curve PV2012 Red : 0, 0, 255, 255
Tone Curve PV2012 Green : 0, 0, 255, 255
Tone Curve PV2012 Blue : 0, 0, 255, 255
Look Name : Adobe Color
Look Amount : 1.000000
Look Supports Amount : false
Look Supports Monochrome : false
Look Supports Output Referred : false
Look Group : Profiles
Look Parameters Version : 13.3
Look Parameters Process Version : 11.0
Look Parameters Convert To Grayscale : False
Look Parameters Camera Profile : Adobe Standard
Look Parameters Look Table : E1095149FDB39D7A057BAB208837E2E1
Look Parameters Tone Curve PV2012 : 0, 0, 22, 16, 40, 35, 127, 127, 224, 230, 240, 246, 255, 255
Look Parameters Tone Curve PV2012 Red : 0, 0, 255, 255
Look Parameters Tone Curve PV2012 Green : 0, 0, 255, 255
Look Parameters Tone Curve PV2012 Blue : 0, 0, 255, 255
Image Width : 400
Image Height : 266
Bits Per Sample : 8
Color Components : 3
Aperture : 6.0
Image Size : 400x266
Megapixels : 0.106
Scale Factor To 35 mm Equivalent : 1.0
Shutter Speed : 1/3200
Create Date : 2021:09:25 09:55:53.82
Date/Time Original : 2021:09:25 09:55:53.82
Modify Date : 2021:09:26 10:07:28-07:00
Circle Of Confusion : 0.030 mm
Depth Of Field : 7.06 m (59.77 - 66.83 m)
Field Of View : 4.6 deg
Focal Length : 450.0 mm (35 mm equivalent: 450.0 mm)
Hyperfocal Distance : 1123.27 m
Light Value : 13.8
Lens ID : Tamron SP 150-600mm f/5-6.3 Di VC USD G2 (A022) or Tamron SP 150-600mm f/5-6.3 Di VC USD G2