Uber Exif Photo
By-line : VIC BUHAY
Copyright Notice : VIC IMAGING
Make : NIKON CORPORATION
Camera Model Name : NIKON Z 9
Software : Adobe Photoshop Lightroom Classic 11.4.1 (Windows)
Modify Date : 2022:07:26 11:26:34
Artist : VIC BUHAY
Copyright : VIC IMAGING
Exposure Time : 1/2500
F Number : 6.3
Exposure Program : Manual
ISO : 14400
Sensitivity Type : Recommended Exposure Index
Recommended Exposure Index : 14400
Date/Time Original : 2022:07:19 19:58:10
Create Date : 2022:07:19 19:58:10
Shutter Speed Value : 1/2500
Aperture Value : 6.3
Exposure Compensation : 0
Metering Mode : Center-weighted average
Light Source : Unknown
Flash : No Flash
Focal Length : 550.0 mm
Color Space : sRGB
Sensing Method : One-chip color area
Scene Type : Directly photographed
CFA Pattern : [Red,Green][Green,Blue]
Custom Rendered : Custom
Exposure Mode : Manual
White Balance : Auto
Focal Length In 35mm Format : 550 mm
Scene Capture Type : Standard
Gain Control : High gain up
Contrast : Normal
Saturation : Normal
Sharpness : Normal
Subject Distance Range : Unknown
Serial Number : 3005220
Lens Info : 150-600mm f/5-6.3
Lens Model : VR 150-600mm f/5-6.3E
GPS Version ID : 2.3.0.0
GPS Latitude Ref : North
GPS Longitude Ref : West
GPS Altitude Ref : Above Sea Level
GPS Time Stamp : 02:58:10
GPS Satellites : 12
GPS Date Stamp : 2022:07:20
Profile Description : sRGB IEC61966-2.1
Creator Tool : Adobe Photoshop Lightroom Classic 11.4.1 (Windows)
Format : image/jpeg
Lens : VR 150-600mm f/5-6.3E
Image Number : 72467
Vignette Correction Already Applied : True
Date Created : 2022:07:19 19:58:10.66-07:00
Preserved File Name : VZ9_6501.NEF
Raw File Name : VZ9_6501.NEF
Version : 14.4.1
Process Version : 11.0
Color Temperature : 5400
Tint : +19
Exposure 2012 : +0.65
Contrast 2012 : -32
Highlights 2012 : -60
Shadows 2012 : +87
Whites 2012 : +20
Blacks 2012 : -36
Texture : +24
Clarity 2012 : +22
Dehaze : +38
Vibrance : +27
Parametric Shadows : 0
Parametric Darks : 0
Parametric Lights : 0
Parametric Highlights : 0
Parametric Shadow Split : 25
Parametric Midtone Split : 50
Parametric Highlight Split : 75
Sharpen Radius : +1.0
Sharpen Detail : 25
Sharpen Edge Masking : 37
Luminance Smoothing : 37
Luminance Noise Reduction Detail : 50
Luminance Noise Reduction Contrast : 35
Color Noise Reduction : 37
Color Noise Reduction Detail : 50
Color Noise Reduction Smoothness : 50
Hue Adjustment Red : +5
Hue Adjustment Orange : 0
Hue Adjustment Yellow : 0
Hue Adjustment Green : 0
Hue Adjustment Aqua : 0
Hue Adjustment Blue : 0
Hue Adjustment Purple : 0
Hue Adjustment Magenta : 0
Saturation Adjustment Red : -100
Saturation Adjustment Orange : 0
Saturation Adjustment Yellow : -18
Saturation Adjustment Green : 0
Saturation Adjustment Aqua : 0
Saturation Adjustment Blue : 0
Saturation Adjustment Purple : 0
Saturation Adjustment Magenta : 0
Luminance Adjustment Red : 0
Luminance Adjustment Orange : 0
Luminance Adjustment Yellow : +8
Luminance Adjustment Green : 0
Luminance Adjustment Aqua : 0
Luminance Adjustment Blue : 0
Luminance Adjustment Purple : 0
Luminance Adjustment Magenta : 0
Split Toning Shadow Hue : 0
Split Toning Shadow Saturation : 0
Split Toning Highlight Hue : 0
Split Toning Highlight Saturation : 0
Split Toning Balance : 0
Color Grade Midtone Hue : 0
Color Grade Midtone Sat : 0
Color Grade Shadow Lum : 0
Color Grade Midtone Lum : 0
Color Grade Highlight Lum : 0
Color Grade Blending : 50
Color Grade Global Hue : 0
Color Grade Global Sat : 0
Color Grade Global Lum : 0
Auto Lateral CA : 0
Lens Profile Enable : 0
Lens Manual Distortion Amount : 0
Vignette Amount : 0
Defringe Purple Amount : 0
Defringe Purple Hue Lo : 30
Defringe Purple Hue Hi : 70
Defringe Green Amount : 0
Defringe Green Hue Lo : 40
Defringe Green Hue Hi : 60
Perspective Upright : Off
Perspective Vertical : 0
Perspective Horizontal : 0
Perspective Rotate : 0.0
Perspective Aspect : 0
Perspective Scale : 100
Perspective X : 0.00
Perspective Y : 0.00
Grain Amount : 0
Post Crop Vignette Amount : -15
Post Crop Vignette Midpoint : 50
Post Crop Vignette Feather : 50
Post Crop Vignette Roundness : 0
Post Crop Vignette Style : Highlight Priority
Post Crop Vignette Highlight Contrast : 0
Shadow Tint : 0
Red Hue : 0
Red Saturation : 0
Green Hue : 0
Green Saturation : 0
Blue Hue : 0
Blue Saturation : 0
Override Look Vignette : False
Tone Curve Name 2012 : Linear
Camera Profile : Adobe Standard
Has Settings : True
Crop Top : 0.000001
Crop Left : 0.555556
Crop Bottom : 0.999999
Crop Right : 1
Crop Angle : 0
Crop Constrain To Warp : 0
Has Crop : True
Already Applied : True
Creator : VIC BUHAY
Rights : VIC IMAGING
Tone Curve PV2012 : 0, 0, 255, 255
Tone Curve PV2012 Red : 0, 0, 255, 255
Tone Curve PV2012 Green : 0, 0, 255, 255
Tone Curve PV2012 Blue : 0, 0, 255, 255
Look Name : Adobe Color
Look Amount : 1
Look Supports Amount : false
Look Supports Monochrome : false
Look Supports Output Referred : false
Look Group : Profiles
Look Parameters Version : 14.4.1
Look Parameters Process Version : 11.0
Look Parameters Convert To Grayscale : False
Look Parameters Camera Profile : Adobe Standard
Look Parameters Look Table : E1095149FDB39D7A057BAB208837E2E1
Look Parameters Tone Curve PV2012 : 0, 0, 22, 16, 40, 35, 127, 127, 224, 230, 240, 246, 255, 255
Look Parameters Tone Curve PV2012 Red : 0, 0, 255, 255
Look Parameters Tone Curve PV2012 Green : 0, 0, 255, 255
Look Parameters Tone Curve PV2012 Blue : 0, 0, 255, 255
Image Width : 400
Image Height : 600
Bits Per Sample : 8
Color Components : 3
Aperture : 6.3
Image Size : 400x600
Megapixels : 0.240
Scale Factor To 35 mm Equivalent : 1.0
Shutter Speed : 1/2500
Create Date : 2022:07:19 19:58:10.66-07:00
Date/Time Original : 2022:07:19 19:58:10.66-07:00
Modify Date : 2022:07:26 11:26:34-07:00
GPS Altitude : 8 m Above Sea Level
GPS Date/Time : 2022:07:20 02:58:10Z
GPS Latitude : 33 deg 35' 40.13" N
GPS Longitude : 117 deg 52' 57.24" W
Circle Of Confusion : 0.030 mm
Field Of View : 3.7 deg
Focal Length : 550.0 mm (35 mm equivalent: 550.0 mm)
GPS Position : 33 deg 35' 40.13" N, 117 deg 52' 57.24" W
Hyperfocal Distance : 1598.06 m
Light Value : 9.4
Lens ID : VR 150-600mm f/5-6.3E