Uber Exif Photo
Caption-Abstract : EPSON DSC Picture
Image Description : EPSON DSC Picture
Make : SEIKO EPSON CORP.
Camera Model Name : R-D1
Software : E04106-0200
Modify Date : 2011:02:15 10:46:58
Exposure Time : 1/390
Exposure Program : Aperture-priority AE
ISO : 200
Date/Time Original : 2010:10:10 13:27:12
Create Date : 2010:10:10 13:27:12
Shutter Speed Value : 1/390
Exposure Compensation : +1
Metering Mode : Center-weighted average
Light Source : Unknown
Scene Type : Directly photographed
Custom Rendered : Normal
Exposure Mode : Auto
White Balance : Auto
Scene Capture Type : Standard
Gain Control : None
Profile Description : sRGB IEC61966-2.1
Date/Time Digitized : 2010:10:10 13:27:12+02:00
Exif Image Width : 1500
Exif Image Height : 997
Creator Tool : Adobe Photoshop Lightroom
Version : 6.1
Process Version : 5.7
Color Temperature : 4299
Tint : -2
Exposure : +0.97
Shadows : 78
Brightness : +50
Contrast : +100
Saturation : 0
Sharpness : 50
Luminance Smoothing : 0
Color Noise Reduction : 25
Chromatic Aberration R : 0
Chromatic Aberration B : 0
Vignette Amount : 0
Shadow Tint : 0
Red Hue : 0
Red Saturation : -47
Green Hue : 0
Green Saturation : 0
Blue Hue : 0
Blue Saturation : -66
Fill Light : 0
Vibrance : +1
Highlight Recovery : 10
Clarity : -31
Defringe : 0
Hue Adjustment Red : 0
Hue Adjustment Orange : 0
Hue Adjustment Yellow : 0
Hue Adjustment Green : 0
Hue Adjustment Aqua : 0
Hue Adjustment Blue : 0
Hue Adjustment Purple : 0
Hue Adjustment Magenta : 0
Saturation Adjustment Red : 0
Saturation Adjustment Orange : 0
Saturation Adjustment Yellow : 0
Saturation Adjustment Green : 0
Saturation Adjustment Aqua : 0
Saturation Adjustment Blue : 0
Saturation Adjustment Purple : 0
Saturation Adjustment Magenta : 0
Luminance Adjustment Red : 0
Luminance Adjustment Orange : 0
Luminance Adjustment Yellow : 0
Luminance Adjustment Green : 0
Luminance Adjustment Aqua : 0
Luminance Adjustment Blue : 0
Luminance Adjustment Purple : 0
Luminance Adjustment Magenta : 0
Split Toning Shadow Hue : 0
Split Toning Shadow Saturation : 0
Split Toning Highlight Hue : 0
Split Toning Highlight Saturation : 0
Split Toning Balance : 0
Parametric Shadows : 0
Parametric Darks : -9
Parametric Lights : +20
Parametric Highlights : 0
Parametric Shadow Split : 25
Parametric Midtone Split : 50
Parametric Highlight Split : 75
Sharpen Radius : +1.0
Sharpen Detail : 25
Sharpen Edge Masking : 0
Post Crop Vignette Amount : 0
Grain Amount : 0
Color Noise Reduction Detail : 50
Lens Profile Enable : 0
Lens Manual Distortion Amount : 0
Perspective Vertical : 0
Perspective Horizontal : 0
Perspective Rotate : 0.0
Perspective Scale : 100
Convert To Grayscale : False
Tone Curve Name : Medium Contrast
Camera Profile : Adobe Standard
Lens Profile Setup : LensDefaults
Has Settings : True
Crop Top : 0.03835
Crop Left : 0
Crop Bottom : 0.781293
Crop Right : 0.798246
Crop Angle : -1.86927
Crop Constrain To Warp : 0
Crop Width : 1500
Crop Height : 997
Crop Unit : pixels
Has Crop : True
Already Applied : True
Flash Fired : False
Flash Return : No return detection
Flash Mode : Unknown
Flash Function : True
Flash Red Eye Mode : False
Description : EPSON DSC Picture
Tone Curve : 0, 0, 32, 22, 64, 56, 128, 128, 192, 196, 255, 255
Paint Correction What : Correction
Paint Correction Amount : 1.000000
Paint Correction Active : true
Paint Correction Exposure : 0.098000
Paint Correction Saturation : 0.024000
Paint Correction Contrast : 0.000000
Paint Correction Clarity : -0.073000
Paint Correction Sharpness : 0.000000
Paint Correction Brightness : 0.000000
Paint Correction Toning Hue : 0.000000
Paint Correction Toning Saturation : 0.000000
Paint Correction Mask What : Mask/Paint
Paint Correction Mask Value : 1.000000
Paint Correction Mask Radius : 0.107899
Paint Correction Mask Flow : 1.000000
Paint Correction Mask Center Weight : 0.000000
Image Width : 300
Image Height : 199
Bits Per Sample : 8
Color Components : 3
Image Size : 300x199
Megapixels : 0.060
Shutter Speed : 1/390
Flash : No flash function