Uber Exif Photo
By-line : Thomas Krueger
Copyright Notice : © 2011 Thomas Krueger (www.ThomasKrueger.eu) All rights reserved
Caption-Abstract : ArteGenova 2011, Exhibition stand of www.Artinvest.it - or dreaming about a sunny day at the beach.
Copyright Flag : True
URL : http://www.thomaskrueger.eu/copyright/
Image Description : ArteGenova 2011, Exhibition stand of www.Artinvest.it - or dreaming about a sunny day at the beach.
Make : SIGMA
Camera Model Name : SIGMA DP2
Software : 1.05.0.000
Modify Date : 2011:02:15 23:28:12
Artist : Thomas Krueger
Copyright : (C) 2011 Thomas Krueger (www.ThomasKrueger.eu) All rights reserved
Exposure Time : 1/40
F Number : 2.8
Exposure Program : Aperture-priority AE
ISO : 200
Sensitivity Type : Unknown
Date/Time Original : 2011:02:14 10:40:27
Shutter Speed Value : 1/40
Aperture Value : 2.8
Exposure Compensation : 0
Max Aperture Value : 14.0
Metering Mode : Average
Focal Length : 24.2 mm
Focal Length In 35mm Format : 41 mm
Serial Number : 1014843
Lens Info : 24.2mm f/?
Lens Model : 24.2 mm
Profile Description : sRGB IEC61966-2.1
Exif Image Width : 1000
Exif Image Height : 704
Create Date : 2011:02:14 10:40:27+01:00
Creator Tool : Adobe Photoshop Lightroom 3.3
Lens : 24.2 mm
Firmware : 1.05.0.000
Marked : True
Web Statement : http://www.thomaskrueger.eu/copyright/
Version : 6.3
Process Version : 5.7
White Balance : Custom
Color Temperature : 3450
Tint : +10
Exposure : -0.20
Shadows : 5
Brightness : +50
Contrast : +25
Saturation : 0
Sharpness : 25
Luminance Smoothing : 0
Color Noise Reduction : 0
Chromatic Aberration R : 0
Chromatic Aberration B : 0
Vignette Amount : 0
Shadow Tint : 0
Red Hue : 0
Red Saturation : 0
Green Hue : 0
Green Saturation : 0
Blue Hue : 0
Blue Saturation : 0
Fill Light : 10
Vibrance : 0
Highlight Recovery : 0
Clarity : 0
Defringe : 0
Hue Adjustment Red : 0
Hue Adjustment Orange : 0
Hue Adjustment Yellow : -18
Hue Adjustment Green : 0
Hue Adjustment Aqua : 0
Hue Adjustment Blue : 0
Hue Adjustment Purple : 0
Hue Adjustment Magenta : 0
Saturation Adjustment Red : 0
Saturation Adjustment Orange : 0
Saturation Adjustment Yellow : +12
Saturation Adjustment Green : 0
Saturation Adjustment Aqua : 0
Saturation Adjustment Blue : 0
Saturation Adjustment Purple : 0
Saturation Adjustment Magenta : 0
Luminance Adjustment Red : -8
Luminance Adjustment Orange : -30
Luminance Adjustment Yellow : -7
Luminance Adjustment Green : +2
Luminance Adjustment Aqua : 0
Luminance Adjustment Blue : 0
Luminance Adjustment Purple : 0
Luminance Adjustment Magenta : 0
Split Toning Shadow Hue : 0
Split Toning Shadow Saturation : 0
Split Toning Highlight Hue : 0
Split Toning Highlight Saturation : 0
Split Toning Balance : 0
Parametric Shadows : -23
Parametric Darks : -5
Parametric Lights : +22
Parametric Highlights : +44
Parametric Shadow Split : 25
Parametric Midtone Split : 50
Parametric Highlight Split : 75
Sharpen Radius : +1.0
Sharpen Detail : 25
Sharpen Edge Masking : 0
Post Crop Vignette Amount : -17
Post Crop Vignette Midpoint : 50
Post Crop Vignette Feather : 83
Post Crop Vignette Roundness : +57
Post Crop Vignette Style : Highlight Priority
Post Crop Vignette Highlight Contrast : 0
Grain Amount : 0
Lens Profile Enable : 1
Lens Manual Distortion Amount : 0
Perspective Vertical : +8
Perspective Horizontal : -6
Perspective Rotate : -0.6
Perspective Scale : 100
Convert To Grayscale : False
Tone Curve Name : Medium Contrast
Camera Profile : Sigma_Test
Lens Profile Setup : LensDefaults
Lens Profile Name : Adobe (SIGMA DP2)
Lens Profile Filename : SIGMA DP2 - RAW.lcp
Lens Profile Distortion Scale : 100
Lens Profile Chromatic Aberration Scale : 100
Lens Profile Vignetting Scale : 100
Has Settings : True
Crop Top : 0.013537
Crop Left : 0.033356
Crop Bottom : 0.922041
Crop Right : 0.893402
Crop Angle : 0
Crop Constrain To Warp : 0
Crop Width : 1000
Crop Height : 704
Crop Unit : pixels
Has Crop : True
Already Applied : True
Description : ArteGenova 2011, Exhibition stand of www.Artinvest.it - or dreaming about a sunny day at the beach.
Creator : Thomas Krueger
Rights : © 2011 Thomas Krueger (www.ThomasKrueger.eu) All rights reserved
Creator Region : GE
Creator Postal Code : 16125
Creator Work Telephone : +39 010212020
Creator City : Genova
Creator Country : Italia
Creator Work Email : tk@thomaskrueger.eu
Creator Address : Via Acquarone 30-10
Creator Work URL : http://www.ThomasKrueger.eu
Usage Terms : No Usage Rights without WRITTEN PERMISSION from Thomas Krueger
Tone Curve : 0, 0, 32, 22, 64, 56, 128, 128, 192, 196, 255, 255
Gradient Based Corr What : Correction
Gradient Based Corr Amount : 1.000000
Gradient Based Corr Active : true
Gradient Based Corr Exposure : -0.100000
Gradient Based Corr Saturation : 0.000000
Gradient Based Corr Contrast : 0.000000
Gradient Based Corr Clarity : 0.000000
Gradient Based Corr Sharpness : 0.000000
Gradient Based Corr Brightness : 0.000000
Gradient Based Corr Toning Hue : 129.000000
Gradient Based Corr Toning Saturation : 0.030000
Gradient Based Corr Mask What : Mask/Gradient
Gradient Based Corr Mask Value : 1.000000
Gradient Based Corr Mask Zero X : 0.506568
Gradient Based Corr Mask Zero Y : 0.172777
Gradient Based Corr Mask Full X : 0.507703
Gradient Based Corr Mask Full Y : -0.019249
Image Width : 300
Image Height : 211
Bits Per Sample : 8
Color Components : 3
Aperture : 2.8
Image Size : 300x211
Megapixels : 0.063
Scale Factor To 35 mm Equivalent : 1.7
Shutter Speed : 1/40
Circle Of Confusion : 0.018 mm
Field Of View : 47.4 deg
Focal Length : 24.2 mm (35 mm equivalent: 41.0 mm)
Hyperfocal Distance : 11.79 m
Light Value : 7.3
Lens ID : Unknown ( )