Uber Exif Photo
Object Name : Staglieno Cemetery
Keywords : Cimitero Staglieno, Europa, Friedhof Staglieno, Genoa, Genova, Genua, IT Italien, Ligurien, Staglieno Cemetery
By-line : Thomas Krueger
Copyright Notice : © 2011 Thomas Krueger (www.ThomasKrueger.eu) All rights reserved
Copyright Flag : True
URL : http://www.thomaskrueger.eu/copyright/
Make : SIGMA
Camera Model Name : SIGMA DP2
Software : 1.05.0.000
Modify Date : 2011:02:15 23:36:28
Artist : Thomas Krueger
Copyright : (C) 2011 Thomas Krueger (www.ThomasKrueger.eu) All rights reserved
Exposure Time : 1/50
F Number : 4.0
Exposure Program : Manual
ISO : 200
Sensitivity Type : Unknown
Date/Time Original : 2010:06:27 11:05:51
Shutter Speed Value : 1/50
Aperture Value : 4.0
Exposure Compensation : 0
Max Aperture Value : 14.0
Focal Length : 24.2 mm
Focal Length In 35mm Format : 41 mm
Serial Number : 1014843
Lens Info : 24.2mm f/?
Lens Model : 24.2 mm
Profile Description : sRGB IEC61966-2.1
Exif Image Width : 667
Exif Image Height : 1000
Create Date : 2010:06:27 11:05:51+02:00
Creator Tool : Adobe Photoshop Lightroom 3.3
Label : Schwarzweiß - Lila
Lens : 24.2 mm
Firmware : 1.05.0.000
Marked : True
Web Statement : http://www.thomaskrueger.eu/copyright/
Version : 6.3
Process Version : 5.7
White Balance : As Shot
Color Temperature : 4750
Tint : +30
Exposure : -0.21
Shadows : 30
Brightness : +17
Contrast : +38
Sharpness : 64
Luminance Smoothing : 25
Color Noise Reduction : 21
Chromatic Aberration R : 0
Chromatic Aberration B : 0
Vignette Amount : 0
Shadow Tint : 0
Red Hue : 0
Red Saturation : 0
Green Hue : 0
Green Saturation : 0
Blue Hue : 0
Blue Saturation : 0
Fill Light : 21
Highlight Recovery : 15
Clarity : +44
Defringe : 0
Gray Mixer Red : -7
Gray Mixer Orange : -16
Gray Mixer Yellow : -20
Gray Mixer Green : -25
Gray Mixer Aqua : -19
Gray Mixer Blue : +8
Gray Mixer Purple : +15
Gray Mixer Magenta : +5
Split Toning Shadow Hue : 40
Split Toning Shadow Saturation : 8
Split Toning Highlight Hue : 38
Split Toning Highlight Saturation : 3
Split Toning Balance : 0
Parametric Shadows : -44
Parametric Darks : -15
Parametric Lights : +19
Parametric Highlights : +52
Parametric Shadow Split : 25
Parametric Midtone Split : 50
Parametric Highlight Split : 75
Sharpen Radius : +1.0
Sharpen Detail : 25
Sharpen Edge Masking : 11
Post Crop Vignette Amount : -41
Post Crop Vignette Midpoint : 35
Post Crop Vignette Feather : 87
Post Crop Vignette Roundness : -36
Post Crop Vignette Style : Paint Overlay
Grain Amount : 0
Luminance Noise Reduction Detail : 50
Color Noise Reduction Detail : 50
Luminance Noise Reduction Contrast : 19
Lens Profile Enable : 0
Lens Manual Distortion Amount : 0
Perspective Vertical : 0
Perspective Horizontal : 0
Perspective Rotate : 0.0
Perspective Scale : 100
Convert To Grayscale : True
Tone Curve Name : Medium Contrast
Camera Profile : Sigma_Test
Lens Profile Setup : LensDefaults
Has Settings : True
Crop Top : 0.060332
Crop Left : 0.023139
Crop Bottom : 1
Crop Right : 0.962807
Crop Angle : 0
Crop Constrain To Warp : 0
Crop Width : 1000
Crop Height : 667
Crop Unit : pixels
Has Crop : True
Already Applied : True
Creator Postal Code : 16125
Creator Work Telephone : +39 010212020
Creator Region : GE
Creator City : Genova
Creator Country : Italia
Creator Work Email : tk@thomaskrueger.eu
Creator Address : Via Acquarone 30-10
Creator Work URL : http://www.ThomasKrueger.eu
Usage Terms : No Usage Rights without WRITTEN PERMISSION from Thomas Krueger
Title : Staglieno Cemetery
Creator : Thomas Krueger
Rights : © 2011 Thomas Krueger (www.ThomasKrueger.eu) All rights reserved
Subject : Cimitero Staglieno, Europa, Friedhof Staglieno, Genoa, Genova, Genua, IT Italien, Ligurien, Staglieno Cemetery
Tone Curve : 0, 0, 32, 22, 64, 56, 128, 128, 192, 196, 255, 255
Gradient Based Corr What : Correction
Gradient Based Corr Amount : 1.000000
Gradient Based Corr Active : true
Gradient Based Corr Exposure : -0.062000
Gradient Based Corr Saturation : 0.031000
Gradient Based Corr Contrast : 0.000000
Gradient Based Corr Clarity : 0.000000
Gradient Based Corr Sharpness : 0.000000
Gradient Based Corr Brightness : 0.000000
Gradient Based Corr Toning Hue : 0.000000
Gradient Based Corr Toning Saturation : 0.000000
Gradient Based Corr Mask What : Mask/Gradient
Gradient Based Corr Mask Value : 1.000000
Gradient Based Corr Mask Zero X : 0.158323
Gradient Based Corr Mask Zero Y : 0.536544
Gradient Based Corr Mask Full X : 0.022194
Gradient Based Corr Mask Full Y : 0.536544
Image Width : 200
Image Height : 300
Bits Per Sample : 8
Color Components : 3
Aperture : 4.0
Image Size : 200x300
Megapixels : 0.060
Scale Factor To 35 mm Equivalent : 1.7
Shutter Speed : 1/50
Circle Of Confusion : 0.018 mm
Field Of View : 47.4 deg
Focal Length : 24.2 mm (35 mm equivalent: 41.0 mm)
Hyperfocal Distance : 8.26 m
Light Value : 8.6
Lens ID : Unknown ( )