Uber Exif Photo
Keywords : Cimitero Inglese, Cimitero Staglieno, Englischer Friedhof, English Cemetery, Europa, Friedhof Staglieno, Genoa, Genova, Genua, IT Italien, Ligurien, Staglieno Cemetery
By-line : Thomas Krueger
Copyright Notice : © 2010 Thomas Krueger (www.ThomasKrueger.eu) All rights reserved
Copyright Flag : True
URL : http://www.thomaskrueger.eu/copyright/
Make : SIGMA
Camera Model Name : SIGMA DP2
Software : 1.05.0.000
Modify Date : 2011:02:15 23:42:15
Artist : Thomas Krueger
Copyright : (C) 2010 Thomas Krueger (www.ThomasKrueger.eu) All rights reserved
Exposure Time : 1/60
F Number : 2.8
Exposure Program : Manual
ISO : 400
Sensitivity Type : Unknown
Date/Time Original : 2010:06:27 09:24:23
Shutter Speed Value : 1/60
Aperture Value : 2.8
Exposure Compensation : 0
Max Aperture Value : 14.0
Focal Length : 24.2 mm
Focal Length In 35mm Format : 41 mm
Serial Number : 1014843
Lens Info : 24.2mm f/?
Lens Model : 24.2 mm
Profile Description : sRGB IEC61966-2.1
Exif Image Width : 667
Exif Image Height : 1000
Create Date : 2010:06:27 09:24:23+02:00
Creator Tool : Adobe Photoshop Lightroom 3.3
Rating : 3
Label : Schwarzweiß - Lila
Aux : http://ns.adobe.com/exif/1.0/aux/
Lens : 24.2 mm
Firmware : 1.05.0.000
Marked : True
Web Statement : http://www.thomaskrueger.eu/copyright/
Version : 6.3
Process Version : 5.7
White Balance : As Shot
Incremental Temperature : 0
Incremental Tint : 0
Exposure : -0.21
Shadows : 2
Brightness : 0
Contrast : -18
Sharpness : 0
Luminance Smoothing : 0
Color Noise Reduction : 0
Chromatic Aberration R : 0
Chromatic Aberration B : 0
Vignette Amount : 0
Shadow Tint : 0
Red Hue : 0
Red Saturation : 0
Green Hue : 0
Green Saturation : 0
Blue Hue : 0
Blue Saturation : 0
Fill Light : 17
Highlight Recovery : 0
Clarity : 0
Defringe : 0
Gray Mixer Red : -7
Gray Mixer Orange : -16
Gray Mixer Yellow : -20
Gray Mixer Green : -25
Gray Mixer Aqua : -19
Gray Mixer Blue : +8
Gray Mixer Purple : +15
Gray Mixer Magenta : +5
Split Toning Shadow Hue : 40
Split Toning Shadow Saturation : 19
Split Toning Highlight Hue : 40
Split Toning Highlight Saturation : 7
Split Toning Balance : +33
Parametric Shadows : 0
Parametric Darks : 0
Parametric Lights : 0
Parametric Highlights : 0
Parametric Shadow Split : 25
Parametric Midtone Split : 50
Parametric Highlight Split : 75
Sharpen Radius : +1.0
Sharpen Detail : 25
Sharpen Edge Masking : 0
Post Crop Vignette Amount : 0
Grain Amount : 0
Lens Profile Enable : 0
Lens Manual Distortion Amount : 0
Perspective Vertical : 0
Perspective Horizontal : 0
Perspective Rotate : 0.0
Perspective Scale : 100
Convert To Grayscale : True
Tone Curve Name : Linear
Camera Profile : Embedded
Lens Profile Setup : LensDefaults
Has Settings : True
Has Crop : False
Already Applied : True
Creator Postal Code : 16125
Creator Work Telephone : +39 010212020
Creator Region : GE
Creator City : Genova
Creator Country : Italia
Creator Work Email : tk@thomaskrueger.eu
Creator Address : Via Acquarone 30-10
Creator Work URL : http://www.ThomasKrueger.eu
Usage Terms : No Usage Rights without WRITTEN PERMISSION from Thomas Krueger
Creator : Thomas Krueger
Rights : © 2010 Thomas Krueger (www.ThomasKrueger.eu) All rights reserved
Subject : Cimitero Inglese, Cimitero Staglieno, Englischer Friedhof, English Cemetery, Europa, Friedhof Staglieno, Genoa, Genova, Genua, IT Italien, Ligurien, Staglieno Cemetery
Tone Curve : 0, 0, 255, 255
Gradient Based Corr What : Correction
Gradient Based Corr Amount : 1.000000
Gradient Based Corr Active : true
Gradient Based Corr Exposure : -0.277000
Gradient Based Corr Saturation : 0.031000
Gradient Based Corr Contrast : 0.000000
Gradient Based Corr Clarity : 0.000000
Gradient Based Corr Sharpness : 0.000000
Gradient Based Corr Brightness : 0.000000
Gradient Based Corr Toning Hue : 0.000000
Gradient Based Corr Toning Saturation : 0.000000
Gradient Based Corr Mask What : Mask/Gradient
Gradient Based Corr Mask Value : 1.000000
Gradient Based Corr Mask Zero X : 0.680241
Gradient Based Corr Mask Zero Y : 0.477867
Gradient Based Corr Mask Full X : 0.951735
Gradient Based Corr Mask Full Y : 0.005030
Image Width : 200
Image Height : 300
Bits Per Sample : 8
Color Components : 3
Aperture : 2.8
Image Size : 200x300
Megapixels : 0.060
Scale Factor To 35 mm Equivalent : 1.7
Shutter Speed : 1/60
Circle Of Confusion : 0.018 mm
Field Of View : 47.4 deg
Focal Length : 24.2 mm (35 mm equivalent: 41.0 mm)
Hyperfocal Distance : 11.79 m
Light Value : 6.9
Lens ID : Unknown ()