Uber Exif Photo
Photometric Interpretation : RGB
Make : Leica Camera AG
Camera Model Name : M9 Digital Camera
Orientation : Horizontal (normal)
Samples Per Pixel : 3
Software : Adobe Photoshop CS5 Macintosh
Modify Date : 2011:02:15 21:40:20
Maker Note Safety : Safe
Exposure Time : 1/4000
F Number : 2.4
Exposure Program : Manual
ISO : 160
Sensitivity Type : Unknown
Date/Time Original : 2011:02:12 11:46:19
Create Date : 2011:02:12 11:46:19
Shutter Speed Value : 1/4000
Aperture Value : 2.4
Exposure Compensation : -0.332
Max Aperture Value : 1.4
Metering Mode : Center-weighted average
Light Source : Unknown
Flash : No Flash
Focal Length : 35.0 mm
Color Space : sRGB
Exif Image Width : 944
Exif Image Height : 1000
Scene Type : Directly photographed
Exposure Mode : Manual
White Balance : Auto
Digital Zoom Ratio : 0
Focal Length In 35mm Format : 35 mm
Scene Capture Type : Standard
Serial Number : 3971435
Lens Model : Leica Summilux-M 35mm f/1.4 ASPH.
Profile Description : sRGB IEC61966-2.1
Creator Tool : 1.138
Lens : Leica Summilux-M 35mm f/1.4 ASPH.
Version : 6.3
Process Version : 5.7
Color Temperature : 5068
Tint : +1
Exposure : 0.00
Shadows : 5
Brightness : +50
Contrast : +25
Saturation : +9
Sharpness : 25
Luminance Smoothing : 0
Color Noise Reduction : 25
Chromatic Aberration R : 0
Chromatic Aberration B : 0
Vignette Amount : 0
Shadow Tint : 0
Red Hue : 0
Red Saturation : 0
Green Hue : 0
Green Saturation : 0
Blue Hue : 0
Blue Saturation : 0
Fill Light : 14
Vibrance : +18
Highlight Recovery : 0
Clarity : +11
Defringe : 0
Hue Adjustment Red : 0
Hue Adjustment Orange : 0
Hue Adjustment Yellow : 0
Hue Adjustment Green : 0
Hue Adjustment Aqua : 0
Hue Adjustment Blue : 0
Hue Adjustment Purple : 0
Hue Adjustment Magenta : 0
Saturation Adjustment Red : 0
Saturation Adjustment Orange : 0
Saturation Adjustment Yellow : 0
Saturation Adjustment Green : 0
Saturation Adjustment Aqua : 0
Saturation Adjustment Blue : 0
Saturation Adjustment Purple : 0
Saturation Adjustment Magenta : 0
Luminance Adjustment Red : 0
Luminance Adjustment Orange : 0
Luminance Adjustment Yellow : 0
Luminance Adjustment Green : 0
Luminance Adjustment Aqua : 0
Luminance Adjustment Blue : 0
Luminance Adjustment Purple : 0
Luminance Adjustment Magenta : 0
Split Toning Shadow Hue : 0
Split Toning Shadow Saturation : 0
Split Toning Highlight Hue : 0
Split Toning Highlight Saturation : 0
Split Toning Balance : 0
Parametric Shadows : +35
Parametric Darks : -7
Parametric Lights : -21
Parametric Highlights : -33
Parametric Shadow Split : 25
Parametric Midtone Split : 50
Parametric Highlight Split : 75
Sharpen Radius : +1.0
Sharpen Detail : 25
Sharpen Edge Masking : 0
Post Crop Vignette Amount : 0
Grain Amount : 0
Color Noise Reduction Detail : 50
Lens Profile Enable : 0
Lens Manual Distortion Amount : 0
Perspective Vertical : 0
Perspective Horizontal : 0
Perspective Rotate : 0.0
Perspective Scale : 100
Convert To Grayscale : False
Tone Curve Name : Medium Contrast
Camera Profile : Adobe Standard
Lens Profile Setup : LensDefaults
Has Settings : True
Crop Top : 0.175183
Crop Left : 0.15534
Crop Bottom : 1
Crop Right : 0.673139
Crop Angle : 0
Crop Constrain To Warp : 0
Crop Width : 2699
Crop Height : 2860
Crop Unit : pixels
Has Crop : True
Already Applied : True
Color Mode : RGB
ICC Profile Name : sRGB IEC61966-2.1
Date Created : 2011:02:12 11:46:19
Format : image/jpeg
Tone Curve : 0, 0, 32, 22, 64, 56, 128, 128, 192, 196, 255, 255
Image Width : 283
Image Height : 300
Bits Per Sample : 8
Color Components : 3
Aperture : 2.4
Image Size : 283x300
Megapixels : 0.085
Scale Factor To 35 mm Equivalent : 1.0
Shutter Speed : 1/4000
Circle Of Confusion : 0.030 mm
Field Of View : 54.4 deg
Focal Length : 35.0 mm (35 mm equivalent: 35.0 mm)
Hyperfocal Distance : 16.99 m
Light Value : 13.8
Lens ID : Summilux-M 35mm f/1.4 ASPH.