Uber Exif Photo
By-line : Lorand Hollo
Keywords : Friends, eva, hungary, lorand, szeged
Copyright Flag : False
Make : Canon
Camera Model Name : Canon EOS DIGITAL REBEL XT
Orientation : Horizontal (normal)
Software : Adobe Photoshop CS3 Macintosh
Modify Date : 2007:12:26 12:20:38
Artist : Lorand Hollo
Exposure Time : 1/25
F Number : 2.8
Exposure Program : Aperture-priority AE
ISO : 1600
Date/Time Original : 2007:12:08 20:54:36
Create Date : 2007:12:08 20:54:36
Shutter Speed Value : 1/25
Aperture Value : 2.8
Exposure Compensation : 0
Metering Mode : Multi-segment
Focal Length : 17.0 mm
Color Space : Uncalibrated
Exif Image Width : 1826
Exif Image Height : 2739
Custom Rendered : Normal
Exposure Mode : Auto
White Balance : Auto
Scene Capture Type : Standard
Date/Time Digitized : 2007:12:08 20:54:36+01:00
Label : Green
Creator Tool : Adobe Photoshop CS3 Macintosh
Format : image/jpeg
Serial Number : 520409321
Lens Info : 17-50mm f/?
Lens : 17.0-50.0 mm
Image Number : 99
Flash Compensation : 0
Owner Name : Lorand Hollo
Firmware : 1.0.3
Version : 1.0
Color Temperature : 2400
Tint : -1
Exposure : +0.75
Shadows : 18
Brightness : +50
Contrast : +25
Saturation : -100
Sharpness : 50
Luminance Smoothing : 20
Color Noise Reduction : 50
Chromatic Aberration R : 0
Chromatic Aberration B : 0
Vignette Amount : -63
Vignette Midpoint : 50
Shadow Tint : 0
Red Hue : 0
Red Saturation : 0
Green Hue : 0
Green Saturation : 0
Blue Hue : 0
Blue Saturation : 0
Fill Light : 53
Vibrance : 0
Highlight Recovery : 91
Clarity : 0
Defringe : 0
Hue Adjustment Red : 0
Hue Adjustment Orange : 0
Hue Adjustment Yellow : 0
Hue Adjustment Green : 0
Hue Adjustment Aqua : 0
Hue Adjustment Blue : 0
Hue Adjustment Purple : 0
Hue Adjustment Magenta : 0
Saturation Adjustment Red : 0
Saturation Adjustment Orange : 0
Saturation Adjustment Yellow : 0
Saturation Adjustment Green : 0
Saturation Adjustment Aqua : 0
Saturation Adjustment Blue : 0
Saturation Adjustment Purple : 0
Saturation Adjustment Magenta : 0
Luminance Adjustment Red : 0
Luminance Adjustment Orange : 0
Luminance Adjustment Yellow : 0
Luminance Adjustment Green : 0
Luminance Adjustment Aqua : 0
Luminance Adjustment Blue : 0
Luminance Adjustment Purple : 0
Luminance Adjustment Magenta : 0
Split Toning Shadow Hue : 0
Split Toning Shadow Saturation : 0
Split Toning Highlight Hue : 0
Split Toning Highlight Saturation : 0
Split Toning Balance : 0
Parametric Shadows : 0
Parametric Darks : 0
Parametric Lights : 0
Parametric Highlights : 0
Parametric Shadow Split : 25
Parametric Midtone Split : 50
Parametric Highlight Split : 75
Sharpen Radius : +0.5
Sharpen Detail : 60
Sharpen Edge Masking : 10
Convert To Grayscale : False
Tone Curve Name : Strong Contrast
Camera Profile : ACR 3.1
Has Settings : True
Crop Top : 0.088597
Crop Left : 0.186029
Crop Bottom : 0.881101
Crop Right : 0.978533
Crop Angle : 0
Crop Width : 2739
Crop Height : 1826
Crop Unit : pixels
Has Crop : True
Already Applied : True
Color Mode : RGB
ICC Profile Name : Adobe RGB (1998)
Flash Fired : False
Flash Return : No return detection
Flash Mode : Off
Flash Function : False
Flash Red Eye Mode : False
Creator : Lorand Hollo
Subject : Friends, eva, hungary, lorand, szeged
Hierarchical Subject : Friends, eva, hungary, lorand, szeged
Tone Curve : 0, 0, 32, 16, 64, 50, 128, 128, 192, 202, 255, 255
Image Width : 200
Image Height : 300
Bits Per Sample : 8
Color Components : 1
Aperture : 2.8
Image Size : 200x300
Megapixels : 0.060
Scale Factor To 35 mm Equivalent : 1.6
Shutter Speed : 1/25
Flash : Off, Did not fire
Circle Of Confusion : 0.019 mm
Field Of View : 66.3 deg
Focal Length : 17.0 mm (35 mm equivalent: 27.6 mm)
Hyperfocal Distance : 5.57 m
Light Value : 3.6
Lens ID : 17.0-50.0mm