Uber Exif Photo
By-line : Lorand Hollo
Keywords : Vienna, street
Copyright Flag : False
Make : Canon
Camera Model Name : Canon EOS DIGITAL REBEL XT
Orientation : Horizontal (normal)
Software : Adobe Photoshop CS3 Macintosh
Modify Date : 2008:04:26 15:11:45
Artist : Lorand Hollo
Exposure Time : 1/50
F Number : 20.0
Exposure Program : Aperture-priority AE
ISO : 100
Date/Time Original : 2007:09:24 15:59:39
Create Date : 2007:09:24 15:59:39
Shutter Speed Value : 1/50
Aperture Value : 20.0
Exposure Compensation : 0
Max Aperture Value : 2.8
Metering Mode : Multi-segment
Focal Length : 17.0 mm
Color Space : Uncalibrated
Exif Image Width : 2304
Exif Image Height : 3456
Custom Rendered : Normal
Exposure Mode : Auto
White Balance : Auto
Scene Capture Type : Standard
Date/Time Digitized : 2007:09:24 15:59:39+02:00
Creator Tool : Adobe Photoshop CS3 Macintosh
Format : image/jpeg
Serial Number : 520409321
Lens Info : 17-50mm f/?
Lens : 17.0-50.0 mm
Image Number : 104
Flash Compensation : 0
Owner Name : Lorand Hollo
Firmware : 1.0.3
Version : 4.4.1
Color Temperature : 4400
Tint : -74
Exposure : +0.92
Shadows : 10
Brightness : +53
Contrast : -12
Saturation : -100
Sharpness : 25
Luminance Smoothing : 0
Color Noise Reduction : 25
Chromatic Aberration R : 0
Chromatic Aberration B : 0
Vignette Amount : 0
Shadow Tint : -56
Red Hue : +100
Red Saturation : -25
Green Hue : +43
Green Saturation : +100
Blue Hue : -100
Blue Saturation : +5
Fill Light : 15
Vibrance : 0
Highlight Recovery : 44
Clarity : 0
Defringe : 0
Hue Adjustment Red : 0
Hue Adjustment Orange : 0
Hue Adjustment Yellow : 0
Hue Adjustment Green : 0
Hue Adjustment Aqua : 0
Hue Adjustment Blue : 0
Hue Adjustment Purple : 0
Hue Adjustment Magenta : 0
Saturation Adjustment Red : 0
Saturation Adjustment Orange : 0
Saturation Adjustment Yellow : 0
Saturation Adjustment Green : 0
Saturation Adjustment Aqua : 0
Saturation Adjustment Blue : 0
Saturation Adjustment Purple : 0
Saturation Adjustment Magenta : 0
Luminance Adjustment Red : 0
Luminance Adjustment Orange : 0
Luminance Adjustment Yellow : 0
Luminance Adjustment Green : 0
Luminance Adjustment Aqua : 0
Luminance Adjustment Blue : 0
Luminance Adjustment Purple : 0
Luminance Adjustment Magenta : 0
Split Toning Shadow Hue : 0
Split Toning Shadow Saturation : 0
Split Toning Highlight Hue : 0
Split Toning Highlight Saturation : 0
Split Toning Balance : 0
Parametric Shadows : -14
Parametric Darks : -3
Parametric Lights : 0
Parametric Highlights : 0
Parametric Shadow Split : 25
Parametric Midtone Split : 50
Parametric Highlight Split : 75
Sharpen Radius : +0.5
Sharpen Detail : 60
Sharpen Edge Masking : 10
Convert To Grayscale : False
Tone Curve Name : Linear
Camera Profile : ACR 2.4
Has Settings : True
Has Crop : False
Already Applied : True
Color Mode : RGB
ICC Profile Name : Adobe RGB (1998)
Flash Fired : False
Flash Return : No return detection
Flash Mode : Off
Flash Function : False
Flash Red Eye Mode : False
Creator : Lorand Hollo
Subject : Vienna, street
Hierarchical Subject : Vienna, street
Tone Curve : 0, 0, 255, 255
Image Width : 200
Image Height : 300
Bits Per Sample : 8
Color Components : 1
Aperture : 20.0
Image Size : 200x300
Megapixels : 0.060
Scale Factor To 35 mm Equivalent : 1.6
Shutter Speed : 1/50
Flash : Off, Did not fire
Circle Of Confusion : 0.019 mm
Field Of View : 66.3 deg
Focal Length : 17.0 mm (35 mm equivalent: 27.6 mm)
Hyperfocal Distance : 0.78 m
Light Value : 14.3
Lens ID : 17.0-50.0mm