Uber Exif Photo
Caption-Abstract : OLYMPUS DIGITAL CAMERA
Image Description : OLYMPUS DIGITAL CAMERA
Make : OLYMPUS IMAGING CORP.
Camera Model Name : E-PL1
Software : Version 1.1
Modify Date : 2011:01:18 01:54:57
Exposure Time : 1/40
F Number : 2.8
Exposure Program : Aperture-priority AE
ISO : 800
Sensitivity Type : Unknown
Date/Time Original : 2011:01:16 22:58:38
Create Date : 2011:01:16 22:58:38
Shutter Speed Value : 1/40
Aperture Value : 2.8
Exposure Compensation : 0
Max Aperture Value : 2.8
Subject Distance : 0.74 m
Metering Mode : Multi-segment
Light Source : Unknown
Focal Length : 17.0 mm
CFA Pattern : [Red,Green][Green,Blue]
Custom Rendered : Normal
Exposure Mode : Auto
White Balance : Auto
Digital Zoom Ratio : 1
Focal Length In 35mm Format : 34 mm
Scene Capture Type : Standard
Gain Control : High gain up
Contrast : Low
Saturation : Low
Sharpness : Soft
Serial Number : B2Y502645
Lens Info : 17mm f/2.8
Lens Model : OLYMPUS M.17mm F2.8
Lens Serial Number : AAC218975
Date/Time Digitized : 2011:01:16 22:58:38+03:00
Exif Image Width : 750
Exif Image Height : 1000
Creator Tool : Adobe Photoshop Lightroom
Lens : OLYMPUS M.17mm F2.8
Approximate Focus Distance : 0.74
Flash Compensation : 0
Version : 6.2
Process Version : 5.7
Color Temperature : 4000
Tint : +26
Exposure : 0.00
Shadows : 5
Brightness : +50
Luminance Smoothing : 0
Color Noise Reduction : 25
Chromatic Aberration R : 0
Chromatic Aberration B : 0
Vignette Amount : 0
Shadow Tint : 0
Red Hue : 0
Red Saturation : 0
Green Hue : 0
Green Saturation : 0
Blue Hue : 0
Blue Saturation : 0
Fill Light : 0
Highlight Recovery : 0
Clarity : +22
Defringe : 0
Gray Mixer Red : -26
Gray Mixer Orange : -26
Gray Mixer Yellow : -26
Gray Mixer Green : -5
Gray Mixer Aqua : +5
Gray Mixer Blue : +10
Gray Mixer Purple : +21
Gray Mixer Magenta : 0
Split Toning Shadow Hue : 0
Split Toning Shadow Saturation : 0
Split Toning Highlight Hue : 0
Split Toning Highlight Saturation : 0
Split Toning Balance : 0
Parametric Shadows : 0
Parametric Darks : -7
Parametric Lights : +18
Parametric Highlights : +6
Parametric Shadow Split : 25
Parametric Midtone Split : 50
Parametric Highlight Split : 75
Sharpen Radius : +1.0
Sharpen Detail : 25
Sharpen Edge Masking : 0
Post Crop Vignette Amount : 0
Grain Amount : 0
Color Noise Reduction Detail : 50
Lens Profile Enable : 0
Lens Manual Distortion Amount : 0
Perspective Vertical : 0
Perspective Horizontal : 0
Perspective Rotate : 0.0
Perspective Scale : 100
Convert To Grayscale : True
Tone Curve Name : Medium Contrast
Camera Profile : Adobe Standard
Lens Profile Setup : LensDefaults
Has Settings : True
Has Crop : False
Already Applied : True
Flash Fired : False
Flash Return : No return detection
Flash Mode : On
Flash Function : False
Flash Red Eye Mode : False
Description : OLYMPUS DIGITAL CAMERA
Tone Curve : 0, 0, 32, 22, 64, 56, 128, 128, 192, 196, 255, 255
Image Width : 225
Image Height : 300
Bits Per Sample : 8
Color Components : 1
Aperture : 2.8
Image Size : 225x300
Megapixels : 0.068
Scale Factor To 35 mm Equivalent : 2.0
Shutter Speed : 1/40
Flash : On, Did not fire
Circle Of Confusion : 0.015 mm
Depth Of Field : 0.16 m (0.67 - 0.83 m)
Field Of View : 55.8 deg
Focal Length : 17.0 mm (35 mm equivalent: 34.0 mm)
Hyperfocal Distance : 6.87 m
Light Value : 5.3
Lens ID : OLYMPUS M.17mm F2.8