Uber Exif Photo
Caption-Abstract : OLYMPUS DIGITAL CAMERA
Image Description : OLYMPUS DIGITAL CAMERA
Make : OLYMPUS IMAGING CORP.
Camera Model Name : E-PL1
Software : Version 1.1
Modify Date : 2011:01:18 01:57:10
Exposure Time : 1/80
F Number : 2.8
Exposure Program : Aperture-priority AE
ISO : 640
Sensitivity Type : Unknown
Date/Time Original : 2011:01:16 22:59:33
Create Date : 2011:01:16 22:59:33
Shutter Speed Value : 1/80
Aperture Value : 2.8
Exposure Compensation : 0
Max Aperture Value : 2.8
Subject Distance : 0.8 m
Metering Mode : Multi-segment
Light Source : Unknown
Focal Length : 17.0 mm
CFA Pattern : [Red,Green][Green,Blue]
Custom Rendered : Normal
Exposure Mode : Auto
White Balance : Auto
Digital Zoom Ratio : 1
Focal Length In 35mm Format : 34 mm
Scene Capture Type : Standard
Gain Control : High gain up
Contrast : Low
Saturation : Low
Sharpness : Soft
Serial Number : B2Y502645
Lens Info : 17mm f/2.8
Lens Model : OLYMPUS M.17mm F2.8
Lens Serial Number : AAC218975
Date/Time Digitized : 2011:01:16 22:59:33+03:00
Exif Image Width : 1000
Exif Image Height : 750
Creator Tool : Adobe Photoshop Lightroom
Lens : OLYMPUS M.17mm F2.8
Approximate Focus Distance : 0.8
Flash Compensation : 0
Version : 6.2
Process Version : 5.7
Color Temperature : 3650
Tint : +32
Exposure : 0.00
Shadows : 5
Brightness : +71
Luminance Smoothing : 0
Color Noise Reduction : 25
Chromatic Aberration R : 0
Chromatic Aberration B : 0
Vignette Amount : -100
Vignette Midpoint : 0
Shadow Tint : 0
Red Hue : 0
Red Saturation : 0
Green Hue : 0
Green Saturation : 0
Blue Hue : 0
Blue Saturation : 0
Fill Light : 11
Highlight Recovery : 0
Clarity : +100
Defringe : 0
Gray Mixer Red : +23
Gray Mixer Orange : 0
Gray Mixer Yellow : 0
Gray Mixer Green : +37
Gray Mixer Aqua : 0
Gray Mixer Blue : +40
Gray Mixer Purple : 0
Gray Mixer Magenta : 0
Split Toning Shadow Hue : 0
Split Toning Shadow Saturation : 0
Split Toning Highlight Hue : 0
Split Toning Highlight Saturation : 0
Split Toning Balance : 0
Parametric Shadows : 0
Parametric Darks : -10
Parametric Lights : 0
Parametric Highlights : 0
Parametric Shadow Split : 25
Parametric Midtone Split : 50
Parametric Highlight Split : 75
Sharpen Radius : +0.5
Sharpen Detail : 33
Sharpen Edge Masking : 0
Post Crop Vignette Amount : 0
Grain Amount : 0
Color Noise Reduction Detail : 50
Lens Profile Enable : 0
Lens Manual Distortion Amount : 0
Perspective Vertical : 0
Perspective Horizontal : 0
Perspective Rotate : 0.0
Perspective Scale : 100
Convert To Grayscale : True
Tone Curve Name : Strong Contrast
Camera Profile : Adobe Standard
Lens Profile Setup : LensDefaults
Has Settings : True
Has Crop : False
Already Applied : True
Flash Fired : False
Flash Return : No return detection
Flash Mode : On
Flash Function : False
Flash Red Eye Mode : False
Description : OLYMPUS DIGITAL CAMERA
Tone Curve : 0, 0, 32, 16, 64, 50, 128, 128, 192, 202, 255, 255
Image Width : 300
Image Height : 225
Bits Per Sample : 8
Color Components : 1
Aperture : 2.8
Image Size : 300x225
Megapixels : 0.068
Scale Factor To 35 mm Equivalent : 2.0
Shutter Speed : 1/80
Flash : On, Did not fire
Circle Of Confusion : 0.015 mm
Depth Of Field : 0.18 m (0.72 - 0.90 m)
Field Of View : 55.8 deg
Focal Length : 17.0 mm (35 mm equivalent: 34.0 mm)
Hyperfocal Distance : 6.87 m
Light Value : 6.6
Lens ID : OLYMPUS M.17mm F2.8