Uber Exif Photo
Caption-Abstract : OLYMPUS DIGITAL CAMERA
Image Description : OLYMPUS DIGITAL CAMERA
Make : OLYMPUS IMAGING CORP.
Camera Model Name : E-PL1
Software : Version 1.1
Modify Date : 2011:01:18 02:00:10
Exposure Time : 1/60
F Number : 2.8
Exposure Program : Aperture-priority AE
ISO : 800
Sensitivity Type : Unknown
Date/Time Original : 2011:01:16 23:03:19
Create Date : 2011:01:16 23:03:19
Shutter Speed Value : 1/60
Aperture Value : 2.8
Exposure Compensation : 0
Max Aperture Value : 2.8
Subject Distance : 1.38 m
Metering Mode : Multi-segment
Light Source : Unknown
Focal Length : 17.0 mm
CFA Pattern : [Red,Green][Green,Blue]
Custom Rendered : Normal
Exposure Mode : Auto
White Balance : Auto
Digital Zoom Ratio : 1
Focal Length In 35mm Format : 34 mm
Scene Capture Type : Standard
Gain Control : High gain up
Contrast : Low
Saturation : Low
Sharpness : Soft
Serial Number : B2Y502645
Lens Info : 17mm f/2.8
Lens Model : OLYMPUS M.17mm F2.8
Lens Serial Number : AAC218975
Date/Time Digitized : 2011:01:16 23:03:19+03:00
Exif Image Width : 750
Exif Image Height : 1000
Creator Tool : Adobe Photoshop Lightroom
Lens : OLYMPUS M.17mm F2.8
Approximate Focus Distance : 1.38
Flash Compensation : 0
Version : 6.2
Process Version : 5.7
Color Temperature : 3700
Tint : +33
Exposure : 0.00
Shadows : 33
Brightness : +50
Luminance Smoothing : 5
Color Noise Reduction : 100
Chromatic Aberration R : 0
Chromatic Aberration B : 0
Vignette Amount : -38
Vignette Midpoint : 50
Shadow Tint : 0
Red Hue : 0
Red Saturation : 0
Green Hue : 0
Green Saturation : 0
Blue Hue : 0
Blue Saturation : 0
Fill Light : 50
Vibrance : -100
Highlight Recovery : 50
Clarity : +100
Defringe : 0
Hue Adjustment Red : 0
Hue Adjustment Orange : 0
Hue Adjustment Yellow : 0
Hue Adjustment Green : 0
Hue Adjustment Aqua : 0
Hue Adjustment Blue : 0
Hue Adjustment Purple : 0
Hue Adjustment Magenta : 0
Saturation Adjustment Red : 0
Saturation Adjustment Orange : 0
Saturation Adjustment Yellow : 0
Saturation Adjustment Green : 0
Saturation Adjustment Aqua : 0
Saturation Adjustment Blue : 0
Saturation Adjustment Purple : 0
Saturation Adjustment Magenta : 0
Luminance Adjustment Red : 0
Luminance Adjustment Orange : 0
Luminance Adjustment Yellow : 0
Luminance Adjustment Green : 0
Luminance Adjustment Aqua : 0
Luminance Adjustment Blue : 0
Luminance Adjustment Purple : 0
Luminance Adjustment Magenta : 0
Split Toning Shadow Hue : 0
Split Toning Shadow Saturation : 0
Split Toning Highlight Hue : 0
Split Toning Highlight Saturation : 0
Split Toning Balance : 0
Parametric Shadows : 0
Parametric Darks : 0
Parametric Lights : 0
Parametric Highlights : 0
Parametric Shadow Split : 25
Parametric Midtone Split : 50
Parametric Highlight Split : 75
Sharpen Radius : +3.0
Sharpen Detail : 14
Sharpen Edge Masking : 75
Post Crop Vignette Amount : -42
Post Crop Vignette Midpoint : 77
Post Crop Vignette Feather : 50
Post Crop Vignette Roundness : 0
Post Crop Vignette Style : Highlight Priority
Post Crop Vignette Highlight Contrast : 0
Grain Amount : 0
Luminance Noise Reduction Detail : 50
Color Noise Reduction Detail : 50
Luminance Noise Reduction Contrast : 0
Lens Profile Enable : 0
Lens Manual Distortion Amount : 0
Perspective Vertical : 0
Perspective Horizontal : 0
Perspective Rotate : 0.0
Perspective Scale : 100
Convert To Grayscale : False
Tone Curve Name : Linear
Camera Profile : Adobe Standard
Lens Profile Setup : LensDefaults
Has Settings : True
Has Crop : False
Already Applied : True
Flash Fired : False
Flash Return : No return detection
Flash Mode : On
Flash Function : False
Flash Red Eye Mode : False
Description : OLYMPUS DIGITAL CAMERA
Tone Curve : 0, 0, 255, 255
Image Width : 225
Image Height : 300
Bits Per Sample : 8
Color Components : 1
Aperture : 2.8
Image Size : 225x300
Megapixels : 0.068
Scale Factor To 35 mm Equivalent : 2.0
Shutter Speed : 1/60
Flash : On, Did not fire
Circle Of Confusion : 0.015 mm
Depth Of Field : 0.57 m (1.15 - 1.72 m)
Field Of View : 55.8 deg
Focal Length : 17.0 mm (35 mm equivalent: 34.0 mm)
Hyperfocal Distance : 6.87 m
Light Value : 5.9
Lens ID : OLYMPUS M.17mm F2.8