Uber Exif Photo
Keywords : Hallingskarvet, H¿gehaugen, Landscape, Vinterferie, Winter
By-line : Haakon L¿berg
Copyright Notice : Haakon L¿berg
Copyright Flag : True
Make : Leica Camera AG
Camera Model Name : M9 Digital Camera
Software : 1.138
Modify Date : 2011:02:27 20:53:45
Copyright : Haakon Loberg
Exposure Time : 1/90
F Number : 16.0
Exposure Program : Aperture-priority AE
ISO : 80
Sensitivity Type : Unknown
Date/Time Original : 2011:02:25 13:07:39
Create Date : 2011:02:25 13:07:39
Shutter Speed Value : 1/90
Aperture Value : 16.0
Exposure Compensation : 0
Max Aperture Value : 2.0
Metering Mode : Center-weighted average
Light Source : Unknown
Focal Length : 35.0 mm
Contrast : Normal
Sharpening : Normal
Saturation : Normal
White Balance : Auto
JPEG Quality : Fine
WB RGB Levels : 0.477055672 1 0.8349811436
User Profile : Haakon
JPEG Size : 5216x3472
Firmware Version : 1.138
Base ISO : 160
Sensor Width : 5270
Sensor Height : 3516
Sensor Bit Depth : 14
Camera Temperature : 11 C
Lens Type : Summicron-M 35mm f/2 ASPH.
Approximate F Number : 8.0
Measured LV : 4.52
External Sensor Brightness Value : 6.72
Scene Type : Directly photographed
Exposure Mode : Manual
Digital Zoom Ratio : 0
Focal Length In 35mm Format : 35 mm
Scene Capture Type : Standard
Serial Number : 3904514
Lens Model : Leica Summicron-M 35mm f/2 ASPH.
Maker Note Safety : Safe
Date/Time Digitized : 2011:02:25 13:07:39+01:00
Exif Image Width : 1970
Exif Image Height : 1311
Creator Tool : Adobe Photoshop Lightroom 3.3
Rating : 5
Lens : Leica Summicron-M 35mm f/2 ASPH.
Marked : True
Version : 6.3
Process Version : 5.7
Color Temperature : 4950
Tint : -21
Exposure : 0.00
Shadows : 53
Brightness : +31
Sharpness : 25
Luminance Smoothing : 0
Color Noise Reduction : 25
Chromatic Aberration R : 0
Chromatic Aberration B : 0
Vignette Amount : 0
Shadow Tint : 0
Red Hue : 0
Red Saturation : 0
Green Hue : 0
Green Saturation : 0
Blue Hue : 0
Blue Saturation : 0
Fill Light : 0
Highlight Recovery : 13
Clarity : 0
Defringe : 0
Gray Mixer Red : -9
Gray Mixer Orange : -18
Gray Mixer Yellow : -22
Gray Mixer Green : -26
Gray Mixer Aqua : -19
Gray Mixer Blue : +7
Gray Mixer Purple : +14
Gray Mixer Magenta : +4
Split Toning Shadow Hue : 0
Split Toning Shadow Saturation : 0
Split Toning Highlight Hue : 0
Split Toning Highlight Saturation : 0
Split Toning Balance : 0
Parametric Shadows : 0
Parametric Darks : 0
Parametric Lights : 0
Parametric Highlights : 0
Parametric Shadow Split : 25
Parametric Midtone Split : 50
Parametric Highlight Split : 75
Sharpen Radius : +1.0
Sharpen Detail : 25
Sharpen Edge Masking : 0
Post Crop Vignette Amount : -4
Post Crop Vignette Midpoint : 50
Post Crop Vignette Feather : 50
Post Crop Vignette Roundness : 0
Post Crop Vignette Style : Highlight Priority
Post Crop Vignette Highlight Contrast : 0
Grain Amount : 0
Color Noise Reduction Detail : 50
Lens Profile Enable : 0
Lens Manual Distortion Amount : 0
Perspective Vertical : 0
Perspective Horizontal : 0
Perspective Rotate : 0.0
Perspective Scale : 100
Convert To Grayscale : True
Tone Curve Name : Medium Contrast
Camera Profile : Adobe Standard
Lens Profile Setup : LensDefaults
Has Settings : True
Has Crop : False
Already Applied : True
Flash Fired : False
Flash Return : No return detection
Flash Mode : Unknown
Flash Function : False
Flash Red Eye Mode : False
Creator Postal Code : 1356
Creator Work Telephone : +47 982 10 333
Creator Region : Bekkestua
Creator Country : Norway
Creator Address : Ekeberglia nr. 88
Creator Work Email : loberg@netcom.no
Creator : Haakon Løberg
Rights : Haakon Løberg
Subject : Hallingskarvet, Høgehaugen, Landscape, Vinterferie, Winter
Tone Curve : 0, 0, 32, 22, 64, 56, 128, 128, 192, 196, 255, 255
Gradient Based Corr What : Correction
Gradient Based Corr Amount : 1.000000
Gradient Based Corr Active : true
Gradient Based Corr Exposure : 0.057471
Gradient Based Corr Saturation : 0.000000
Gradient Based Corr Contrast : 0.586207
Gradient Based Corr Clarity : 0.000000
Gradient Based Corr Sharpness : 0.250000
Gradient Based Corr Brightness : -0.195402
Gradient Based Corr Toning Hue : 240.000000
Gradient Based Corr Toning Saturation : 0.000000
Gradient Based Corr Mask What : Mask/Gradient
Gradient Based Corr Mask Value : 1.000000
Gradient Based Corr Mask Zero X : 0.182690
Gradient Based Corr Mask Zero Y : 1.173300
Gradient Based Corr Mask Full X : 0.182003
Gradient Based Corr Mask Full Y : 0.887114
Image Width : 300
Image Height : 200
Bits Per Sample : 8
Color Components : 1
Aperture : 16.0
Blue Balance : 0.834981
Image Size : 300x200
Lens ID : Leica Summicron-M 35mm f/2 ASPH.
Megapixels : 0.060
Red Balance : 0.477056
Scale Factor To 35 mm Equivalent : 1.0
Shutter Speed : 1/90
Flash : No Flash
Circle Of Confusion : 0.030 mm
Field Of View : 54.4 deg
Focal Length : 35.0 mm (35 mm equivalent: 35.0 mm)
Hyperfocal Distance : 2.55 m
Light Value : 14.8