Uber Exif Photo
Keywords : Barn, Hallingskarvet, H¿gehaugen, Kids, People, Vinterferie, henrik, marcus, merete
By-line : Haakon L¿berg
Copyright Notice : Haakon L¿berg
Copyright Flag : True
Make : Leica Camera AG
Camera Model Name : M9 Digital Camera
Software : 1.138
Modify Date : 2011:03:01 21:58:59
Copyright : Haakon Loberg
Exposure Time : 1/90
F Number : 13.0
Exposure Program : Manual
ISO : 80
Sensitivity Type : Unknown
Date/Time Original : 2011:02:26 14:34:51
Create Date : 2011:02:26 14:34:51
Shutter Speed Value : 1/90
Aperture Value : 13.0
Exposure Compensation : 0
Max Aperture Value : 2.0
Metering Mode : Center-weighted average
Light Source : Unknown
Focal Length : 35.0 mm
Contrast : Normal
Sharpening : Normal
Saturation : Normal
White Balance : Auto
JPEG Quality : Fine
WB RGB Levels : 0.4721749906 1 0.8464558793
User Profile : Haakon
JPEG Size : 5216x3472
Firmware Version : 1.138
Base ISO : 160
Sensor Width : 5270
Sensor Height : 3516
Sensor Bit Depth : 14
Camera Temperature : 11 C
Lens Type : Summicron-M 35mm f/2 ASPH.
Approximate F Number : 7.5
Measured LV : 4.91
External Sensor Brightness Value : 6.51
Scene Type : Directly photographed
Exposure Mode : Manual
Digital Zoom Ratio : 0
Focal Length In 35mm Format : 35 mm
Scene Capture Type : Standard
Serial Number : 3904514
Lens Model : Leica Summicron-M 35mm f/2 ASPH.
Maker Note Safety : Safe
Date/Time Digitized : 2011:02:26 14:34:51+01:00
Exif Image Width : 1970
Exif Image Height : 1311
Creator Tool : Adobe Photoshop Lightroom 3.3
Lens : Leica Summicron-M 35mm f/2 ASPH.
Marked : True
Version : 6.3
Process Version : 5.7
Color Temperature : 5100
Tint : -21
Exposure : +1.60
Shadows : 62
Brightness : +31
Sharpness : 25
Luminance Smoothing : 0
Color Noise Reduction : 25
Chromatic Aberration R : 0
Chromatic Aberration B : 0
Vignette Amount : 0
Shadow Tint : 0
Red Hue : 0
Red Saturation : 0
Green Hue : 0
Green Saturation : 0
Blue Hue : 0
Blue Saturation : 0
Fill Light : 0
Highlight Recovery : 13
Clarity : 0
Defringe : 0
Gray Mixer Red : -10
Gray Mixer Orange : -19
Gray Mixer Yellow : -23
Gray Mixer Green : -27
Gray Mixer Aqua : -18
Gray Mixer Blue : +11
Gray Mixer Purple : +16
Gray Mixer Magenta : +4
Split Toning Shadow Hue : 0
Split Toning Shadow Saturation : 0
Split Toning Highlight Hue : 0
Split Toning Highlight Saturation : 0
Split Toning Balance : 0
Parametric Shadows : 0
Parametric Darks : -71
Parametric Lights : 0
Parametric Highlights : 0
Parametric Shadow Split : 25
Parametric Midtone Split : 50
Parametric Highlight Split : 75
Sharpen Radius : +1.0
Sharpen Detail : 25
Sharpen Edge Masking : 0
Post Crop Vignette Amount : 0
Grain Amount : 0
Color Noise Reduction Detail : 50
Lens Profile Enable : 0
Lens Manual Distortion Amount : 0
Perspective Vertical : 0
Perspective Horizontal : 0
Perspective Rotate : 0.0
Perspective Scale : 100
Convert To Grayscale : True
Tone Curve Name : Medium Contrast
Camera Profile : Adobe Standard
Lens Profile Setup : LensDefaults
Has Settings : True
Crop Top : 0.099026
Crop Left : 0.11117
Crop Bottom : 0.987856
Crop Right : 1
Crop Angle : 0
Crop Constrain To Warp : 0
Crop Width : 1970
Crop Height : 1311
Crop Unit : pixels
Has Crop : True
Already Applied : True
Flash Fired : False
Flash Return : No return detection
Flash Mode : Unknown
Flash Function : False
Flash Red Eye Mode : False
Creator Postal Code : 1356
Creator Work Telephone : +47 982 10 333
Creator Region : Bekkestua
Creator Country : Norway
Creator Address : Ekeberglia nr. 88
Creator Work Email : loberg@netcom.no
Creator : Haakon Løberg
Rights : Haakon Løberg
Subject : Barn, Hallingskarvet, Høgehaugen, Kids, People, Vinterferie, henrik, marcus, merete
Tone Curve : 0, 0, 32, 22, 64, 56, 128, 128, 192, 196, 255, 255
Image Width : 300
Image Height : 200
Bits Per Sample : 8
Color Components : 1
Aperture : 13.0
Blue Balance : 0.846456
Image Size : 300x200
Lens ID : Leica Summicron-M 35mm f/2 ASPH.
Megapixels : 0.060
Red Balance : 0.472175
Scale Factor To 35 mm Equivalent : 1.0
Shutter Speed : 1/90
Flash : No Flash
Circle Of Confusion : 0.030 mm
Field Of View : 54.4 deg
Focal Length : 35.0 mm (35 mm equivalent: 35.0 mm)
Hyperfocal Distance : 3.14 m
Light Value : 14.2