Uber Exif Photo
Make : Nikon
Camera Model Name : Nikon COOLSCAN IV ED
Orientation : Horizontal (normal)
Software : Adobe Photoshop CS4 Windows
Modify Date : 2011:04:28 22:43:55
Color Space : Uncalibrated
Exif Image Width : 800
Exif Image Height : 525
Creator Tool : Nikon Scan 4.0.3 W
Rating : 0
Create Date : 2011:04:28 21:55:14+04:00
Raw File Name : Image36.jpg
Version : 5.0
White Balance : As Shot
Incremental Temperature : 0
Incremental Tint : 0
Exposure : -0.20
Shadows : 3
Brightness : 0
Contrast : +9
Saturation : -100
Sharpness : 0
Luminance Smoothing : 0
Color Noise Reduction : 0
Chromatic Aberration R : 0
Chromatic Aberration B : 0
Vignette Amount : 0
Shadow Tint : 0
Red Hue : 0
Red Saturation : 0
Green Hue : 0
Green Saturation : 0
Blue Hue : 0
Blue Saturation : 0
Fill Light : 0
Vibrance : 0
Highlight Recovery : 65
Clarity : 0
Defringe : 0
Hue Adjustment Red : 0
Hue Adjustment Orange : 0
Hue Adjustment Yellow : 0
Hue Adjustment Green : 0
Hue Adjustment Aqua : 0
Hue Adjustment Blue : 0
Hue Adjustment Purple : 0
Hue Adjustment Magenta : 0
Saturation Adjustment Red : 0
Saturation Adjustment Orange : 0
Saturation Adjustment Yellow : 0
Saturation Adjustment Green : 0
Saturation Adjustment Aqua : 0
Saturation Adjustment Blue : 0
Saturation Adjustment Purple : 0
Saturation Adjustment Magenta : 0
Luminance Adjustment Red : 0
Luminance Adjustment Orange : 0
Luminance Adjustment Yellow : 0
Luminance Adjustment Green : 0
Luminance Adjustment Aqua : 0
Luminance Adjustment Blue : 0
Luminance Adjustment Purple : 0
Luminance Adjustment Magenta : 0
Split Toning Shadow Hue : 0
Split Toning Shadow Saturation : 0
Split Toning Highlight Hue : 0
Split Toning Highlight Saturation : 0
Split Toning Balance : 0
Parametric Shadows : 0
Parametric Darks : 0
Parametric Lights : 0
Parametric Highlights : 0
Parametric Shadow Split : 25
Parametric Midtone Split : 50
Parametric Highlight Split : 75
Sharpen Radius : +1.0
Sharpen Detail : 25
Sharpen Edge Masking : 0
Post Crop Vignette Amount : 0
Convert To Grayscale : False
Tone Curve Name : Linear
Camera Profile : Embedded
Has Settings : True
Crop Top : 0.007181
Crop Left : 0.005924
Crop Bottom : 0.987433
Crop Right : 0.991706
Crop Angle : 0
Has Crop : True
Already Applied : True
Format : image/jpeg
Color Mode : RGB
Tone Curve : 0, 0, 255, 255
Image Width : 300
Image Height : 197
Bits Per Sample : 8
Color Components : 3
Image Size : 300x197
Megapixels : 0.059