Uber Exif Photo
By-line : Picasa
Caption-Abstract : OLYMPUS DIGITAL CAMERA
Image Description : OLYMPUS DIGITAL CAMERA
Make : OLYMPUS IMAGING CORP.
Camera Model Name : E-PL2
Software : Version 1.0
Modify Date : 2011:06:09 11:06:29
Artist : Picasa
Exposure Time : 1/2500
Exposure Program : Aperture-priority AE
ISO : 1600
Date/Time Original : 2011:02:26 15:05:14
Create Date : 2011:02:26 15:05:14
Shutter Speed Value : 1/2500
Exposure Compensation : -1
Max Aperture Value : 1.0
Metering Mode : Spot
Light Source : Unknown
Exif Image Width : 900
Exif Image Height : 675
Related Image Width : 4032
Related Image Height : 3024
Custom Rendered : Normal
Exposure Mode : Manual
White Balance : Auto
Digital Zoom Ratio : 1
Scene Capture Type : Standard
Gain Control : High gain up
Contrast : Normal
Saturation : Normal
Sharpness : Normal
Creator Tool : Adobe Photoshop Lightroom
Serial Number : B5H503204
Flash Compensation : -0.6640625
Version : 6.1
Process Version : 5.7
Incremental Temperature : 0
Incremental Tint : 0
Exposure : 0.00
Shadows : 0
Brightness : 0
Luminance Smoothing : 0
Color Noise Reduction : 0
Chromatic Aberration R : 0
Chromatic Aberration B : 0
Vignette Amount : 0
Shadow Tint : 0
Red Hue : 0
Red Saturation : 0
Green Hue : 0
Green Saturation : 0
Blue Hue : 0
Blue Saturation : 0
Fill Light : 0
Highlight Recovery : 0
Clarity : 0
Defringe : 0
Gray Mixer Red : +16
Gray Mixer Orange : +40
Gray Mixer Yellow : -9
Gray Mixer Green : -12
Gray Mixer Aqua : -35
Gray Mixer Blue : -25
Gray Mixer Purple : +16
Gray Mixer Magenta : +3
Split Toning Shadow Hue : 50
Split Toning Shadow Saturation : 17
Split Toning Highlight Hue : 0
Split Toning Highlight Saturation : 0
Split Toning Balance : +57
Parametric Shadows : 0
Parametric Darks : 0
Parametric Lights : +2
Parametric Highlights : 0
Parametric Shadow Split : 25
Parametric Midtone Split : 48
Parametric Highlight Split : 75
Sharpen Radius : +1.0
Sharpen Detail : 25
Sharpen Edge Masking : 0
Post Crop Vignette Amount : 0
Grain Amount : 0
Lens Profile Enable : 0
Lens Manual Distortion Amount : 0
Perspective Vertical : 0
Perspective Horizontal : 0
Perspective Rotate : 0.0
Perspective Scale : 100
Convert To Grayscale : True
Tone Curve Name : Medium Contrast
Camera Profile : Embedded
Lens Profile Setup : LensDefaults
Has Settings : True
Has Crop : False
Already Applied : True
Flash Fired : False
Flash Return : No return detection
Flash Mode : On
Flash Function : False
Flash Red Eye Mode : False
Tone Curve : 0, 0, 32, 22, 64, 56, 128, 128, 192, 196, 255, 255
Description : OLYMPUS DIGITAL CAMERA
Creator : Picasa
Image Width : 300
Image Height : 225
Bits Per Sample : 8
Color Components : 3
Image Size : 300x225
Megapixels : 0.068
Shutter Speed : 1/2500
Flash : On, Did not fire