Uber Exif Photo
Caption-Abstract : OLYMPUS DIGITAL CAMERA
Copyright Flag : False
Photometric Interpretation : RGB
Image Description : OLYMPUS DIGITAL CAMERA
Make : OLYMPUS IMAGING CORP.
Camera Model Name : E-P2
Orientation : Horizontal (normal)
Samples Per Pixel : 3
Planar Configuration : Chunky
Software : Adobe Photoshop Elements 6.0 Windows
Modify Date : 2011:06:13 21:46:02
Exposure Time : 1/80
F Number : 3.2
Exposure Program : Aperture-priority AE
ISO : 200
Date/Time Original : 2010:07:10 16:16:17
Create Date : 2010:07:10 16:16:17
Shutter Speed Value : 1/80
Aperture Value : 3.2
Exposure Compensation : 0
Max Aperture Value : 1.7
Subject Distance : 1.8 m
Metering Mode : Multi-segment
Light Source : Unknown
Focal Length : 20.0 mm
Color Space : Uncalibrated
Exif Image Width : 1000
Exif Image Height : 715
CFA Pattern : [Red,Green][Green,Blue]
Custom Rendered : Normal
Exposure Mode : Auto
White Balance : Auto
Digital Zoom Ratio : 1
Focal Length In 35mm Format : 40 mm
Scene Capture Type : Standard
Gain Control : Low gain up
Contrast : Normal
Saturation : Normal
Sharpness : Normal
Date/Time Digitized : 2010:07:10 16:16:17+01:00
Creator Tool : Adobe Photoshop Elements 6.0 Windows
Format : image/jpeg
Serial Number : H86501588
Lens Info : 20mm f/1.7
Lens : LUMIX G 20/F1.7
Lens Serial Number : 09SG3172722
Flash Compensation : 0
Version : 5.7
Color Temperature : 5500
Tint : +5
Exposure : 0.00
Shadows : 5
Brightness : +50
Luminance Smoothing : 0
Color Noise Reduction : 25
Chromatic Aberration R : 0
Chromatic Aberration B : 0
Vignette Amount : 0
Shadow Tint : 0
Red Hue : 0
Red Saturation : 0
Green Hue : 0
Green Saturation : 0
Blue Hue : 0
Blue Saturation : 0
Fill Light : 0
Highlight Recovery : 29
Clarity : 0
Defringe : 0
Gray Mixer Red : -8
Gray Mixer Orange : -17
Gray Mixer Yellow : -21
Gray Mixer Green : -26
Gray Mixer Aqua : -18
Gray Mixer Blue : +9
Gray Mixer Purple : +15
Gray Mixer Magenta : +4
Split Toning Shadow Hue : 0
Split Toning Shadow Saturation : 0
Split Toning Highlight Hue : 0
Split Toning Highlight Saturation : 0
Split Toning Balance : 0
Parametric Shadows : -21
Parametric Darks : -2
Parametric Lights : +5
Parametric Highlights : +10
Parametric Shadow Split : 25
Parametric Midtone Split : 50
Parametric Highlight Split : 75
Sharpen Radius : +0.8
Sharpen Detail : 48
Sharpen Edge Masking : 0
Post Crop Vignette Amount : 0
Convert To Grayscale : True
Tone Curve Name : Strong Contrast
Camera Profile : Adobe Standard
Has Settings : True
Crop Top : 0.152466
Crop Left : 0
Crop Bottom : 1
Crop Right : 0.889076
Crop Angle : 0
Crop Width : 3585
Crop Height : 2563
Crop Unit : pixels
Has Crop : True
Already Applied : True
Color Mode : RGB
ICC Profile Name : Adobe RGB (1998)
Flash Fired : False
Flash Return : No return detection
Flash Mode : Auto
Flash Function : False
Flash Red Eye Mode : False
Description : OLYMPUS DIGITAL CAMERA
Tone Curve : 0, 0, 32, 16, 64, 50, 128, 128, 192, 202, 255, 255
Image Width : 300
Image Height : 215
Bits Per Sample : 8
Color Components : 1
Aperture : 3.2
Image Size : 300x215
Megapixels : 0.065
Scale Factor To 35 mm Equivalent : 2.0
Shutter Speed : 1/80
Flash : Auto, Did not fire
Circle Of Confusion : 0.015 mm
Depth Of Field : 0.81 m (1.48 - 2.29 m)
Field Of View : 48.5 deg
Focal Length : 20.0 mm (35 mm equivalent: 40.0 mm)
Hyperfocal Distance : 8.32 m
Light Value : 8.7
Lens ID : LUMIX G 20mm F1.7