Uber Exif Photo
Make : FUJIFILM
Camera Model Name : FinePix X100
Software : Adobe DNG Converter 6.4
Modify Date : 2011:05:30 17:51:47
Exposure Time : 1/140
F Number : 2.2
Exposure Program : Program AE
ISO : 400
Date/Time Original : 2011:05:28 17:47:50
Create Date : 2011:05:28 17:47:50
Shutter Speed Value : 1/140
Aperture Value : 2.2
Brightness Value : 3.59
Exposure Compensation : +0.33
Max Aperture Value : 2.0
Metering Mode : Multi-segment
Light Source : Unknown
Focal Length : 23.0 mm
Sensing Method : One-chip color area
Scene Type : Directly photographed
Custom Rendered : Normal
Exposure Mode : Auto
White Balance : Auto
Scene Capture Type : Standard
Sharpness : Hard
Subject Distance Range : Unknown
Profile Description : sRGB IEC61966-2.1
Creator Tool : Adobe Photoshop Lightroom
Date Created : 2011:05:28 17:47:50
Date/Time Digitized : 2011:05:28 17:47:50+03:00
Exif Image Width : 4288
Exif Image Height : 2848
Version : 5.6
Color Temperature : 4213
Tint : -74
Exposure : +1.15
Shadows : 28
Brightness : +59
Contrast : -50
Saturation : -36
Luminance Smoothing : 0
Color Noise Reduction : 25
Chromatic Aberration R : 0
Chromatic Aberration B : 0
Vignette Amount : -100
Vignette Midpoint : 57
Shadow Tint : 0
Red Hue : 0
Red Saturation : 0
Green Hue : 0
Green Saturation : 0
Blue Hue : 0
Blue Saturation : 0
Fill Light : 0
Vibrance : -100
Highlight Recovery : 0
Clarity : +100
Defringe : 0
Hue Adjustment Red : 0
Hue Adjustment Orange : 0
Hue Adjustment Yellow : 0
Hue Adjustment Green : 0
Hue Adjustment Aqua : 0
Hue Adjustment Blue : 0
Hue Adjustment Purple : 0
Hue Adjustment Magenta : 0
Saturation Adjustment Red : 0
Saturation Adjustment Orange : 0
Saturation Adjustment Yellow : 0
Saturation Adjustment Green : 0
Saturation Adjustment Aqua : 0
Saturation Adjustment Blue : 0
Saturation Adjustment Purple : 0
Saturation Adjustment Magenta : 0
Luminance Adjustment Red : 0
Luminance Adjustment Orange : 0
Luminance Adjustment Yellow : 0
Luminance Adjustment Green : 0
Luminance Adjustment Aqua : 0
Luminance Adjustment Blue : 0
Luminance Adjustment Purple : 0
Luminance Adjustment Magenta : 0
Split Toning Shadow Hue : 0
Split Toning Shadow Saturation : 0
Split Toning Highlight Hue : 0
Split Toning Highlight Saturation : 0
Split Toning Balance : 0
Parametric Shadows : -14
Parametric Darks : -3
Parametric Lights : 0
Parametric Highlights : 0
Parametric Shadow Split : 25
Parametric Midtone Split : 50
Parametric Highlight Split : 75
Sharpen Radius : +1.0
Sharpen Detail : 50
Sharpen Edge Masking : 0
Post Crop Vignette Amount : +5
Post Crop Vignette Midpoint : 50
Post Crop Vignette Feather : 50
Post Crop Vignette Roundness : -100
Convert To Grayscale : False
Tone Curve Name : Linear
Camera Profile : Adobe Standard
Has Settings : True
Has Crop : False
Already Applied : True
Flash Fired : False
Flash Return : No return detection
Flash Mode : Off
Flash Function : False
Flash Red Eye Mode : False
Tone Curve : 0, 0, 255, 255
Image Width : 300
Image Height : 199
Bits Per Sample : 8
Color Components : 3
Aperture : 2.2
Image Size : 300x199
Megapixels : 0.060
Scale Factor To 35 mm Equivalent : 0.8
Shutter Speed : 1/140
Flash : Off, Did not fire
Circle Of Confusion : 0.039 mm
Field Of View : 90.4 deg
Focal Length : 23.0 mm (35 mm equivalent: 17.9 mm)
Hyperfocal Distance : 6.22 m
Light Value : 7.4